{"text_format":"1","workbook":"xlsx","n_sheets":9,"sheets":["Eingabe","ZSV-Programm","Serie","PK","Rechnung","ZSV-Meisters E","ZSV-Meisters V","ZSV-Meisters J","Doppel für Schütze"],"not_rendered":{"charts":0,"images":1,"macros":1,"external_links":0,"defined_names":1,"comments":0,"pivot_tables":0},"unopened":[],"bounds":{"document_bytes":16777216,"sheet_cells":100000,"rows_first":2000,"rows_last":500,"rows_between":2000,"halvings":0,"cell_chars":16384,"cell_head_chars":4096},"cells_cut":0,"cells_raw":0,"read":"whole","date_system":"1900"}

{"sheet":"Eingabe","index":0,"n_rows":61,"n_cols":60,"rows_kept":61,"cut":false,"hidden":false,"merged":[[19,39,19,42],[19,1,19,2],[14,2,14,4],[16,2,16,4],[2,2,2,4],[4,2,4,4],[5,2,5,4],[6,2,6,4],[7,2,7,4],[10,2,10,4],[11,2,11,4],[12,2,12,4],[13,2,13,4]]}
[null,null,"Zentralschweizerischer Sportschützen-Verband",null,null,null,null,null,null,null,null,null,null,null,null,null,null,null,null,null,null,null,null,null,null,null,null,null,null,null,{"$f":"IF(AH1>0,\"ZSV-Meisterschaft\",\" \")","v":" "},null,null,{"$f":"'ZSV-Programm'!J4","v":0},{"$f":"'ZSV-Programm'!J5","v":0},{"$f":"'ZSV-Programm'!J6","v":0}]
[null,null,"Abrechnung Verbandsinterne Schiessen/ ZSV- Meisterschaft",null,null,null,null,null,null,null,null,null,null,null,null,"Programmversion: 24_01 / 28.04.2024",null,null,null,null,null,null,null,null,null,null,null,null,null,null,{"$f":"IF(AH2>0,\"Serieschiessen\", \" \")","v":" "},null,null,{"$f":"Serie!H4","v":0},{"$f":"Serie!H5","v":0}]
[null,null,2024,null,null,null,null,null,null,null,null,null,null,null,null,null,null,null,null,null,null,null,null,null,null,null,null,null,null,null,{"$f":"IF(AH3>0,\"PK-Stich\", \" \")","v":" "},null,null,{"$f":"PK!J4","v":0},{"$f":"PK!J5","v":0}]
[]
["Sektionsname"]
["Ort"]
["Anzahl Mitglieder",null,{"$f":"B61","v":0}]
[]
[]
["der/die Verantwortliche:",null,null,null,null,null,"der Ressortchef:"]
["Name/Vorname ",null,null,null,null,null,"Bersanini Aldo"]
["Strasse",null,null,null,null,null,"Hausmatt 33"]
["PLZ/Ort",null,null,null,null,null,"6422 Steinen"]
["Telefon",null,null,null,null,null,"079 208 75 19"]
["E-Mail",null,null,null,null,null,"aldobersanini.zsv@bluewin.ch"]
[]
["bitte ausfüllen",null,"Für ZSV-Meisterschaft ausfüllen",null,null,null,"Abrechnungsdatum: 1. Oktober"]
[]
[1,2,3,4,5,6,7,8,9,10,11,12,13,14,15,16,17,18,19,20,21,22,23,24,25,26,27,28,29,30,31,32,33,34,35,36,37,38,39]
["Rang","Name + Vorname",null,"Jahrgang JJJJ","Elite/Veteranen/Junioren/\nSernioren","IV- Ausweis","ZSV- Programm","10 EF liegend","10 EF liegend","10 EF kniend","10 EF liegend\n(Veteranen/ Senioren)","Total","Serieschiessen","Liegend 15 Schuss","Kniend (Elite)\nLiegend (S / V / SV)","Total","Präminkartenstich","1. Doppel","2. Doppel","3. Doppel","4. Doppel","5. Doppel","6. Doppel","7. Doppel","8. Doppel","9. Doppel","10. Doppel","Bester PK","Vereinswettschiessen\nZSV","10 EF liegend","6 EF liegend","Total","Vereinswettschiessen\nSSV","20 EF liegend","Volksschiessen","10 EF A10 Liegend","10 EF A5 liegend","Total","Volksprüfung für Rang","Fehlermeldungen",null,null,null,null,"ZSV-Meisterschaft erfüllt",null,"Alter",null,"Fehlerprüfung","Serie","PK 1","PK 2","PK 3","PK 4","PK 5","PK 6","VSW ZSV","VSW SSV","Volk","IV Ausweis"]
[1,null,null,null,{"$f":"IF(AU21<15,\"U15\",IF(AU21<17,\"U17\",IF(AU21<19,\"U19\",IF(AU21<21,\"U21\",IF(AU21<46,\"E\",IF(AU21<60,\"S\",IF(AU21<70,\"V\",IF(AU21<150,\"SV\",\"\"))))))))","v":""},null,null,null,null,null,null,{"$f":"IF(H21>0,SUM(H21:K21),\"\")","v":""},{"$f":"IF(OR(N21>150,O21>150),\"Stopp\",\"\")","v":""},null,null,{"$f":"IF(N21>0,SUM(N21:O21),\"\")","v":""},null,null,null,null,null,null,null,null,null,null,null,{"$f":"IF(R21>0,LARGE(R21:AA21,1),\"\")","v":""},null,null,null,{"$f":"IF(AD21>0,SUM(AD21:AE21),\"\")","v":""},null,null,null,null,null,{"$f":"IF(AJ21>0,SUM(AJ21:AK21),\"\")","v":""},{"$f":"IF(AL21=\"\",0,1)","v":0},{"$f":"IF(SUM(AW21:BG21)>0,\"Resultateingabe\",\"\")","v":""},{"$f":"IF(OR(D21>1900,D21=\"\"),\"\",\"JG\")","v":""},null,{"$f":"IF(BH21=1,\"IV\",\"\")","v":""},null,{"$f":"IF(AND(L21>0,P21>0,R21>0,AF21>0,AH21>0,AJ21>0),1,0)","v":0},null,{"$f":"$C$3-D21","v":2024},null,{"$f":"IF(AND(L21>300,H21>0),1,0)","v":0},{"$f":"IF(AND(P21>300,N21>0),1,0)","v":0},{"$f":"IF(R21>100,1,0)","v":0},0,0,0,0,0,{"$f":"IF(AND(AD21>0,AF21>160),1,0)","v":0},{"$f":"IF(AH21>200,1,0)","v":0},{"$f":"IF(AND(AJ21>0,AL21>150),1,0)","v":0},{"$f":"IF(OR(F21=\"\",F21=\"I\"),0,1)","v":0}]
[2,null,null,null,{"$f":"IF(AU22<15,\"U15\",IF(AU22<17,\"U17\",IF(AU22<19,\"U19\",IF(AU22<21,\"U21\",IF(AU22<46,\"E\",IF(AU22<60,\"S\",IF(AU22<70,\"V\",IF(AU22<150,\"SV\",\"\"))))))))","v":""},null,null,null,null,null,null,{"$f":"IF(H22>0,SUM(H22:K22),\"\")","v":""},{"$f":"IF(OR(N22>150,O22>150),\"Stopp\",\"\")","v":""},null,null,{"$f":"IF(N22>0,SUM(N22:O22),\"\")","v":""},null,null,null,null,null,null,null,null,null,null,null,{"$f":"IF(R22>0,LARGE(R22:AA22,1),\"\")","v":""},null,null,null,{"$f":"IF(AD22>0,SUM(AD22:AE22),\"\")","v":""},null,null,null,null,null,{"$f":"IF(AJ22>0,SUM(AJ22:AK22),\"\")","v":""},{"$f":"IF(AL22=\"\",0,1)","v":0},{"$f":"IF(SUM(AW22:BG22)>0,\"Resultateingabe\",\"\")","v":""},"",null,{"$f":"IF(BH22=1,\"IV\",\"\")","v":""},null,0,null,2024,null,0,0,{"$f":"IF(R22>100,1,0)","v":0},{"$f":"IF(S22>100,1,0)","v":0},{"$f":"IF(T22>100,1,0)","v":0},{"$f":"IF(U22>100,1,0)","v":0},{"$f":"IF(V22>100,1,0)","v":0},{"$f":"IF(W22>100,1,0)","v":0},0,{"$f":"IF(AH22>200,1,0)","v":0},0,0]
[3,null,null,null,"",null,null,null,null,null,null,"","",null,null,"",null,null,null,null,null,null,null,null,null,null,null,"",null,null,null,"",null,null,null,null,null,"",0,"","",null,"",null,0,null,2024,null,0,0,0,0,0,0,0,0,0,0,0,0]
[4,null,null,null,"",null,null,null,null,null,null,"","",null,null,"",null,null,null,null,null,null,null,null,null,null,null,"",null,null,null,"",null,null,null,null,null,"",0,"","",null,"",null,0,null,2024,null,0,0,0,0,0,0,0,0,0,0,0,0]
[5,null,null,null,"",null,null,null,null,null,null,"","",null,null,"",null,null,null,null,null,null,null,null,null,null,null,"",null,null,null,"",null,null,null,null,null,"",0,"","",null,"",null,0,null,2024,null,0,0,0,0,0,0,0,0,0,0,0,0]
[6,null,null,null,"",null,null,null,null,null,null,"","",null,null,"",null,null,null,null,null,null,null,null,null,null,null,"",null,null,null,"",null,null,null,null,null,"",0,"","",null,"",null,0,null,2024,null,0,0,0,0,0,0,0,0,0,0,0,0]
[7,null,null,null,"",null,null,null,null,null,null,"","",null,null,"",null,null,null,null,null,null,null,null,null,null,null,"",null,null,null,"",null,null,null,null,null,"",0,"","",null,"",null,0,null,2024,null,0,0,0,0,0,0,0,0,0,0,0,0]
[8,null,null,null,"",null,null,null,null,null,null,"","",null,null,"",null,null,null,null,null,null,null,null,null,null,null,"",null,null,null,"",null,null,null,null,null,"",0,"","",null,"",null,0,null,2024,null,0,0,0,0,0,0,0,0,0,0,0,0]
[9,null,null,null,"",null,null,null,null,null,null,"","",null,null,"",null,null,null,null,null,null,null,null,null,null,null,"",null,null,null,"",null,null,null,null,null,"",0,"","",null,"",null,0,null,2024,null,0,0,0,0,0,0,0,0,0,0,0,0]
[10,null,null,null,"",null,null,null,null,null,null,"","",null,null,"",null,null,null,null,null,null,null,null,null,null,null,"",null,null,null,"",null,null,null,null,null,"",0,"","",null,"",null,0,null,2024,null,0,0,0,0,0,0,0,0,0,0,0,0]
[11,null,null,null,"",null,null,null,null,null,null,"","",null,null,"",null,null,null,null,null,null,null,null,null,null,null,"",null,null,null,"",null,null,null,null,null,"",0,"","",null,"",null,0,null,2024,null,0,0,0,0,0,0,0,0,0,0,0,0]
[12,null,null,null,"",null,null,null,null,null,null,"","",null,null,"",null,null,null,null,null,null,null,null,null,null,null,"",null,null,null,"",null,null,null,null,null,"",0,"","",null,"",null,0,null,2024,null,0,0,0,0,0,0,0,0,0,0,0,0]
[13,null,null,null,"",null,null,null,null,null,null,"","",null,null,"",null,null,null,null,null,null,null,null,null,null,null,"",null,null,null,"",null,null,null,null,null,"",0,"","",null,"",null,0,null,2024,null,0,0,0,0,0,0,0,0,0,0,0,0]
[14,null,null,null,"",null,null,null,null,null,null,"","",null,null,"",null,null,null,null,null,null,null,null,null,null,null,"",null,null,null,"",null,null,null,null,null,"",0,"","",null,"",null,0,null,2024,null,0,0,0,0,0,0,0,0,0,0,0,0]
[15,null,null,null,"",null,null,null,null,null,null,{"$f":"IF(H35>0,SUM(H35:K35),\"\")","v":""},"",null,null,"",null,null,null,null,null,null,null,null,null,null,null,"",null,null,null,"",null,null,null,null,null,"",0,"","",null,"",null,0,null,2024,null,0,0,0,0,0,0,0,0,0,0,0,0]
[16,null,null,null,"",null,null,null,null,null,null,"","",null,null,"",null,null,null,null,null,null,null,null,null,null,null,"",null,null,null,"",null,null,null,null,null,"",0,"","",null,"",null,0,null,2024,null,0,0,0,0,0,0,0,0,0,0,0,0]
[17,null,null,null,"",null,null,null,null,null,null,"","",null,null,"",null,null,null,null,null,null,null,null,null,null,null,"",null,null,null,"",null,null,null,null,null,"",0,"","",null,"",null,0,null,2024,null,0,0,0,0,0,0,0,0,0,0,0,0]
[18,null,null,null,"",null,null,null,null,null,null,"","",null,null,"",null,null,null,null,null,null,null,null,null,null,null,"",null,null,null,"",null,null,null,null,null,"",0,"","",null,{"$f":"IF(BH38=1,\"IV\",\"\")","v":""},null,0,null,2024,null,0,0,0,0,0,0,0,0,0,0,0,0]
[19,null,null,null,"",null,null,null,null,null,null,"","",null,null,"",null,null,null,null,null,null,null,null,null,null,null,"",null,null,null,"",null,null,null,null,null,"",0,"","",null,"",null,0,null,2024,null,0,0,0,0,0,0,0,0,0,0,0,0]
[20,null,null,null,"",null,null,null,null,null,null,"","",null,null,"",null,null,null,null,null,null,null,null,null,null,null,"",null,null,null,"",null,null,null,null,null,"",0,"","",null,"",null,0,null,2024,null,0,0,0,0,0,0,0,0,0,0,0,0]
[21,null,null,null,"",null,null,null,null,null,null,"","",null,null,"",null,null,null,null,null,null,null,null,null,null,null,"",null,null,null,"",null,null,null,null,null,"",0,"","",null,"",null,0,null,2024,null,0,0,0,0,0,0,0,0,0,0,0,0]
[22,null,null,null,"",null,null,null,null,null,null,"","",null,null,"",null,null,null,null,null,null,null,null,null,null,null,"",null,null,null,"",null,null,null,null,null,"",0,"","",null,"",null,0,null,2024,null,0,0,0,0,0,0,0,0,0,0,0,0]
[23,null,null,null,"",null,null,null,null,null,null,"","",null,null,"",null,null,null,null,null,null,null,null,null,null,null,"",null,null,null,"",null,null,null,null,null,"",0,"","",null,"",null,0,null,2024,null,0,0,0,0,0,0,0,0,0,0,0,0]
[24,null,null,null,"",null,null,null,null,null,null,"","",null,null,"",null,null,null,null,null,null,null,null,null,null,null,"",null,null,null,"",null,null,null,null,null,"",0,"","",null,"",null,0,null,2024,null,0,0,0,0,0,0,0,0,0,0,0,0]
[25,null,null,null,"",null,null,null,null,null,null,"","",null,null,"",null,null,null,null,null,null,null,null,null,null,null,"",null,null,null,"",null,null,null,null,null,"",0,"","",null,"",null,0,null,2024,null,0,0,0,0,0,0,0,0,0,0,0,0]
[26,null,null,null,"",null,null,null,null,null,null,"","",null,null,"",null,null,null,null,null,null,null,null,null,null,null,"",null,null,null,"",null,null,null,null,null,"",0,"","",null,"",null,0,null,2024,null,0,0,0,0,0,0,0,0,0,0,0,0]
[27,null,null,null,"",null,null,null,null,null,null,"","",null,null,"",null,null,null,null,null,null,null,null,null,null,null,"",null,null,null,"",null,null,null,null,null,"",0,"","",null,"",null,0,null,2024,null,0,0,0,0,0,0,0,0,0,0,0,0]
[28,null,null,null,"",null,null,null,null,null,null,"","",null,null,"",null,null,null,null,null,null,null,null,null,null,null,"",null,null,null,"",null,null,null,null,null,"",0,"","",null,"",null,0,null,2024,null,0,0,0,0,0,0,0,0,0,0,0,0]
[29,null,null,null,"",null,null,null,null,null,null,"","",null,null,"",null,null,null,null,null,null,null,null,null,null,null,"",null,null,null,"",null,null,null,null,null,"",0,"","",null,"",null,0,null,2024,null,0,0,0,0,0,0,0,0,0,0,0,0]
[30,null,null,null,"",null,null,null,null,null,null,"","",null,null,"",null,null,null,null,null,null,null,null,null,null,null,"",null,null,null,"",null,null,null,null,null,"",0,"","",null,"",null,0,null,2024,null,0,0,0,0,0,0,0,0,0,0,0,0]
[31,null,null,null,"",null,null,null,null,null,null,"","",null,null,"",null,null,null,null,null,null,null,null,null,null,null,"",null,null,null,"",null,null,null,null,null,"",0,"","",null,"",null,0,null,2024,null,0,0,0,0,0,0,0,0,0,0,0,0]
[32,null,null,null,"",null,null,null,null,null,null,"","",null,null,"",null,null,null,null,null,null,null,null,null,null,null,"",null,null,null,"",null,null,null,null,null,"",0,"","",null,"",null,0,null,2024,null,0,0,0,0,0,0,0,0,0,0,0,0]
[33,null,null,null,"",null,null,null,null,null,null,"","",null,null,"",null,null,null,null,null,null,null,null,null,null,null,"",null,null,null,"",null,null,null,null,null,"",0,"","",null,"",null,0,null,2024,null,0,0,0,0,0,0,0,0,0,0,0,0]
[34,null,null,null,"",null,null,null,null,null,null,"","",null,null,"",null,null,null,null,null,null,null,null,null,null,null,"",null,null,null,"",null,null,null,null,null,"",0,"","",null,"",null,0,null,2024,null,0,0,0,0,0,0,0,0,0,0,0,0]
[35,null,null,null,"",null,null,null,null,null,null,"","",null,null,"",null,null,null,null,null,null,null,null,null,null,null,"",null,null,null,"",null,null,null,null,null,"",0,"","",null,"",null,0,null,2024,null,0,0,0,0,0,0,0,0,0,0,0,0]
[36,null,null,null,"",null,null,null,null,null,null,"","",null,null,"",null,null,null,null,null,null,null,null,null,null,null,"",null,null,null,"",null,null,null,null,null,"",0,"","",null,"",null,0,null,2024,null,0,0,0,0,0,0,0,0,0,0,0,0]
[37,null,null,null,"",null,null,null,null,null,null,"","",null,null,"",null,null,null,null,null,null,null,null,null,null,null,"",null,null,null,"",null,null,null,null,null,"",0,"","",null,"",null,0,null,2024,null,0,0,0,0,0,0,0,0,0,0,0,0]
[38,null,null,null,"",null,null,null,null,null,null,"","",null,null,"",null,null,null,null,null,null,null,null,null,null,null,"",null,null,null,"",null,null,null,null,null,"",0,"","",null,"",null,0,null,2024,null,0,0,0,0,0,0,0,0,0,0,0,0]
[39,null,null,null,"",null,null,null,null,null,null,"","",null,null,"",null,null,null,null,null,null,null,null,null,null,null,"",null,null,null,"",null,null,null,null,null,"",0,"","",null,"",null,0,null,2024,null,0,0,0,0,0,0,0,0,0,0,0,0]
[40,null,null,null,"",null,null,null,null,null,null,"","",null,null,"",null,null,null,null,null,null,null,null,null,null,null,"",null,null,null,"",null,null,null,null,null,"",0,"","",null,"",null,0,null,2024,null,0,0,0,0,0,0,0,0,0,0,0,0]
[null,{"$f":"COUNTA(B21:C60)","v":0},null,null,null,null,null,null,null,null,null,null,null,null,null,"",null,null,null,null,null,null,null,null,null,null,null,null,null,null,null,null,null,null,null,null,null,null,0]

{"sheet":"ZSV-Programm","index":1,"n_rows":59,"n_cols":17,"rows_kept":59,"cut":false,"hidden":false,"merged":[[17,1,17,2],[3,2,3,4],[4,2,4,4],[5,2,5,4],[6,2,6,4],[9,2,9,4],[10,2,10,4],[11,2,11,4],[12,2,12,4]]}
[null,null,"Zentralschweizerischer Sportschützen-Verband"]
[null,null,"ZSV-PROGRAMM  - ABRECHNUNG",null,null,null,null,null,null,null,{"$f":"Eingabe!C3","v":2024}]
[]
["Sektionsname",null,{"$f":"Eingabe!C5","v":0},null,null,null,"Anzahl Doppel à 8.--",null,null,{"$f":"K59","v":0},{"$f":"J4*8","v":0},null,null,null,"Limite Ehrenmeldung:"]
["Ort",null,{"$f":"Eingabe!C6","v":0},null,null,null,"Anzahl Ehrenmeldungen",null,null,{"$f":"L59","v":0},null,null,null,null,"U15",null,250]
["Anzahl Mitglieder",null,{"$f":"Eingabe!C7","v":0},null,null,null,"Anzahl Prämienkarten à 6.--",null,null,{"$f":"(J4/100)*50","v":0},null,null,null,null,"U17",null,250]
["Anzahl Teilnehmer",null,{"$f":"K59","v":0},null,null,null,"(50 % der Teilnehmer)",null,null,null,null,null,null,null,"U19",null,250]
[null,null,null,null,null,null,null,null,null,null,null,null,null,null,"U21",null,254]
["der/die Verantwortliche:",null,null,null,null,null,"der Ressortchef:",null,null,null,null,null,null,null,"Elite",null,254]
["Name/Vorname ",null,{"$f":"Eingabe!C11","v":0},null,null,null,{"$f":"Eingabe!G11","v":"Bersanini Aldo"},null,null,null,null,null,null,null,"Senioren",null,260]
["Strasse",null,{"$f":"Eingabe!C12","v":0},null,null,null,{"$f":"Eingabe!G12","v":"Hausmatt 33"},null,null,null,null,null,null,null,"Veteranen",null,260]
["PLZ/Ort",null,{"$f":"Eingabe!C13","v":0},null,null,null,{"$f":"Eingabe!G13","v":"6422 Steinen"},null,null,null,null,null,null,null,"Seniorvetereanen",null,250]
["Telefon",null,{"$f":"Eingabe!C14","v":0},null,null,null,{"$f":"Eingabe!G14","v":"079 208 75 19"},null,null,null,null,null,null,null,"IV-Ausweis",null,260]
["E-Mail",null,{"$f":"Eingabe!C15","v":0},null,null,null,{"$f":"Eingabe!G15","v":"aldobersanini.zsv@bluewin.ch"}]
[null,null,null,null,null,null,"Abrechnungsdatum: 1. Oktober"]
[]
["RANGLISTE"]
["Rang","Name + Vorname",null,"Jahrgang","E / V / J","IV-Ausweis","10 EF liegend","10 EF liegend","10 EF kniend","10 EF liegend\n(Sen./ Veter.)","Total","Ehrenmeldung",null,"Auszeichnungslimite",null,"Sortierung"]
[1,{"$f":"IF(Eingabe!$H21>0,Eingabe!B21,\"\")","v":""},null,{"$f":"IF(Eingabe!$H21>0,Eingabe!D21,\"\")","v":""},{"$f":"IF(Eingabe!$H21>0,Eingabe!E21,\"\")","v":""},{"$f":"IF(Eingabe!$H21>0,IF(Eingabe!F21=\"\",\"\",\"I\"),\"\")","v":""},{"$f":"IF(Eingabe!H21=\"\",\"\",Eingabe!H21)","v":""},{"$f":"IF(Eingabe!I21=\"\",\"\",Eingabe!I21)","v":""},{"$f":"IF(Eingabe!J21=\"\",\"\",Eingabe!J21)","v":""},{"$f":"IF(Eingabe!K21=\"\",\"\",Eingabe!K21)","v":""},{"$f":"IF(SUM(G19:J19)>0,SUM(G19:J19),\"\")","v":""},{"$f":"IF(O19=\"\",\"\",O19)","v":""},{"$f":"IF(K19=\"\",0,1)","v":0},{"$f":"IF(F19=\"I\",$Q$13,IF(E19=\"E\",$Q$9,IF(E19=\"V\",$Q$11,IF(E19=\"U21\",$Q$8,IF(E19=\"S\",$Q$10,IF(E19=\"SV\",$Q$12,IF(E19=\"U15\",$Q$5,IF(E19=\"U17\",$Q$6,IF(E19=\"U19\",$Q$7,\"\")))))))))","v":""},{"$f":"IF(N19=\"\",\"\",IF(K19>=N19,1,0))","v":""},1]
[2,{"$f":"IF(Eingabe!$H22>0,Eingabe!B22,\"\")","v":""},null,{"$f":"IF(Eingabe!$H22>0,Eingabe!D22,\"\")","v":""},{"$f":"IF(Eingabe!$H22>0,Eingabe!E22,\"\")","v":""},{"$f":"IF(Eingabe!$H22>0,IF(Eingabe!F22=\"\",\"\",\"I\"),\"\")","v":""},{"$f":"IF(Eingabe!H22=\"\",\"\",Eingabe!H22)","v":""},{"$f":"IF(Eingabe!I22=\"\",\"\",Eingabe!I22)","v":""},{"$f":"IF(Eingabe!J22=\"\",\"\",Eingabe!J22)","v":""},{"$f":"IF(Eingabe!K22=\"\",\"\",Eingabe!K22)","v":""},"","",0,"","",2]
[3,{"$f":"IF(Eingabe!$H23>0,Eingabe!B23,\"\")","v":""},null,{"$f":"IF(Eingabe!$H23>0,Eingabe!D23,\"\")","v":""},{"$f":"IF(Eingabe!$H23>0,Eingabe!E23,\"\")","v":""},{"$f":"IF(Eingabe!$H23>0,IF(Eingabe!F23=\"\",\"\",\"I\"),\"\")","v":""},{"$f":"IF(Eingabe!H23=\"\",\"\",Eingabe!H23)","v":""},{"$f":"IF(Eingabe!I23=\"\",\"\",Eingabe!I23)","v":""},{"$f":"IF(Eingabe!J23=\"\",\"\",Eingabe!J23)","v":""},{"$f":"IF(Eingabe!K23=\"\",\"\",Eingabe!K23)","v":""},"","",0,"","",3]
[4,{"$f":"IF(Eingabe!$H24>0,Eingabe!B24,\"\")","v":""},null,{"$f":"IF(Eingabe!$H24>0,Eingabe!D24,\"\")","v":""},{"$f":"IF(Eingabe!$H24>0,Eingabe!E24,\"\")","v":""},{"$f":"IF(Eingabe!$H24>0,IF(Eingabe!F24=\"\",\"\",\"I\"),\"\")","v":""},{"$f":"IF(Eingabe!H24=\"\",\"\",Eingabe!H24)","v":""},{"$f":"IF(Eingabe!I24=\"\",\"\",Eingabe!I24)","v":""},{"$f":"IF(Eingabe!J24=\"\",\"\",Eingabe!J24)","v":""},{"$f":"IF(Eingabe!K24=\"\",\"\",Eingabe!K24)","v":""},"","",0,"","",4]
[5,{"$f":"IF(Eingabe!$H25>0,Eingabe!B25,\"\")","v":""},null,{"$f":"IF(Eingabe!$H25>0,Eingabe!D25,\"\")","v":""},{"$f":"IF(Eingabe!$H25>0,Eingabe!E25,\"\")","v":""},{"$f":"IF(Eingabe!$H25>0,IF(Eingabe!F25=\"\",\"\",\"I\"),\"\")","v":""},{"$f":"IF(Eingabe!H25=\"\",\"\",Eingabe!H25)","v":""},{"$f":"IF(Eingabe!I25=\"\",\"\",Eingabe!I25)","v":""},{"$f":"IF(Eingabe!J25=\"\",\"\",Eingabe!J25)","v":""},{"$f":"IF(Eingabe!K25=\"\",\"\",Eingabe!K25)","v":""},"","",0,"","",5]
[6,{"$f":"IF(Eingabe!$H26>0,Eingabe!B26,\"\")","v":""},null,{"$f":"IF(Eingabe!$H26>0,Eingabe!D26,\"\")","v":""},{"$f":"IF(Eingabe!$H26>0,Eingabe!E26,\"\")","v":""},{"$f":"IF(Eingabe!$H26>0,IF(Eingabe!F26=\"\",\"\",\"I\"),\"\")","v":""},{"$f":"IF(Eingabe!H26=\"\",\"\",Eingabe!H26)","v":""},{"$f":"IF(Eingabe!I26=\"\",\"\",Eingabe!I26)","v":""},{"$f":"IF(Eingabe!J26=\"\",\"\",Eingabe!J26)","v":""},{"$f":"IF(Eingabe!K26=\"\",\"\",Eingabe!K26)","v":""},"","",0,"","",6]
[7,{"$f":"IF(Eingabe!$H27>0,Eingabe!B27,\"\")","v":""},null,{"$f":"IF(Eingabe!$H27>0,Eingabe!D27,\"\")","v":""},{"$f":"IF(Eingabe!$H27>0,Eingabe!E27,\"\")","v":""},{"$f":"IF(Eingabe!$H27>0,IF(Eingabe!F27=\"\",\"\",\"I\"),\"\")","v":""},{"$f":"IF(Eingabe!H27=\"\",\"\",Eingabe!H27)","v":""},{"$f":"IF(Eingabe!I27=\"\",\"\",Eingabe!I27)","v":""},{"$f":"IF(Eingabe!J27=\"\",\"\",Eingabe!J27)","v":""},{"$f":"IF(Eingabe!K27=\"\",\"\",Eingabe!K27)","v":""},"","",0,"","",7]
[8,{"$f":"IF(Eingabe!$H28>0,Eingabe!B28,\"\")","v":""},null,{"$f":"IF(Eingabe!$H28>0,Eingabe!D28,\"\")","v":""},{"$f":"IF(Eingabe!$H28>0,Eingabe!E28,\"\")","v":""},{"$f":"IF(Eingabe!$H28>0,IF(Eingabe!F28=\"\",\"\",\"I\"),\"\")","v":""},{"$f":"IF(Eingabe!H28=\"\",\"\",Eingabe!H28)","v":""},{"$f":"IF(Eingabe!I28=\"\",\"\",Eingabe!I28)","v":""},{"$f":"IF(Eingabe!J28=\"\",\"\",Eingabe!J28)","v":""},{"$f":"IF(Eingabe!K28=\"\",\"\",Eingabe!K28)","v":""},"","",0,"","",8]
[9,{"$f":"IF(Eingabe!$H29>0,Eingabe!B29,\"\")","v":""},null,{"$f":"IF(Eingabe!$H29>0,Eingabe!D29,\"\")","v":""},{"$f":"IF(Eingabe!$H29>0,Eingabe!E29,\"\")","v":""},{"$f":"IF(Eingabe!$H29>0,IF(Eingabe!F29=\"\",\"\",\"I\"),\"\")","v":""},{"$f":"IF(Eingabe!H29=\"\",\"\",Eingabe!H29)","v":""},{"$f":"IF(Eingabe!I29=\"\",\"\",Eingabe!I29)","v":""},{"$f":"IF(Eingabe!J29=\"\",\"\",Eingabe!J29)","v":""},{"$f":"IF(Eingabe!K29=\"\",\"\",Eingabe!K29)","v":""},"","",0,"","",9]
[10,{"$f":"IF(Eingabe!$H30>0,Eingabe!B30,\"\")","v":""},null,{"$f":"IF(Eingabe!$H30>0,Eingabe!D30,\"\")","v":""},{"$f":"IF(Eingabe!$H30>0,Eingabe!E30,\"\")","v":""},{"$f":"IF(Eingabe!$H30>0,IF(Eingabe!F30=\"\",\"\",\"I\"),\"\")","v":""},{"$f":"IF(Eingabe!H30=\"\",\"\",Eingabe!H30)","v":""},{"$f":"IF(Eingabe!I30=\"\",\"\",Eingabe!I30)","v":""},{"$f":"IF(Eingabe!J30=\"\",\"\",Eingabe!J30)","v":""},{"$f":"IF(Eingabe!K30=\"\",\"\",Eingabe!K30)","v":""},"","",0,"","",10]
[11,{"$f":"IF(Eingabe!$H31>0,Eingabe!B31,\"\")","v":""},null,{"$f":"IF(Eingabe!$H31>0,Eingabe!D31,\"\")","v":""},{"$f":"IF(Eingabe!$H31>0,Eingabe!E31,\"\")","v":""},{"$f":"IF(Eingabe!$H31>0,IF(Eingabe!F31=\"\",\"\",\"I\"),\"\")","v":""},{"$f":"IF(Eingabe!H31=\"\",\"\",Eingabe!H31)","v":""},{"$f":"IF(Eingabe!I31=\"\",\"\",Eingabe!I31)","v":""},{"$f":"IF(Eingabe!J31=\"\",\"\",Eingabe!J31)","v":""},{"$f":"IF(Eingabe!K31=\"\",\"\",Eingabe!K31)","v":""},"","",0,"","",11]
[12,{"$f":"IF(Eingabe!$H32>0,Eingabe!B32,\"\")","v":""},null,{"$f":"IF(Eingabe!$H32>0,Eingabe!D32,\"\")","v":""},{"$f":"IF(Eingabe!$H32>0,Eingabe!E32,\"\")","v":""},{"$f":"IF(Eingabe!$H32>0,IF(Eingabe!F32=\"\",\"\",\"I\"),\"\")","v":""},{"$f":"IF(Eingabe!H32=\"\",\"\",Eingabe!H32)","v":""},{"$f":"IF(Eingabe!I32=\"\",\"\",Eingabe!I32)","v":""},{"$f":"IF(Eingabe!J32=\"\",\"\",Eingabe!J32)","v":""},{"$f":"IF(Eingabe!K32=\"\",\"\",Eingabe!K32)","v":""},"","",0,"","",12]
[13,{"$f":"IF(Eingabe!$H33>0,Eingabe!B33,\"\")","v":""},null,{"$f":"IF(Eingabe!$H33>0,Eingabe!D33,\"\")","v":""},{"$f":"IF(Eingabe!$H33>0,Eingabe!E33,\"\")","v":""},{"$f":"IF(Eingabe!$H33>0,IF(Eingabe!F33=\"\",\"\",\"I\"),\"\")","v":""},{"$f":"IF(Eingabe!H33=\"\",\"\",Eingabe!H33)","v":""},{"$f":"IF(Eingabe!I33=\"\",\"\",Eingabe!I33)","v":""},{"$f":"IF(Eingabe!J33=\"\",\"\",Eingabe!J33)","v":""},{"$f":"IF(Eingabe!K33=\"\",\"\",Eingabe!K33)","v":""},"","",0,"","",13]
[14,{"$f":"IF(Eingabe!$H34>0,Eingabe!B34,\"\")","v":""},null,{"$f":"IF(Eingabe!$H34>0,Eingabe!D34,\"\")","v":""},{"$f":"IF(Eingabe!$H34>0,Eingabe!E34,\"\")","v":""},{"$f":"IF(Eingabe!$H34>0,IF(Eingabe!F34=\"\",\"\",\"I\"),\"\")","v":""},{"$f":"IF(Eingabe!H34=\"\",\"\",Eingabe!H34)","v":""},{"$f":"IF(Eingabe!I34=\"\",\"\",Eingabe!I34)","v":""},{"$f":"IF(Eingabe!J34=\"\",\"\",Eingabe!J34)","v":""},{"$f":"IF(Eingabe!K34=\"\",\"\",Eingabe!K34)","v":""},"","",0,"","",14]
[15,{"$f":"IF(Eingabe!$H35>0,Eingabe!B35,\"\")","v":""},null,{"$f":"IF(Eingabe!$H35>0,Eingabe!D35,\"\")","v":""},{"$f":"IF(Eingabe!$H35>0,Eingabe!E35,\"\")","v":""},{"$f":"IF(Eingabe!$H35>0,IF(Eingabe!F35=\"\",\"\",\"I\"),\"\")","v":""},{"$f":"IF(Eingabe!H35=\"\",\"\",Eingabe!H35)","v":""},{"$f":"IF(Eingabe!I35=\"\",\"\",Eingabe!I35)","v":""},{"$f":"IF(Eingabe!J35=\"\",\"\",Eingabe!J35)","v":""},{"$f":"IF(Eingabe!K35=\"\",\"\",Eingabe!K35)","v":""},"","",0,"","",15]
[16,{"$f":"IF(Eingabe!$H36>0,Eingabe!B36,\"\")","v":""},null,{"$f":"IF(Eingabe!$H36>0,Eingabe!D36,\"\")","v":""},{"$f":"IF(Eingabe!$H36>0,Eingabe!E36,\"\")","v":""},{"$f":"IF(Eingabe!$H36>0,IF(Eingabe!F36=\"\",\"\",\"I\"),\"\")","v":""},{"$f":"IF(Eingabe!H36=\"\",\"\",Eingabe!H36)","v":""},{"$f":"IF(Eingabe!I36=\"\",\"\",Eingabe!I36)","v":""},{"$f":"IF(Eingabe!J36=\"\",\"\",Eingabe!J36)","v":""},{"$f":"IF(Eingabe!K36=\"\",\"\",Eingabe!K36)","v":""},"","",0,"","",16]
[17,{"$f":"IF(Eingabe!$H37>0,Eingabe!B37,\"\")","v":""},null,{"$f":"IF(Eingabe!$H37>0,Eingabe!D37,\"\")","v":""},{"$f":"IF(Eingabe!$H37>0,Eingabe!E37,\"\")","v":""},{"$f":"IF(Eingabe!$H37>0,IF(Eingabe!F37=\"\",\"\",\"I\"),\"\")","v":""},{"$f":"IF(Eingabe!H37=\"\",\"\",Eingabe!H37)","v":""},{"$f":"IF(Eingabe!I37=\"\",\"\",Eingabe!I37)","v":""},{"$f":"IF(Eingabe!J37=\"\",\"\",Eingabe!J37)","v":""},{"$f":"IF(Eingabe!K37=\"\",\"\",Eingabe!K37)","v":""},"","",0,"","",17]
[18,{"$f":"IF(Eingabe!$H38>0,Eingabe!B38,\"\")","v":""},null,{"$f":"IF(Eingabe!$H38>0,Eingabe!D38,\"\")","v":""},{"$f":"IF(Eingabe!$H38>0,Eingabe!E38,\"\")","v":""},{"$f":"IF(Eingabe!$H38>0,IF(Eingabe!F38=\"\",\"\",\"I\"),\"\")","v":""},{"$f":"IF(Eingabe!H38=\"\",\"\",Eingabe!H38)","v":""},{"$f":"IF(Eingabe!I38=\"\",\"\",Eingabe!I38)","v":""},{"$f":"IF(Eingabe!J38=\"\",\"\",Eingabe!J38)","v":""},{"$f":"IF(Eingabe!K38=\"\",\"\",Eingabe!K38)","v":""},"","",0,"","",18]
[19,{"$f":"IF(Eingabe!$H39>0,Eingabe!B39,\"\")","v":""},null,{"$f":"IF(Eingabe!$H39>0,Eingabe!D39,\"\")","v":""},{"$f":"IF(Eingabe!$H39>0,Eingabe!E39,\"\")","v":""},{"$f":"IF(Eingabe!$H39>0,IF(Eingabe!F39=\"\",\"\",\"I\"),\"\")","v":""},{"$f":"IF(Eingabe!H39=\"\",\"\",Eingabe!H39)","v":""},{"$f":"IF(Eingabe!I39=\"\",\"\",Eingabe!I39)","v":""},{"$f":"IF(Eingabe!J39=\"\",\"\",Eingabe!J39)","v":""},{"$f":"IF(Eingabe!K39=\"\",\"\",Eingabe!K39)","v":""},"","",0,"","",19]
[20,{"$f":"IF(Eingabe!$H40>0,Eingabe!B40,\"\")","v":""},null,{"$f":"IF(Eingabe!$H40>0,Eingabe!D40,\"\")","v":""},{"$f":"IF(Eingabe!$H40>0,Eingabe!E40,\"\")","v":""},{"$f":"IF(Eingabe!$H40>0,IF(Eingabe!F40=\"\",\"\",\"I\"),\"\")","v":""},{"$f":"IF(Eingabe!H40=\"\",\"\",Eingabe!H40)","v":""},{"$f":"IF(Eingabe!I40=\"\",\"\",Eingabe!I40)","v":""},{"$f":"IF(Eingabe!J40=\"\",\"\",Eingabe!J40)","v":""},{"$f":"IF(Eingabe!K40=\"\",\"\",Eingabe!K40)","v":""},"","",0,"","",20]
[21,{"$f":"IF(Eingabe!$H41>0,Eingabe!B41,\"\")","v":""},null,{"$f":"IF(Eingabe!$H41>0,Eingabe!D41,\"\")","v":""},{"$f":"IF(Eingabe!$H41>0,Eingabe!E41,\"\")","v":""},{"$f":"IF(Eingabe!$H41>0,IF(Eingabe!F41=\"\",\"\",\"I\"),\"\")","v":""},{"$f":"IF(Eingabe!H41=\"\",\"\",Eingabe!H41)","v":""},{"$f":"IF(Eingabe!I41=\"\",\"\",Eingabe!I41)","v":""},{"$f":"IF(Eingabe!J41=\"\",\"\",Eingabe!J41)","v":""},{"$f":"IF(Eingabe!K41=\"\",\"\",Eingabe!K41)","v":""},"","",0,"","",21]
[22,{"$f":"IF(Eingabe!$H42>0,Eingabe!B42,\"\")","v":""},null,{"$f":"IF(Eingabe!$H42>0,Eingabe!D42,\"\")","v":""},{"$f":"IF(Eingabe!$H42>0,Eingabe!E42,\"\")","v":""},{"$f":"IF(Eingabe!$H42>0,IF(Eingabe!F42=\"\",\"\",\"I\"),\"\")","v":""},{"$f":"IF(Eingabe!H42=\"\",\"\",Eingabe!H42)","v":""},{"$f":"IF(Eingabe!I42=\"\",\"\",Eingabe!I42)","v":""},{"$f":"IF(Eingabe!J42=\"\",\"\",Eingabe!J42)","v":""},{"$f":"IF(Eingabe!K42=\"\",\"\",Eingabe!K42)","v":""},"","",0,"","",22]
[23,{"$f":"IF(Eingabe!$H43>0,Eingabe!B43,\"\")","v":""},null,{"$f":"IF(Eingabe!$H43>0,Eingabe!D43,\"\")","v":""},{"$f":"IF(Eingabe!$H43>0,Eingabe!E43,\"\")","v":""},{"$f":"IF(Eingabe!$H43>0,IF(Eingabe!F43=\"\",\"\",\"I\"),\"\")","v":""},{"$f":"IF(Eingabe!H43=\"\",\"\",Eingabe!H43)","v":""},{"$f":"IF(Eingabe!I43=\"\",\"\",Eingabe!I43)","v":""},{"$f":"IF(Eingabe!J43=\"\",\"\",Eingabe!J43)","v":""},{"$f":"IF(Eingabe!K43=\"\",\"\",Eingabe!K43)","v":""},"","",0,"","",23]
[24,{"$f":"IF(Eingabe!$H44>0,Eingabe!B44,\"\")","v":""},null,{"$f":"IF(Eingabe!$H44>0,Eingabe!D44,\"\")","v":""},{"$f":"IF(Eingabe!$H44>0,Eingabe!E44,\"\")","v":""},{"$f":"IF(Eingabe!$H44>0,IF(Eingabe!F44=\"\",\"\",\"I\"),\"\")","v":""},{"$f":"IF(Eingabe!H44=\"\",\"\",Eingabe!H44)","v":""},{"$f":"IF(Eingabe!I44=\"\",\"\",Eingabe!I44)","v":""},{"$f":"IF(Eingabe!J44=\"\",\"\",Eingabe!J44)","v":""},{"$f":"IF(Eingabe!K44=\"\",\"\",Eingabe!K44)","v":""},"","",0,"","",24]
[25,{"$f":"IF(Eingabe!$H45>0,Eingabe!B45,\"\")","v":""},null,{"$f":"IF(Eingabe!$H45>0,Eingabe!D45,\"\")","v":""},{"$f":"IF(Eingabe!$H45>0,Eingabe!E45,\"\")","v":""},{"$f":"IF(Eingabe!$H45>0,IF(Eingabe!F45=\"\",\"\",\"I\"),\"\")","v":""},{"$f":"IF(Eingabe!H45=\"\",\"\",Eingabe!H45)","v":""},{"$f":"IF(Eingabe!I45=\"\",\"\",Eingabe!I45)","v":""},{"$f":"IF(Eingabe!J45=\"\",\"\",Eingabe!J45)","v":""},{"$f":"IF(Eingabe!K45=\"\",\"\",Eingabe!K45)","v":""},"","",0,"","",25]
[26,{"$f":"IF(Eingabe!$H46>0,Eingabe!B46,\"\")","v":""},null,{"$f":"IF(Eingabe!$H46>0,Eingabe!D46,\"\")","v":""},{"$f":"IF(Eingabe!$H46>0,Eingabe!E46,\"\")","v":""},{"$f":"IF(Eingabe!$H46>0,IF(Eingabe!F46=\"\",\"\",\"I\"),\"\")","v":""},{"$f":"IF(Eingabe!H46=\"\",\"\",Eingabe!H46)","v":""},{"$f":"IF(Eingabe!I46=\"\",\"\",Eingabe!I46)","v":""},{"$f":"IF(Eingabe!J46=\"\",\"\",Eingabe!J46)","v":""},{"$f":"IF(Eingabe!K46=\"\",\"\",Eingabe!K46)","v":""},"","",0,"","",26]
[27,{"$f":"IF(Eingabe!$H47>0,Eingabe!B47,\"\")","v":""},null,{"$f":"IF(Eingabe!$H47>0,Eingabe!D47,\"\")","v":""},{"$f":"IF(Eingabe!$H47>0,Eingabe!E47,\"\")","v":""},{"$f":"IF(Eingabe!$H47>0,IF(Eingabe!F47=\"\",\"\",\"I\"),\"\")","v":""},{"$f":"IF(Eingabe!H47=\"\",\"\",Eingabe!H47)","v":""},{"$f":"IF(Eingabe!I47=\"\",\"\",Eingabe!I47)","v":""},{"$f":"IF(Eingabe!J47=\"\",\"\",Eingabe!J47)","v":""},{"$f":"IF(Eingabe!K47=\"\",\"\",Eingabe!K47)","v":""},"","",0,"","",27]
[28,{"$f":"IF(Eingabe!$H48>0,Eingabe!B48,\"\")","v":""},null,{"$f":"IF(Eingabe!$H48>0,Eingabe!D48,\"\")","v":""},{"$f":"IF(Eingabe!$H48>0,Eingabe!E48,\"\")","v":""},{"$f":"IF(Eingabe!$H48>0,IF(Eingabe!F48=\"\",\"\",\"I\"),\"\")","v":""},{"$f":"IF(Eingabe!H48=\"\",\"\",Eingabe!H48)","v":""},{"$f":"IF(Eingabe!I48=\"\",\"\",Eingabe!I48)","v":""},{"$f":"IF(Eingabe!J48=\"\",\"\",Eingabe!J48)","v":""},{"$f":"IF(Eingabe!K48=\"\",\"\",Eingabe!K48)","v":""},"","",0,"","",28]
[29,{"$f":"IF(Eingabe!$H49>0,Eingabe!B49,\"\")","v":""},null,{"$f":"IF(Eingabe!$H49>0,Eingabe!D49,\"\")","v":""},{"$f":"IF(Eingabe!$H49>0,Eingabe!E49,\"\")","v":""},{"$f":"IF(Eingabe!$H49>0,IF(Eingabe!F49=\"\",\"\",\"I\"),\"\")","v":""},{"$f":"IF(Eingabe!H49=\"\",\"\",Eingabe!H49)","v":""},{"$f":"IF(Eingabe!I49=\"\",\"\",Eingabe!I49)","v":""},{"$f":"IF(Eingabe!J49=\"\",\"\",Eingabe!J49)","v":""},{"$f":"IF(Eingabe!K49=\"\",\"\",Eingabe!K49)","v":""},"","",0,"","",29]
[30,{"$f":"IF(Eingabe!$H50>0,Eingabe!B50,\"\")","v":""},null,{"$f":"IF(Eingabe!$H50>0,Eingabe!D50,\"\")","v":""},{"$f":"IF(Eingabe!$H50>0,Eingabe!E50,\"\")","v":""},{"$f":"IF(Eingabe!$H50>0,IF(Eingabe!F50=\"\",\"\",\"I\"),\"\")","v":""},{"$f":"IF(Eingabe!H50=\"\",\"\",Eingabe!H50)","v":""},{"$f":"IF(Eingabe!I50=\"\",\"\",Eingabe!I50)","v":""},{"$f":"IF(Eingabe!J50=\"\",\"\",Eingabe!J50)","v":""},{"$f":"IF(Eingabe!K50=\"\",\"\",Eingabe!K50)","v":""},"","",0,"","",30]
[31,{"$f":"IF(Eingabe!$H51>0,Eingabe!B51,\"\")","v":""},null,{"$f":"IF(Eingabe!$H51>0,Eingabe!D51,\"\")","v":""},{"$f":"IF(Eingabe!$H51>0,Eingabe!E51,\"\")","v":""},{"$f":"IF(Eingabe!$H51>0,IF(Eingabe!F51=\"\",\"\",\"I\"),\"\")","v":""},{"$f":"IF(Eingabe!H51=\"\",\"\",Eingabe!H51)","v":""},{"$f":"IF(Eingabe!I51=\"\",\"\",Eingabe!I51)","v":""},{"$f":"IF(Eingabe!J51=\"\",\"\",Eingabe!J51)","v":""},{"$f":"IF(Eingabe!K51=\"\",\"\",Eingabe!K51)","v":""},"","",0,"","",31]
[32,{"$f":"IF(Eingabe!$H52>0,Eingabe!B52,\"\")","v":""},null,{"$f":"IF(Eingabe!$H52>0,Eingabe!D52,\"\")","v":""},{"$f":"IF(Eingabe!$H52>0,Eingabe!E52,\"\")","v":""},{"$f":"IF(Eingabe!$H52>0,IF(Eingabe!F52=\"\",\"\",\"I\"),\"\")","v":""},{"$f":"IF(Eingabe!H52=\"\",\"\",Eingabe!H52)","v":""},{"$f":"IF(Eingabe!I52=\"\",\"\",Eingabe!I52)","v":""},{"$f":"IF(Eingabe!J52=\"\",\"\",Eingabe!J52)","v":""},{"$f":"IF(Eingabe!K52=\"\",\"\",Eingabe!K52)","v":""},"","",0,"","",32]
[33,{"$f":"IF(Eingabe!$H53>0,Eingabe!B53,\"\")","v":""},null,{"$f":"IF(Eingabe!$H53>0,Eingabe!D53,\"\")","v":""},{"$f":"IF(Eingabe!$H53>0,Eingabe!E53,\"\")","v":""},{"$f":"IF(Eingabe!$H53>0,IF(Eingabe!F53=\"\",\"\",\"I\"),\"\")","v":""},{"$f":"IF(Eingabe!H53=\"\",\"\",Eingabe!H53)","v":""},{"$f":"IF(Eingabe!I53=\"\",\"\",Eingabe!I53)","v":""},{"$f":"IF(Eingabe!J53=\"\",\"\",Eingabe!J53)","v":""},{"$f":"IF(Eingabe!K53=\"\",\"\",Eingabe!K53)","v":""},"","",0,"","",33]
[34,{"$f":"IF(Eingabe!$H54>0,Eingabe!B54,\"\")","v":""},null,{"$f":"IF(Eingabe!$H54>0,Eingabe!D54,\"\")","v":""},{"$f":"IF(Eingabe!$H54>0,Eingabe!E54,\"\")","v":""},{"$f":"IF(Eingabe!$H54>0,IF(Eingabe!F54=\"\",\"\",\"I\"),\"\")","v":""},{"$f":"IF(Eingabe!H54=\"\",\"\",Eingabe!H54)","v":""},{"$f":"IF(Eingabe!I54=\"\",\"\",Eingabe!I54)","v":""},{"$f":"IF(Eingabe!J54=\"\",\"\",Eingabe!J54)","v":""},{"$f":"IF(Eingabe!K54=\"\",\"\",Eingabe!K54)","v":""},"","",0,"","",34]
[35,{"$f":"IF(Eingabe!$H55>0,Eingabe!B55,\"\")","v":""},null,{"$f":"IF(Eingabe!$H55>0,Eingabe!D55,\"\")","v":""},{"$f":"IF(Eingabe!$H55>0,Eingabe!E55,\"\")","v":""},{"$f":"IF(Eingabe!$H55>0,IF(Eingabe!F55=\"\",\"\",\"I\"),\"\")","v":""},{"$f":"IF(Eingabe!H55=\"\",\"\",Eingabe!H55)","v":""},{"$f":"IF(Eingabe!I55=\"\",\"\",Eingabe!I55)","v":""},{"$f":"IF(Eingabe!J55=\"\",\"\",Eingabe!J55)","v":""},{"$f":"IF(Eingabe!K55=\"\",\"\",Eingabe!K55)","v":""},"","",0,"","",35]
[36,{"$f":"IF(Eingabe!$H56>0,Eingabe!B56,\"\")","v":""},null,{"$f":"IF(Eingabe!$H56>0,Eingabe!D56,\"\")","v":""},{"$f":"IF(Eingabe!$H56>0,Eingabe!E56,\"\")","v":""},{"$f":"IF(Eingabe!$H56>0,IF(Eingabe!F56=\"\",\"\",\"I\"),\"\")","v":""},{"$f":"IF(Eingabe!H56=\"\",\"\",Eingabe!H56)","v":""},{"$f":"IF(Eingabe!I56=\"\",\"\",Eingabe!I56)","v":""},{"$f":"IF(Eingabe!J56=\"\",\"\",Eingabe!J56)","v":""},{"$f":"IF(Eingabe!K56=\"\",\"\",Eingabe!K56)","v":""},"","",0,"","",36]
[37,{"$f":"IF(Eingabe!$H57>0,Eingabe!B57,\"\")","v":""},null,{"$f":"IF(Eingabe!$H57>0,Eingabe!D57,\"\")","v":""},{"$f":"IF(Eingabe!$H57>0,Eingabe!E57,\"\")","v":""},{"$f":"IF(Eingabe!$H57>0,IF(Eingabe!F57=\"\",\"\",\"I\"),\"\")","v":""},{"$f":"IF(Eingabe!H57=\"\",\"\",Eingabe!H57)","v":""},{"$f":"IF(Eingabe!I57=\"\",\"\",Eingabe!I57)","v":""},{"$f":"IF(Eingabe!J57=\"\",\"\",Eingabe!J57)","v":""},{"$f":"IF(Eingabe!K57=\"\",\"\",Eingabe!K57)","v":""},"","",0,"","",37]
[38,{"$f":"IF(Eingabe!$H58>0,Eingabe!B58,\"\")","v":""},null,{"$f":"IF(Eingabe!$H58>0,Eingabe!D58,\"\")","v":""},{"$f":"IF(Eingabe!$H58>0,Eingabe!E58,\"\")","v":""},{"$f":"IF(Eingabe!$H58>0,IF(Eingabe!F58=\"\",\"\",\"I\"),\"\")","v":""},{"$f":"IF(Eingabe!H58=\"\",\"\",Eingabe!H58)","v":""},{"$f":"IF(Eingabe!I58=\"\",\"\",Eingabe!I58)","v":""},{"$f":"IF(Eingabe!J58=\"\",\"\",Eingabe!J58)","v":""},{"$f":"IF(Eingabe!K58=\"\",\"\",Eingabe!K58)","v":""},"","",0,"","",38]
[39,{"$f":"IF(Eingabe!$H59>0,Eingabe!B59,\"\")","v":""},null,{"$f":"IF(Eingabe!$H59>0,Eingabe!D59,\"\")","v":""},{"$f":"IF(Eingabe!$H59>0,Eingabe!E59,\"\")","v":""},{"$f":"IF(Eingabe!$H59>0,IF(Eingabe!F59=\"\",\"\",\"I\"),\"\")","v":""},{"$f":"IF(Eingabe!H59=\"\",\"\",Eingabe!H59)","v":""},{"$f":"IF(Eingabe!I59=\"\",\"\",Eingabe!I59)","v":""},{"$f":"IF(Eingabe!J59=\"\",\"\",Eingabe!J59)","v":""},{"$f":"IF(Eingabe!K59=\"\",\"\",Eingabe!K59)","v":""},"","",0,"","",39]
[40,{"$f":"IF(Eingabe!$H60>0,Eingabe!B60,\"\")","v":""},null,{"$f":"IF(Eingabe!$H60>0,Eingabe!D60,\"\")","v":""},{"$f":"IF(Eingabe!$H60>0,Eingabe!E60,\"\")","v":""},{"$f":"IF(Eingabe!$H60>0,IF(Eingabe!F60=\"\",\"\",\"I\"),\"\")","v":""},{"$f":"IF(Eingabe!H60=\"\",\"\",Eingabe!H60)","v":""},{"$f":"IF(Eingabe!I60=\"\",\"\",Eingabe!I60)","v":""},{"$f":"IF(Eingabe!J60=\"\",\"\",Eingabe!J60)","v":""},{"$f":"IF(Eingabe!K60=\"\",\"\",Eingabe!K60)","v":""},"","",0,"","",40]
[null,null,null,null,null,null,null,null,null,null,{"$f":"COUNT(K19:K58)","v":0},{"$f":"COUNTIF(L19:L58,\">0\")","v":0}]

{"sheet":"Serie","index":2,"n_rows":147,"n_cols":26,"rows_kept":147,"cut":false,"hidden":false,"merged":[[58,1,58,2],[101,1,101,2],[15,1,15,2],[3,8,3,9]]}
[null,null,"Zentralschweizerischer Sportschützen-Verband"]
[null,null,"SERIESCHIESSEN - ABRECHNUNG",null,null,null,null,null,null,{"$f":"Eingabe!C3","v":2024}]
[]
["Sektionsname",null,{"$f":"Eingabe!C5","v":0},null,"Anzahl Doppel à 15.--",null,null,{"$f":"J143","v":0},{"$f":"H4*15","v":0},null,null,null,null,null,"Limite Ehrenmeldung:"]
["Ort",null,{"$f":"Eingabe!C6","v":0},null,"Anzahl Prämienkarten à 8.--",null,null,{"$f":"K143","v":0},null,null,null,null,null,null,"U15",null,250]
[null,null,null,null,null,null,null,null,null,null,null,null,null,null,"U17",null,250]
["der/die Verantwortliche:",null,null,null,"der Ressortchef:",null,null,null,null,null,null,null,null,null,"U19",null,250]
["Name/Vorname ",null,{"$f":"Eingabe!C11","v":0},null,{"$f":"Eingabe!G11","v":"Bersanini Aldo"},null,null,null,null,null,null,null,null,null,"U21",null,254]
["Strasse",null,{"$f":"Eingabe!C12","v":0},null,{"$f":"Eingabe!G12","v":"Hausmatt 33"},null,null,null,null,null,null,null,null,null,"Elite",null,254]
["PLZ/Ort",null,{"$f":"Eingabe!C13","v":0},null,{"$f":"Eingabe!G13","v":"6422 Steinen"},null,null,null,null,null,null,null,null,null,"Senioren",null,260]
["Telefon",null,{"$f":"Eingabe!C14","v":0},null,{"$f":"Eingabe!G14","v":"079 208 75 19"},null,null,null,null,null,null,null,null,null,"Veteranen",null,260]
["E-Mail",null,{"$f":"Eingabe!C15","v":0},null,{"$f":"Eingabe!G15","v":"aldobersanini.zsv@bluewin.ch"},null,null,null,null,null,null,null,null,null,"Seniorvetereanen",null,250]
[null,null,null,null,"Abrechnungsdatum: 1. Oktober",null,null,null,null,null,null,null,null,null,"IV-Ausweis"]
[]
["RANGLISTE ELITE"]
["Rang","Name + Vorname",null,null,"Jahrgang \n(JJJJ)","E / V / J","Liegend Total","Kniend Total",null,"Gesamttotal","Prämienkarten",null,null,"J Rangliste?","Geschossen","Auszeichnungslimite","Sortierung",null,"Elite","Senior","Veteran","Seniorveteran","Summe"]
[1,{"$f":"IF(N17=1,Eingabe!B21,\"\")","v":""},null,null,{"$f":"IF(N17=1,Eingabe!D21,\"\")","v":""},{"$f":"IF(N17=1,Eingabe!E21,\"\")","v":""},{"$f":"IF(N17=1,Eingabe!N21,\"\")","v":""},{"$f":"IF(N17=1,Eingabe!O21,\"\")","v":""},null,{"$f":"IF(N17=1,SUM(G17:H17),\"\")","v":""},{"$f":"IF(AND(N17=1,J17>=P17),1,IF(AND(O17=1,J17<P17),0,\"\"))","v":""},null,null,{"$f":"IF(AND(O17=1,S17=1),1,0)","v":0},{"$f":"IF(Eingabe!O21=\"\",0,1)","v":0},{"$f":"$Q$9","v":254},1,null,{"$f":"IF(Eingabe!$E21=\"E\",1,\"\")","v":""},{"$f":"IF(Eingabe!$E21=\"S\",1,\"\")","v":""},{"$f":"IF(Eingabe!$E21=\"V\",1,\"\")","v":""},{"$f":"IF(Eingabe!$E21=\"SV\",1,\"\")","v":""},{"$f":"SUM(S17:V17)","v":0}]
[2,{"$f":"IF(N18=1,Eingabe!B22,\"\")","v":""},null,null,{"$f":"IF(N18=1,Eingabe!D22,\"\")","v":""},{"$f":"IF(N18=1,Eingabe!E22,\"\")","v":""},{"$f":"IF(N18=1,Eingabe!N22,\"\")","v":""},{"$f":"IF(N18=1,Eingabe!O22,\"\")","v":""},null,"","",null,null,0,{"$f":"IF(Eingabe!O22=\"\",0,1)","v":0},254,2,null,{"$f":"IF(Eingabe!$E22=\"E\",1,\"\")","v":""},{"$f":"IF(Eingabe!$E22=\"S\",1,\"\")","v":""},{"$f":"IF(Eingabe!$E22=\"V\",1,\"\")","v":""},{"$f":"IF(Eingabe!$E22=\"SV\",1,\"\")","v":""},0]
[3,{"$f":"IF(N19=1,Eingabe!B23,\"\")","v":""},null,null,{"$f":"IF(N19=1,Eingabe!D23,\"\")","v":""},{"$f":"IF(N19=1,Eingabe!E23,\"\")","v":""},{"$f":"IF(N19=1,Eingabe!N23,\"\")","v":""},{"$f":"IF(N19=1,Eingabe!O23,\"\")","v":""},null,"","",null,null,0,{"$f":"IF(Eingabe!O23=\"\",0,1)","v":0},254,3,null,{"$f":"IF(Eingabe!$E23=\"E\",1,\"\")","v":""},{"$f":"IF(Eingabe!$E23=\"S\",1,\"\")","v":""},{"$f":"IF(Eingabe!$E23=\"V\",1,\"\")","v":""},{"$f":"IF(Eingabe!$E23=\"SV\",1,\"\")","v":""},0,null,null,"                                                                                                                                                                                                                                                                                                                                                                                                                                                                                                                                                   "]
[4,{"$f":"IF(N20=1,Eingabe!B24,\"\")","v":""},null,null,{"$f":"IF(N20=1,Eingabe!D24,\"\")","v":""},{"$f":"IF(N20=1,Eingabe!E24,\"\")","v":""},{"$f":"IF(N20=1,Eingabe!N24,\"\")","v":""},{"$f":"IF(N20=1,Eingabe!O24,\"\")","v":""},null,"","",null,null,0,{"$f":"IF(Eingabe!O24=\"\",0,1)","v":0},254,4,null,{"$f":"IF(Eingabe!$E24=\"E\",1,\"\")","v":""},{"$f":"IF(Eingabe!$E24=\"S\",1,\"\")","v":""},{"$f":"IF(Eingabe!$E24=\"V\",1,\"\")","v":""},{"$f":"IF(Eingabe!$E24=\"SV\",1,\"\")","v":""},0]
[5,{"$f":"IF(N21=1,Eingabe!B25,\"\")","v":""},null,null,{"$f":"IF(N21=1,Eingabe!D25,\"\")","v":""},{"$f":"IF(N21=1,Eingabe!E25,\"\")","v":""},{"$f":"IF(N21=1,Eingabe!N25,\"\")","v":""},{"$f":"IF(N21=1,Eingabe!O25,\"\")","v":""},null,"","",null,null,0,{"$f":"IF(Eingabe!O25=\"\",0,1)","v":0},254,5,null,{"$f":"IF(Eingabe!$E25=\"E\",1,\"\")","v":""},{"$f":"IF(Eingabe!$E25=\"S\",1,\"\")","v":""},{"$f":"IF(Eingabe!$E25=\"V\",1,\"\")","v":""},{"$f":"IF(Eingabe!$E25=\"SV\",1,\"\")","v":""},0]
[6,{"$f":"IF(N22=1,Eingabe!B26,\"\")","v":""},null,null,{"$f":"IF(N22=1,Eingabe!D26,\"\")","v":""},{"$f":"IF(N22=1,Eingabe!E26,\"\")","v":""},{"$f":"IF(N22=1,Eingabe!N26,\"\")","v":""},{"$f":"IF(N22=1,Eingabe!O26,\"\")","v":""},null,"","",null,null,0,{"$f":"IF(Eingabe!O26=\"\",0,1)","v":0},254,6,null,{"$f":"IF(Eingabe!$E26=\"E\",1,\"\")","v":""},{"$f":"IF(Eingabe!$E26=\"S\",1,\"\")","v":""},{"$f":"IF(Eingabe!$E26=\"V\",1,\"\")","v":""},{"$f":"IF(Eingabe!$E26=\"SV\",1,\"\")","v":""},0]
[7,{"$f":"IF(N23=1,Eingabe!B27,\"\")","v":""},null,null,{"$f":"IF(N23=1,Eingabe!D27,\"\")","v":""},{"$f":"IF(N23=1,Eingabe!E27,\"\")","v":""},{"$f":"IF(N23=1,Eingabe!N27,\"\")","v":""},{"$f":"IF(N23=1,Eingabe!O27,\"\")","v":""},null,"","",null,null,0,{"$f":"IF(Eingabe!O27=\"\",0,1)","v":0},254,7,null,{"$f":"IF(Eingabe!$E27=\"E\",1,\"\")","v":""},{"$f":"IF(Eingabe!$E27=\"S\",1,\"\")","v":""},{"$f":"IF(Eingabe!$E27=\"V\",1,\"\")","v":""},{"$f":"IF(Eingabe!$E27=\"SV\",1,\"\")","v":""},0]
[8,{"$f":"IF(N24=1,Eingabe!B28,\"\")","v":""},null,null,{"$f":"IF(N24=1,Eingabe!D28,\"\")","v":""},{"$f":"IF(N24=1,Eingabe!E28,\"\")","v":""},{"$f":"IF(N24=1,Eingabe!N28,\"\")","v":""},{"$f":"IF(N24=1,Eingabe!O28,\"\")","v":""},null,"","",null,null,0,{"$f":"IF(Eingabe!O28=\"\",0,1)","v":0},254,8,null,{"$f":"IF(Eingabe!$E28=\"E\",1,\"\")","v":""},{"$f":"IF(Eingabe!$E28=\"S\",1,\"\")","v":""},{"$f":"IF(Eingabe!$E28=\"V\",1,\"\")","v":""},{"$f":"IF(Eingabe!$E28=\"SV\",1,\"\")","v":""},0]
[9,{"$f":"IF(N25=1,Eingabe!B29,\"\")","v":""},null,null,{"$f":"IF(N25=1,Eingabe!D29,\"\")","v":""},{"$f":"IF(N25=1,Eingabe!E29,\"\")","v":""},{"$f":"IF(N25=1,Eingabe!N29,\"\")","v":""},{"$f":"IF(N25=1,Eingabe!O29,\"\")","v":""},null,"","",null,null,0,{"$f":"IF(Eingabe!O29=\"\",0,1)","v":0},254,9,null,{"$f":"IF(Eingabe!$E29=\"E\",1,\"\")","v":""},{"$f":"IF(Eingabe!$E29=\"S\",1,\"\")","v":""},{"$f":"IF(Eingabe!$E29=\"V\",1,\"\")","v":""},{"$f":"IF(Eingabe!$E29=\"SV\",1,\"\")","v":""},0]
[10,{"$f":"IF(N26=1,Eingabe!B30,\"\")","v":""},null,null,{"$f":"IF(N26=1,Eingabe!D30,\"\")","v":""},{"$f":"IF(N26=1,Eingabe!E30,\"\")","v":""},{"$f":"IF(N26=1,Eingabe!N30,\"\")","v":""},{"$f":"IF(N26=1,Eingabe!O30,\"\")","v":""},null,"","",null,null,0,{"$f":"IF(Eingabe!O30=\"\",0,1)","v":0},254,10,null,{"$f":"IF(Eingabe!$E30=\"E\",1,\"\")","v":""},{"$f":"IF(Eingabe!$E30=\"S\",1,\"\")","v":""},{"$f":"IF(Eingabe!$E30=\"V\",1,\"\")","v":""},{"$f":"IF(Eingabe!$E30=\"SV\",1,\"\")","v":""},0]
[11,{"$f":"IF(N27=1,Eingabe!B31,\"\")","v":""},null,null,{"$f":"IF(N27=1,Eingabe!D31,\"\")","v":""},{"$f":"IF(N27=1,Eingabe!E31,\"\")","v":""},{"$f":"IF(N27=1,Eingabe!N31,\"\")","v":""},{"$f":"IF(N27=1,Eingabe!O31,\"\")","v":""},null,"","",null,null,0,{"$f":"IF(Eingabe!O31=\"\",0,1)","v":0},254,11,null,{"$f":"IF(Eingabe!$E31=\"E\",1,\"\")","v":""},{"$f":"IF(Eingabe!$E31=\"S\",1,\"\")","v":""},{"$f":"IF(Eingabe!$E31=\"V\",1,\"\")","v":""},{"$f":"IF(Eingabe!$E31=\"SV\",1,\"\")","v":""},0]
[12,{"$f":"IF(N28=1,Eingabe!B32,\"\")","v":""},null,null,{"$f":"IF(N28=1,Eingabe!D32,\"\")","v":""},{"$f":"IF(N28=1,Eingabe!E32,\"\")","v":""},{"$f":"IF(N28=1,Eingabe!N32,\"\")","v":""},{"$f":"IF(N28=1,Eingabe!O32,\"\")","v":""},null,"","",null,null,0,{"$f":"IF(Eingabe!O32=\"\",0,1)","v":0},254,12,null,{"$f":"IF(Eingabe!$E32=\"E\",1,\"\")","v":""},{"$f":"IF(Eingabe!$E32=\"S\",1,\"\")","v":""},{"$f":"IF(Eingabe!$E32=\"V\",1,\"\")","v":""},{"$f":"IF(Eingabe!$E32=\"SV\",1,\"\")","v":""},0]
[13,{"$f":"IF(N29=1,Eingabe!B33,\"\")","v":""},null,null,{"$f":"IF(N29=1,Eingabe!D33,\"\")","v":""},{"$f":"IF(N29=1,Eingabe!E33,\"\")","v":""},{"$f":"IF(N29=1,Eingabe!N33,\"\")","v":""},{"$f":"IF(N29=1,Eingabe!O33,\"\")","v":""},null,"","",null,{"$f":"IF(O29=1,1,\"\")","v":""},0,{"$f":"IF(Eingabe!O33=\"\",0,1)","v":0},254,13,null,{"$f":"IF(Eingabe!$E33=\"E\",1,\"\")","v":""},{"$f":"IF(Eingabe!$E33=\"S\",1,\"\")","v":""},{"$f":"IF(Eingabe!$E33=\"V\",1,\"\")","v":""},{"$f":"IF(Eingabe!$E33=\"SV\",1,\"\")","v":""},0]
[14,{"$f":"IF(N30=1,Eingabe!B34,\"\")","v":""},null,null,{"$f":"IF(N30=1,Eingabe!D34,\"\")","v":""},{"$f":"IF(N30=1,Eingabe!E34,\"\")","v":""},{"$f":"IF(N30=1,Eingabe!N34,\"\")","v":""},{"$f":"IF(N30=1,Eingabe!O34,\"\")","v":""},null,"","",null,"",0,{"$f":"IF(Eingabe!O34=\"\",0,1)","v":0},254,14,null,{"$f":"IF(Eingabe!$E34=\"E\",1,\"\")","v":""},{"$f":"IF(Eingabe!$E34=\"S\",1,\"\")","v":""},{"$f":"IF(Eingabe!$E34=\"V\",1,\"\")","v":""},{"$f":"IF(Eingabe!$E34=\"SV\",1,\"\")","v":""},0]
[15,{"$f":"IF(N31=1,Eingabe!B35,\"\")","v":""},null,null,{"$f":"IF(N31=1,Eingabe!D35,\"\")","v":""},{"$f":"IF(N31=1,Eingabe!E35,\"\")","v":""},{"$f":"IF(N31=1,Eingabe!N35,\"\")","v":""},{"$f":"IF(N31=1,Eingabe!O35,\"\")","v":""},null,"","",null,"",0,{"$f":"IF(Eingabe!O35=\"\",0,1)","v":0},254,15,null,{"$f":"IF(Eingabe!$E35=\"E\",1,\"\")","v":""},{"$f":"IF(Eingabe!$E35=\"S\",1,\"\")","v":""},{"$f":"IF(Eingabe!$E35=\"V\",1,\"\")","v":""},{"$f":"IF(Eingabe!$E35=\"SV\",1,\"\")","v":""},0]
[16,{"$f":"IF(N32=1,Eingabe!B36,\"\")","v":""},null,null,{"$f":"IF(N32=1,Eingabe!D36,\"\")","v":""},{"$f":"IF(N32=1,Eingabe!E36,\"\")","v":""},{"$f":"IF(N32=1,Eingabe!N36,\"\")","v":""},{"$f":"IF(N32=1,Eingabe!O36,\"\")","v":""},null,"","",null,"",0,{"$f":"IF(Eingabe!O36=\"\",0,1)","v":0},254,16,null,{"$f":"IF(Eingabe!$E36=\"E\",1,\"\")","v":""},{"$f":"IF(Eingabe!$E36=\"S\",1,\"\")","v":""},{"$f":"IF(Eingabe!$E36=\"V\",1,\"\")","v":""},{"$f":"IF(Eingabe!$E36=\"SV\",1,\"\")","v":""},0]
[17,{"$f":"IF(N33=1,Eingabe!B37,\"\")","v":""},null,null,{"$f":"IF(N33=1,Eingabe!D37,\"\")","v":""},{"$f":"IF(N33=1,Eingabe!E37,\"\")","v":""},{"$f":"IF(N33=1,Eingabe!N37,\"\")","v":""},{"$f":"IF(N33=1,Eingabe!O37,\"\")","v":""},null,"","",null,"",0,{"$f":"IF(Eingabe!O37=\"\",0,1)","v":0},254,17,null,{"$f":"IF(Eingabe!$E37=\"E\",1,\"\")","v":""},{"$f":"IF(Eingabe!$E37=\"S\",1,\"\")","v":""},{"$f":"IF(Eingabe!$E37=\"V\",1,\"\")","v":""},{"$f":"IF(Eingabe!$E37=\"SV\",1,\"\")","v":""},0]
[18,{"$f":"IF(N34=1,Eingabe!B38,\"\")","v":""},null,null,{"$f":"IF(N34=1,Eingabe!D38,\"\")","v":""},{"$f":"IF(N34=1,Eingabe!E38,\"\")","v":""},{"$f":"IF(N34=1,Eingabe!N38,\"\")","v":""},{"$f":"IF(N34=1,Eingabe!O38,\"\")","v":""},null,"","",null,"",0,{"$f":"IF(Eingabe!O38=\"\",0,1)","v":0},254,18,null,{"$f":"IF(Eingabe!$E38=\"E\",1,\"\")","v":""},{"$f":"IF(Eingabe!$E38=\"S\",1,\"\")","v":""},{"$f":"IF(Eingabe!$E38=\"V\",1,\"\")","v":""},{"$f":"IF(Eingabe!$E38=\"SV\",1,\"\")","v":""},0]
[19,{"$f":"IF(N35=1,Eingabe!B39,\"\")","v":""},null,null,{"$f":"IF(N35=1,Eingabe!D39,\"\")","v":""},{"$f":"IF(N35=1,Eingabe!E39,\"\")","v":""},{"$f":"IF(N35=1,Eingabe!N39,\"\")","v":""},{"$f":"IF(N35=1,Eingabe!O39,\"\")","v":""},null,"","",null,"",0,{"$f":"IF(Eingabe!O39=\"\",0,1)","v":0},254,19,null,{"$f":"IF(Eingabe!$E39=\"E\",1,\"\")","v":""},{"$f":"IF(Eingabe!$E39=\"S\",1,\"\")","v":""},{"$f":"IF(Eingabe!$E39=\"V\",1,\"\")","v":""},{"$f":"IF(Eingabe!$E39=\"SV\",1,\"\")","v":""},0]
[20,{"$f":"IF(N36=1,Eingabe!B40,\"\")","v":""},null,null,{"$f":"IF(N36=1,Eingabe!D40,\"\")","v":""},{"$f":"IF(N36=1,Eingabe!E40,\"\")","v":""},{"$f":"IF(N36=1,Eingabe!N40,\"\")","v":""},{"$f":"IF(N36=1,Eingabe!O40,\"\")","v":""},null,"","",null,"",0,{"$f":"IF(Eingabe!O40=\"\",0,1)","v":0},254,20,null,{"$f":"IF(Eingabe!$E40=\"E\",1,\"\")","v":""},{"$f":"IF(Eingabe!$E40=\"S\",1,\"\")","v":""},{"$f":"IF(Eingabe!$E40=\"V\",1,\"\")","v":""},{"$f":"IF(Eingabe!$E40=\"SV\",1,\"\")","v":""},0]
[21,{"$f":"IF(N37=1,Eingabe!B41,\"\")","v":""},null,null,{"$f":"IF(N37=1,Eingabe!D41,\"\")","v":""},{"$f":"IF(N37=1,Eingabe!E41,\"\")","v":""},{"$f":"IF(N37=1,Eingabe!N41,\"\")","v":""},{"$f":"IF(N37=1,Eingabe!O41,\"\")","v":""},null,"","",null,"",0,{"$f":"IF(Eingabe!O41=\"\",0,1)","v":0},254,21,null,{"$f":"IF(Eingabe!$E41=\"E\",1,\"\")","v":""},{"$f":"IF(Eingabe!$E41=\"S\",1,\"\")","v":""},{"$f":"IF(Eingabe!$E41=\"V\",1,\"\")","v":""},{"$f":"IF(Eingabe!$E41=\"SV\",1,\"\")","v":""},0]
[22,{"$f":"IF(N38=1,Eingabe!B42,\"\")","v":""},null,null,{"$f":"IF(N38=1,Eingabe!D42,\"\")","v":""},{"$f":"IF(N38=1,Eingabe!E42,\"\")","v":""},{"$f":"IF(N38=1,Eingabe!N42,\"\")","v":""},{"$f":"IF(N38=1,Eingabe!O42,\"\")","v":""},null,"","",null,"",0,{"$f":"IF(Eingabe!O42=\"\",0,1)","v":0},254,22,null,{"$f":"IF(Eingabe!$E42=\"E\",1,\"\")","v":""},{"$f":"IF(Eingabe!$E42=\"S\",1,\"\")","v":""},{"$f":"IF(Eingabe!$E42=\"V\",1,\"\")","v":""},{"$f":"IF(Eingabe!$E42=\"SV\",1,\"\")","v":""},0]
[23,{"$f":"IF(N39=1,Eingabe!B43,\"\")","v":""},null,null,{"$f":"IF(N39=1,Eingabe!D43,\"\")","v":""},{"$f":"IF(N39=1,Eingabe!E43,\"\")","v":""},{"$f":"IF(N39=1,Eingabe!N43,\"\")","v":""},{"$f":"IF(N39=1,Eingabe!O43,\"\")","v":""},null,"","",null,"",0,{"$f":"IF(Eingabe!O43=\"\",0,1)","v":0},254,23,null,{"$f":"IF(Eingabe!$E43=\"E\",1,\"\")","v":""},{"$f":"IF(Eingabe!$E43=\"S\",1,\"\")","v":""},{"$f":"IF(Eingabe!$E43=\"V\",1,\"\")","v":""},{"$f":"IF(Eingabe!$E43=\"SV\",1,\"\")","v":""},0]
[24,{"$f":"IF(N40=1,Eingabe!B44,\"\")","v":""},null,null,{"$f":"IF(N40=1,Eingabe!D44,\"\")","v":""},{"$f":"IF(N40=1,Eingabe!E44,\"\")","v":""},{"$f":"IF(N40=1,Eingabe!N44,\"\")","v":""},{"$f":"IF(N40=1,Eingabe!O44,\"\")","v":""},null,"","",null,"",0,{"$f":"IF(Eingabe!O44=\"\",0,1)","v":0},254,24,null,{"$f":"IF(Eingabe!$E44=\"E\",1,\"\")","v":""},{"$f":"IF(Eingabe!$E44=\"S\",1,\"\")","v":""},{"$f":"IF(Eingabe!$E44=\"V\",1,\"\")","v":""},{"$f":"IF(Eingabe!$E44=\"SV\",1,\"\")","v":""},0]
[25,{"$f":"IF(N41=1,Eingabe!B45,\"\")","v":""},null,null,{"$f":"IF(N41=1,Eingabe!D45,\"\")","v":""},{"$f":"IF(N41=1,Eingabe!E45,\"\")","v":""},{"$f":"IF(N41=1,Eingabe!N45,\"\")","v":""},{"$f":"IF(N41=1,Eingabe!O45,\"\")","v":""},null,"","",null,"",0,{"$f":"IF(Eingabe!O45=\"\",0,1)","v":0},254,25,null,{"$f":"IF(Eingabe!$E45=\"E\",1,\"\")","v":""},{"$f":"IF(Eingabe!$E45=\"S\",1,\"\")","v":""},{"$f":"IF(Eingabe!$E45=\"V\",1,\"\")","v":""},{"$f":"IF(Eingabe!$E45=\"SV\",1,\"\")","v":""},0]
[26,{"$f":"IF(N42=1,Eingabe!B46,\"\")","v":""},null,null,{"$f":"IF(N42=1,Eingabe!D46,\"\")","v":""},{"$f":"IF(N42=1,Eingabe!E46,\"\")","v":""},{"$f":"IF(N42=1,Eingabe!N46,\"\")","v":""},{"$f":"IF(N42=1,Eingabe!O46,\"\")","v":""},null,"","",null,"",0,{"$f":"IF(Eingabe!O46=\"\",0,1)","v":0},254,26,null,{"$f":"IF(Eingabe!$E46=\"E\",1,\"\")","v":""},{"$f":"IF(Eingabe!$E46=\"S\",1,\"\")","v":""},{"$f":"IF(Eingabe!$E46=\"V\",1,\"\")","v":""},{"$f":"IF(Eingabe!$E46=\"SV\",1,\"\")","v":""},0]
[27,{"$f":"IF(N43=1,Eingabe!B47,\"\")","v":""},null,null,{"$f":"IF(N43=1,Eingabe!D47,\"\")","v":""},{"$f":"IF(N43=1,Eingabe!E47,\"\")","v":""},{"$f":"IF(N43=1,Eingabe!N47,\"\")","v":""},{"$f":"IF(N43=1,Eingabe!O47,\"\")","v":""},null,"","",null,"",0,{"$f":"IF(Eingabe!O47=\"\",0,1)","v":0},254,27,null,{"$f":"IF(Eingabe!$E47=\"E\",1,\"\")","v":""},{"$f":"IF(Eingabe!$E47=\"S\",1,\"\")","v":""},{"$f":"IF(Eingabe!$E47=\"V\",1,\"\")","v":""},{"$f":"IF(Eingabe!$E47=\"SV\",1,\"\")","v":""},0]
[28,{"$f":"IF(N44=1,Eingabe!B48,\"\")","v":""},null,null,{"$f":"IF(N44=1,Eingabe!D48,\"\")","v":""},{"$f":"IF(N44=1,Eingabe!E48,\"\")","v":""},{"$f":"IF(N44=1,Eingabe!N48,\"\")","v":""},{"$f":"IF(N44=1,Eingabe!O48,\"\")","v":""},null,"","",null,"",0,{"$f":"IF(Eingabe!O48=\"\",0,1)","v":0},254,28,null,{"$f":"IF(Eingabe!$E48=\"E\",1,\"\")","v":""},{"$f":"IF(Eingabe!$E48=\"S\",1,\"\")","v":""},{"$f":"IF(Eingabe!$E48=\"V\",1,\"\")","v":""},{"$f":"IF(Eingabe!$E48=\"SV\",1,\"\")","v":""},0]
[29,{"$f":"IF(N45=1,Eingabe!B49,\"\")","v":""},null,null,{"$f":"IF(N45=1,Eingabe!D49,\"\")","v":""},{"$f":"IF(N45=1,Eingabe!E49,\"\")","v":""},{"$f":"IF(N45=1,Eingabe!N49,\"\")","v":""},{"$f":"IF(N45=1,Eingabe!O49,\"\")","v":""},null,"","",null,"",0,{"$f":"IF(Eingabe!O49=\"\",0,1)","v":0},254,29,null,{"$f":"IF(Eingabe!$E49=\"E\",1,\"\")","v":""},{"$f":"IF(Eingabe!$E49=\"S\",1,\"\")","v":""},{"$f":"IF(Eingabe!$E49=\"V\",1,\"\")","v":""},{"$f":"IF(Eingabe!$E49=\"SV\",1,\"\")","v":""},0]
[30,{"$f":"IF(N46=1,Eingabe!B50,\"\")","v":""},null,null,{"$f":"IF(N46=1,Eingabe!D50,\"\")","v":""},{"$f":"IF(N46=1,Eingabe!E50,\"\")","v":""},{"$f":"IF(N46=1,Eingabe!N50,\"\")","v":""},{"$f":"IF(N46=1,Eingabe!O50,\"\")","v":""},null,"","",null,"",0,{"$f":"IF(Eingabe!O50=\"\",0,1)","v":0},254,30,null,{"$f":"IF(Eingabe!$E50=\"E\",1,\"\")","v":""},{"$f":"IF(Eingabe!$E50=\"S\",1,\"\")","v":""},{"$f":"IF(Eingabe!$E50=\"V\",1,\"\")","v":""},{"$f":"IF(Eingabe!$E50=\"SV\",1,\"\")","v":""},0]
[31,{"$f":"IF(N47=1,Eingabe!B51,\"\")","v":""},null,null,{"$f":"IF(N47=1,Eingabe!D51,\"\")","v":""},{"$f":"IF(N47=1,Eingabe!E51,\"\")","v":""},{"$f":"IF(N47=1,Eingabe!N51,\"\")","v":""},{"$f":"IF(N47=1,Eingabe!O51,\"\")","v":""},null,"","",null,"",0,{"$f":"IF(Eingabe!O51=\"\",0,1)","v":0},254,31,null,{"$f":"IF(Eingabe!$E51=\"E\",1,\"\")","v":""},{"$f":"IF(Eingabe!$E51=\"S\",1,\"\")","v":""},{"$f":"IF(Eingabe!$E51=\"V\",1,\"\")","v":""},{"$f":"IF(Eingabe!$E51=\"SV\",1,\"\")","v":""},0]
[32,{"$f":"IF(N48=1,Eingabe!B52,\"\")","v":""},null,null,{"$f":"IF(N48=1,Eingabe!D52,\"\")","v":""},{"$f":"IF(N48=1,Eingabe!E52,\"\")","v":""},{"$f":"IF(N48=1,Eingabe!N52,\"\")","v":""},{"$f":"IF(N48=1,Eingabe!O52,\"\")","v":""},null,"","",null,"",0,{"$f":"IF(Eingabe!O52=\"\",0,1)","v":0},254,32,null,{"$f":"IF(Eingabe!$E52=\"E\",1,\"\")","v":""},{"$f":"IF(Eingabe!$E52=\"S\",1,\"\")","v":""},{"$f":"IF(Eingabe!$E52=\"V\",1,\"\")","v":""},{"$f":"IF(Eingabe!$E52=\"SV\",1,\"\")","v":""},0]
[33,{"$f":"IF(N49=1,Eingabe!B53,\"\")","v":""},null,null,{"$f":"IF(N49=1,Eingabe!D53,\"\")","v":""},{"$f":"IF(N49=1,Eingabe!E53,\"\")","v":""},{"$f":"IF(N49=1,Eingabe!N53,\"\")","v":""},{"$f":"IF(N49=1,Eingabe!O53,\"\")","v":""},null,"","",null,"",0,{"$f":"IF(Eingabe!O53=\"\",0,1)","v":0},254,33,null,{"$f":"IF(Eingabe!$E53=\"E\",1,\"\")","v":""},{"$f":"IF(Eingabe!$E53=\"S\",1,\"\")","v":""},{"$f":"IF(Eingabe!$E53=\"V\",1,\"\")","v":""},{"$f":"IF(Eingabe!$E53=\"SV\",1,\"\")","v":""},0]
[34,{"$f":"IF(N50=1,Eingabe!B54,\"\")","v":""},null,null,{"$f":"IF(N50=1,Eingabe!D54,\"\")","v":""},{"$f":"IF(N50=1,Eingabe!E54,\"\")","v":""},{"$f":"IF(N50=1,Eingabe!N54,\"\")","v":""},{"$f":"IF(N50=1,Eingabe!O54,\"\")","v":""},null,"","",null,"",0,{"$f":"IF(Eingabe!O54=\"\",0,1)","v":0},254,34,null,{"$f":"IF(Eingabe!$E54=\"E\",1,\"\")","v":""},{"$f":"IF(Eingabe!$E54=\"S\",1,\"\")","v":""},{"$f":"IF(Eingabe!$E54=\"V\",1,\"\")","v":""},{"$f":"IF(Eingabe!$E54=\"SV\",1,\"\")","v":""},0]
[35,{"$f":"IF(N51=1,Eingabe!B55,\"\")","v":""},null,null,{"$f":"IF(N51=1,Eingabe!D55,\"\")","v":""},{"$f":"IF(N51=1,Eingabe!E55,\"\")","v":""},{"$f":"IF(N51=1,Eingabe!N55,\"\")","v":""},{"$f":"IF(N51=1,Eingabe!O55,\"\")","v":""},null,"","",null,"",0,{"$f":"IF(Eingabe!O55=\"\",0,1)","v":0},254,35,null,{"$f":"IF(Eingabe!$E55=\"E\",1,\"\")","v":""},{"$f":"IF(Eingabe!$E55=\"S\",1,\"\")","v":""},{"$f":"IF(Eingabe!$E55=\"V\",1,\"\")","v":""},{"$f":"IF(Eingabe!$E55=\"SV\",1,\"\")","v":""},0]
[36,{"$f":"IF(N52=1,Eingabe!B56,\"\")","v":""},null,null,{"$f":"IF(N52=1,Eingabe!D56,\"\")","v":""},{"$f":"IF(N52=1,Eingabe!E56,\"\")","v":""},{"$f":"IF(N52=1,Eingabe!N56,\"\")","v":""},{"$f":"IF(N52=1,Eingabe!O56,\"\")","v":""},null,"","",null,"",0,{"$f":"IF(Eingabe!O56=\"\",0,1)","v":0},254,36,null,{"$f":"IF(Eingabe!$E56=\"E\",1,\"\")","v":""},{"$f":"IF(Eingabe!$E56=\"S\",1,\"\")","v":""},{"$f":"IF(Eingabe!$E56=\"V\",1,\"\")","v":""},{"$f":"IF(Eingabe!$E56=\"SV\",1,\"\")","v":""},0]
[37,{"$f":"IF(N53=1,Eingabe!B57,\"\")","v":""},null,null,{"$f":"IF(N53=1,Eingabe!D57,\"\")","v":""},{"$f":"IF(N53=1,Eingabe!E57,\"\")","v":""},{"$f":"IF(N53=1,Eingabe!N57,\"\")","v":""},{"$f":"IF(N53=1,Eingabe!O57,\"\")","v":""},null,"","",null,"",0,{"$f":"IF(Eingabe!O57=\"\",0,1)","v":0},254,37,null,{"$f":"IF(Eingabe!$E57=\"E\",1,\"\")","v":""},{"$f":"IF(Eingabe!$E57=\"S\",1,\"\")","v":""},{"$f":"IF(Eingabe!$E57=\"V\",1,\"\")","v":""},{"$f":"IF(Eingabe!$E57=\"SV\",1,\"\")","v":""},0]
[38,{"$f":"IF(N54=1,Eingabe!B58,\"\")","v":""},null,null,{"$f":"IF(N54=1,Eingabe!D58,\"\")","v":""},{"$f":"IF(N54=1,Eingabe!E58,\"\")","v":""},{"$f":"IF(N54=1,Eingabe!N58,\"\")","v":""},{"$f":"IF(N54=1,Eingabe!O58,\"\")","v":""},null,"","",null,"",0,{"$f":"IF(Eingabe!O58=\"\",0,1)","v":0},254,38,null,{"$f":"IF(Eingabe!$E58=\"E\",1,\"\")","v":""},{"$f":"IF(Eingabe!$E58=\"S\",1,\"\")","v":""},{"$f":"IF(Eingabe!$E58=\"V\",1,\"\")","v":""},{"$f":"IF(Eingabe!$E58=\"SV\",1,\"\")","v":""},0]
[39,{"$f":"IF(N55=1,Eingabe!B59,\"\")","v":""},null,null,{"$f":"IF(N55=1,Eingabe!D59,\"\")","v":""},{"$f":"IF(N55=1,Eingabe!E59,\"\")","v":""},{"$f":"IF(N55=1,Eingabe!N59,\"\")","v":""},{"$f":"IF(N55=1,Eingabe!O59,\"\")","v":""},null,"","",null,"",0,{"$f":"IF(Eingabe!O59=\"\",0,1)","v":0},254,39,null,{"$f":"IF(Eingabe!$E59=\"E\",1,\"\")","v":""},{"$f":"IF(Eingabe!$E59=\"S\",1,\"\")","v":""},{"$f":"IF(Eingabe!$E59=\"V\",1,\"\")","v":""},{"$f":"IF(Eingabe!$E59=\"SV\",1,\"\")","v":""},0]
[40,{"$f":"IF(N56=1,Eingabe!B60,\"\")","v":""},null,null,{"$f":"IF(N56=1,Eingabe!D60,\"\")","v":""},{"$f":"IF(N56=1,Eingabe!E60,\"\")","v":""},{"$f":"IF(N56=1,Eingabe!N60,\"\")","v":""},{"$f":"IF(N56=1,Eingabe!O60,\"\")","v":""},null,"","",null,"",0,{"$f":"IF(Eingabe!O60=\"\",0,1)","v":0},254,40,null,{"$f":"IF(Eingabe!$E60=\"E\",1,\"\")","v":""},{"$f":"IF(Eingabe!$E60=\"S\",1,\"\")","v":""},{"$f":"IF(Eingabe!$E60=\"V\",1,\"\")","v":""},{"$f":"IF(Eingabe!$E60=\"SV\",1,\"\")","v":""},0]
[null,null,null,null,null,null,null,null,null,null,null,null,null,null,null,{"$f":"IF(F57=\"E\",$Q$9,IF(F57=\"V\",$Q$11,IF(F57=\"U21\",$Q$8,IF(F57=\"S\",$Q$10,IF(F57=\"SV\",$Q$12,IF(F57=\"U15\",$Q$5,IF(F57=\"U17\",$Q$6,IF(F57=\"U19\",$Q$7,\"\"))))))))","v":""}]
["RANGLISTE Senioren/ VETERANEN/ SENIORVETERANEN"]
["Rang","Name + Vorname",null,null,"Jahrgang \n(JJJJ)","E / V / J","Liegend Total","Liegend/ Kniend Total","Kniend Total\nfreiwillig","Gesamttotal","Prämienkarten",null,null,"J Rangliste?","Geschossen","Auszeichnungslimite","Sortierung",null,null,"Senior","Veteran","Seniorveteran","Summe"]
[1,{"$f":"IF(N60=1,Eingabe!B21,\"\")","v":""},null,null,{"$f":"IF(N60=1,Eingabe!D21,\"\")","v":""},{"$f":"IF(N60=1,Eingabe!E21,\"\")","v":""},{"$f":"IF(N60=1,Eingabe!N21,\"\")","v":""},{"$f":"IF(N60=1,Eingabe!O21,\"\")","v":""},null,{"$f":"IF(N60=1,SUM(G60:H60),\"\")","v":""},{"$f":"IF(AND(N60=1,J60>=P60),1,IF(AND(O60=1,J60<P60),0,\"\"))","v":""},null,null,{"$f":"IF(AND(O60=1,W60=1),1,0)","v":0},{"$f":"IF(Eingabe!O21=\"\",0,1)","v":0},{"$f":"IF(AND(O60=1,F60=\"SV\"),$Q$12,IF(AND(O60=1,F60=\"S\"),$Q$10,IF(AND(O60=1,F60=\"V\"),$Q$11,\"\")))","v":""},1,null,null,{"$f":"IF(Eingabe!E21=\"S\",1,\"\")","v":""},{"$f":"IF(Eingabe!E21=\"V\",1,\"\")","v":""},{"$f":"IF(Eingabe!E21=\"SV\",1,\"\")","v":""},{"$f":"SUM(T60:V60)","v":0}]
[2,{"$f":"IF(N61=1,Eingabe!B22,\"\")","v":""},null,null,{"$f":"IF(N61=1,Eingabe!D22,\"\")","v":""},{"$f":"IF(N61=1,Eingabe!E22,\"\")","v":""},{"$f":"IF(N61=1,Eingabe!N22,\"\")","v":""},{"$f":"IF(N61=1,Eingabe!O22,\"\")","v":""},null,"","",null,null,0,{"$f":"IF(Eingabe!O22=\"\",0,1)","v":0},"",2,null,null,{"$f":"IF(Eingabe!E22=\"S\",1,\"\")","v":""},{"$f":"IF(Eingabe!E22=\"V\",1,\"\")","v":""},{"$f":"IF(Eingabe!E22=\"SV\",1,\"\")","v":""},0]
[3,{"$f":"IF(N62=1,Eingabe!B23,\"\")","v":""},null,null,{"$f":"IF(N62=1,Eingabe!D23,\"\")","v":""},{"$f":"IF(N62=1,Eingabe!E23,\"\")","v":""},{"$f":"IF(N62=1,Eingabe!N23,\"\")","v":""},{"$f":"IF(N62=1,Eingabe!O23,\"\")","v":""},null,"","",null,null,0,{"$f":"IF(Eingabe!O23=\"\",0,1)","v":0},"",3,null,null,{"$f":"IF(Eingabe!E23=\"S\",1,\"\")","v":""},{"$f":"IF(Eingabe!E23=\"V\",1,\"\")","v":""},{"$f":"IF(Eingabe!E23=\"SV\",1,\"\")","v":""},0]
[4,{"$f":"IF(N63=1,Eingabe!B24,\"\")","v":""},null,null,{"$f":"IF(N63=1,Eingabe!D24,\"\")","v":""},{"$f":"IF(N63=1,Eingabe!E24,\"\")","v":""},{"$f":"IF(N63=1,Eingabe!N24,\"\")","v":""},{"$f":"IF(N63=1,Eingabe!O24,\"\")","v":""},null,"","",null,null,0,{"$f":"IF(Eingabe!O24=\"\",0,1)","v":0},"",4,null,null,{"$f":"IF(Eingabe!E24=\"S\",1,\"\")","v":""},{"$f":"IF(Eingabe!E24=\"V\",1,\"\")","v":""},{"$f":"IF(Eingabe!E24=\"SV\",1,\"\")","v":""},0]
[5,{"$f":"IF(N64=1,Eingabe!B25,\"\")","v":""},null,null,{"$f":"IF(N64=1,Eingabe!D25,\"\")","v":""},{"$f":"IF(N64=1,Eingabe!E25,\"\")","v":""},{"$f":"IF(N64=1,Eingabe!N25,\"\")","v":""},{"$f":"IF(N64=1,Eingabe!O25,\"\")","v":""},null,"","",null,null,0,{"$f":"IF(Eingabe!O25=\"\",0,1)","v":0},"",5,null,null,{"$f":"IF(Eingabe!E25=\"S\",1,\"\")","v":""},{"$f":"IF(Eingabe!E25=\"V\",1,\"\")","v":""},{"$f":"IF(Eingabe!E25=\"SV\",1,\"\")","v":""},0]
[6,{"$f":"IF(N65=1,Eingabe!B26,\"\")","v":""},null,null,{"$f":"IF(N65=1,Eingabe!D26,\"\")","v":""},{"$f":"IF(N65=1,Eingabe!E26,\"\")","v":""},{"$f":"IF(N65=1,Eingabe!N26,\"\")","v":""},{"$f":"IF(N65=1,Eingabe!O26,\"\")","v":""},null,"","",null,null,0,{"$f":"IF(Eingabe!O26=\"\",0,1)","v":0},"",6,null,null,{"$f":"IF(Eingabe!E26=\"S\",1,\"\")","v":""},{"$f":"IF(Eingabe!E26=\"V\",1,\"\")","v":""},{"$f":"IF(Eingabe!E26=\"SV\",1,\"\")","v":""},0]
[7,{"$f":"IF(N66=1,Eingabe!B27,\"\")","v":""},null,null,{"$f":"IF(N66=1,Eingabe!D27,\"\")","v":""},{"$f":"IF(N66=1,Eingabe!E27,\"\")","v":""},{"$f":"IF(N66=1,Eingabe!N27,\"\")","v":""},{"$f":"IF(N66=1,Eingabe!O27,\"\")","v":""},null,"","",null,null,0,{"$f":"IF(Eingabe!O27=\"\",0,1)","v":0},"",7,null,null,{"$f":"IF(Eingabe!E27=\"S\",1,\"\")","v":""},{"$f":"IF(Eingabe!E27=\"V\",1,\"\")","v":""},{"$f":"IF(Eingabe!E27=\"SV\",1,\"\")","v":""},0]
[8,{"$f":"IF(N67=1,Eingabe!B28,\"\")","v":""},null,null,{"$f":"IF(N67=1,Eingabe!D28,\"\")","v":""},{"$f":"IF(N67=1,Eingabe!E28,\"\")","v":""},{"$f":"IF(N67=1,Eingabe!N28,\"\")","v":""},{"$f":"IF(N67=1,Eingabe!O28,\"\")","v":""},null,"","",null,null,0,{"$f":"IF(Eingabe!O28=\"\",0,1)","v":0},"",8,null,null,{"$f":"IF(Eingabe!E28=\"S\",1,\"\")","v":""},{"$f":"IF(Eingabe!E28=\"V\",1,\"\")","v":""},{"$f":"IF(Eingabe!E28=\"SV\",1,\"\")","v":""},0]
[9,{"$f":"IF(N68=1,Eingabe!B29,\"\")","v":""},null,null,{"$f":"IF(N68=1,Eingabe!D29,\"\")","v":""},{"$f":"IF(N68=1,Eingabe!E29,\"\")","v":""},{"$f":"IF(N68=1,Eingabe!N29,\"\")","v":""},{"$f":"IF(N68=1,Eingabe!O29,\"\")","v":""},null,"","",null,null,0,{"$f":"IF(Eingabe!O29=\"\",0,1)","v":0},"",9,null,null,{"$f":"IF(Eingabe!E29=\"S\",1,\"\")","v":""},{"$f":"IF(Eingabe!E29=\"V\",1,\"\")","v":""},{"$f":"IF(Eingabe!E29=\"SV\",1,\"\")","v":""},0]
[10,{"$f":"IF(N69=1,Eingabe!B30,\"\")","v":""},null,null,{"$f":"IF(N69=1,Eingabe!D30,\"\")","v":""},{"$f":"IF(N69=1,Eingabe!E30,\"\")","v":""},{"$f":"IF(N69=1,Eingabe!N30,\"\")","v":""},{"$f":"IF(N69=1,Eingabe!O30,\"\")","v":""},null,"","",null,null,0,{"$f":"IF(Eingabe!O30=\"\",0,1)","v":0},"",10,null,null,{"$f":"IF(Eingabe!E30=\"S\",1,\"\")","v":""},{"$f":"IF(Eingabe!E30=\"V\",1,\"\")","v":""},{"$f":"IF(Eingabe!E30=\"SV\",1,\"\")","v":""},0]
[11,{"$f":"IF(N70=1,Eingabe!B31,\"\")","v":""},null,null,{"$f":"IF(N70=1,Eingabe!D31,\"\")","v":""},{"$f":"IF(N70=1,Eingabe!E31,\"\")","v":""},{"$f":"IF(N70=1,Eingabe!N31,\"\")","v":""},{"$f":"IF(N70=1,Eingabe!O31,\"\")","v":""},null,"","",null,null,0,{"$f":"IF(Eingabe!O31=\"\",0,1)","v":0},"",11,null,null,{"$f":"IF(Eingabe!E31=\"S\",1,\"\")","v":""},{"$f":"IF(Eingabe!E31=\"V\",1,\"\")","v":""},{"$f":"IF(Eingabe!E31=\"SV\",1,\"\")","v":""},0]
[12,{"$f":"IF(N71=1,Eingabe!B32,\"\")","v":""},null,null,{"$f":"IF(N71=1,Eingabe!D32,\"\")","v":""},{"$f":"IF(N71=1,Eingabe!E32,\"\")","v":""},{"$f":"IF(N71=1,Eingabe!N32,\"\")","v":""},{"$f":"IF(N71=1,Eingabe!O32,\"\")","v":""},null,"","",null,null,0,{"$f":"IF(Eingabe!O32=\"\",0,1)","v":0},"",12,null,null,{"$f":"IF(Eingabe!E32=\"S\",1,\"\")","v":""},{"$f":"IF(Eingabe!E32=\"V\",1,\"\")","v":""},{"$f":"IF(Eingabe!E32=\"SV\",1,\"\")","v":""},0]
[13,{"$f":"IF(N72=1,Eingabe!B33,\"\")","v":""},null,null,{"$f":"IF(N72=1,Eingabe!D33,\"\")","v":""},{"$f":"IF(N72=1,Eingabe!E33,\"\")","v":""},{"$f":"IF(N72=1,Eingabe!N33,\"\")","v":""},{"$f":"IF(N72=1,Eingabe!O33,\"\")","v":""},null,"","",null,null,0,{"$f":"IF(Eingabe!O33=\"\",0,1)","v":0},"",13,null,null,{"$f":"IF(Eingabe!E33=\"S\",1,\"\")","v":""},{"$f":"IF(Eingabe!E33=\"V\",1,\"\")","v":""},{"$f":"IF(Eingabe!E33=\"SV\",1,\"\")","v":""},0]
[14,{"$f":"IF(N73=1,Eingabe!B34,\"\")","v":""},null,null,{"$f":"IF(N73=1,Eingabe!D34,\"\")","v":""},{"$f":"IF(N73=1,Eingabe!E34,\"\")","v":""},{"$f":"IF(N73=1,Eingabe!N34,\"\")","v":""},{"$f":"IF(N73=1,Eingabe!O34,\"\")","v":""},null,"","",null,null,0,{"$f":"IF(Eingabe!O34=\"\",0,1)","v":0},"",14,null,null,{"$f":"IF(Eingabe!E34=\"S\",1,\"\")","v":""},{"$f":"IF(Eingabe!E34=\"V\",1,\"\")","v":""},{"$f":"IF(Eingabe!E34=\"SV\",1,\"\")","v":""},0]
[15,{"$f":"IF(N74=1,Eingabe!B35,\"\")","v":""},null,null,{"$f":"IF(N74=1,Eingabe!D35,\"\")","v":""},{"$f":"IF(N74=1,Eingabe!E35,\"\")","v":""},{"$f":"IF(N74=1,Eingabe!N35,\"\")","v":""},{"$f":"IF(N74=1,Eingabe!O35,\"\")","v":""},null,"","",null,null,0,{"$f":"IF(Eingabe!O35=\"\",0,1)","v":0},"",15,null,null,{"$f":"IF(Eingabe!E35=\"S\",1,\"\")","v":""},{"$f":"IF(Eingabe!E35=\"V\",1,\"\")","v":""},{"$f":"IF(Eingabe!E35=\"SV\",1,\"\")","v":""},0]
[16,{"$f":"IF(N75=1,Eingabe!B36,\"\")","v":""},null,null,{"$f":"IF(N75=1,Eingabe!D36,\"\")","v":""},{"$f":"IF(N75=1,Eingabe!E36,\"\")","v":""},{"$f":"IF(N75=1,Eingabe!N36,\"\")","v":""},{"$f":"IF(N75=1,Eingabe!O36,\"\")","v":""},null,"","",null,null,0,{"$f":"IF(Eingabe!O36=\"\",0,1)","v":0},"",16,null,null,{"$f":"IF(Eingabe!E36=\"S\",1,\"\")","v":""},{"$f":"IF(Eingabe!E36=\"V\",1,\"\")","v":""},{"$f":"IF(Eingabe!E36=\"SV\",1,\"\")","v":""},0]
[17,{"$f":"IF(N76=1,Eingabe!B37,\"\")","v":""},null,null,{"$f":"IF(N76=1,Eingabe!D37,\"\")","v":""},{"$f":"IF(N76=1,Eingabe!E37,\"\")","v":""},{"$f":"IF(N76=1,Eingabe!N37,\"\")","v":""},{"$f":"IF(N76=1,Eingabe!O37,\"\")","v":""},null,"","",null,null,0,{"$f":"IF(Eingabe!O37=\"\",0,1)","v":0},"",17,null,null,{"$f":"IF(Eingabe!E37=\"S\",1,\"\")","v":""},{"$f":"IF(Eingabe!E37=\"V\",1,\"\")","v":""},{"$f":"IF(Eingabe!E37=\"SV\",1,\"\")","v":""},0]
[18,{"$f":"IF(N77=1,Eingabe!B38,\"\")","v":""},null,null,{"$f":"IF(N77=1,Eingabe!D38,\"\")","v":""},{"$f":"IF(N77=1,Eingabe!E38,\"\")","v":""},{"$f":"IF(N77=1,Eingabe!N38,\"\")","v":""},{"$f":"IF(N77=1,Eingabe!O38,\"\")","v":""},null,"","",null,null,0,{"$f":"IF(Eingabe!O38=\"\",0,1)","v":0},"",18,null,null,{"$f":"IF(Eingabe!E38=\"S\",1,\"\")","v":""},{"$f":"IF(Eingabe!E38=\"V\",1,\"\")","v":""},{"$f":"IF(Eingabe!E38=\"SV\",1,\"\")","v":""},0]
[19,{"$f":"IF(N78=1,Eingabe!B39,\"\")","v":""},null,null,{"$f":"IF(N78=1,Eingabe!D39,\"\")","v":""},{"$f":"IF(N78=1,Eingabe!E39,\"\")","v":""},{"$f":"IF(N78=1,Eingabe!N39,\"\")","v":""},{"$f":"IF(N78=1,Eingabe!O39,\"\")","v":""},null,"","",null,null,0,{"$f":"IF(Eingabe!O39=\"\",0,1)","v":0},"",19,null,null,{"$f":"IF(Eingabe!E39=\"S\",1,\"\")","v":""},{"$f":"IF(Eingabe!E39=\"V\",1,\"\")","v":""},{"$f":"IF(Eingabe!E39=\"SV\",1,\"\")","v":""},0]
[20,{"$f":"IF(N79=1,Eingabe!B40,\"\")","v":""},null,null,{"$f":"IF(N79=1,Eingabe!D40,\"\")","v":""},{"$f":"IF(N79=1,Eingabe!E40,\"\")","v":""},{"$f":"IF(N79=1,Eingabe!N40,\"\")","v":""},{"$f":"IF(N79=1,Eingabe!O40,\"\")","v":""},null,"","",null,null,0,{"$f":"IF(Eingabe!O40=\"\",0,1)","v":0},"",20,null,null,{"$f":"IF(Eingabe!E40=\"S\",1,\"\")","v":""},{"$f":"IF(Eingabe!E40=\"V\",1,\"\")","v":""},{"$f":"IF(Eingabe!E40=\"SV\",1,\"\")","v":""},0]
[21,{"$f":"IF(N80=1,Eingabe!B41,\"\")","v":""},null,null,{"$f":"IF(N80=1,Eingabe!D41,\"\")","v":""},{"$f":"IF(N80=1,Eingabe!E41,\"\")","v":""},{"$f":"IF(N80=1,Eingabe!N41,\"\")","v":""},{"$f":"IF(N80=1,Eingabe!O41,\"\")","v":""},null,"","",null,null,0,{"$f":"IF(Eingabe!O41=\"\",0,1)","v":0},"",21,null,null,{"$f":"IF(Eingabe!E41=\"S\",1,\"\")","v":""},{"$f":"IF(Eingabe!E41=\"V\",1,\"\")","v":""},{"$f":"IF(Eingabe!E41=\"SV\",1,\"\")","v":""},0]
[22,{"$f":"IF(N81=1,Eingabe!B42,\"\")","v":""},null,null,{"$f":"IF(N81=1,Eingabe!D42,\"\")","v":""},{"$f":"IF(N81=1,Eingabe!E42,\"\")","v":""},{"$f":"IF(N81=1,Eingabe!N42,\"\")","v":""},{"$f":"IF(N81=1,Eingabe!O42,\"\")","v":""},null,"","",null,null,0,{"$f":"IF(Eingabe!O42=\"\",0,1)","v":0},"",22,null,null,{"$f":"IF(Eingabe!E42=\"S\",1,\"\")","v":""},{"$f":"IF(Eingabe!E42=\"V\",1,\"\")","v":""},{"$f":"IF(Eingabe!E42=\"SV\",1,\"\")","v":""},0]
[23,{"$f":"IF(N82=1,Eingabe!B43,\"\")","v":""},null,null,{"$f":"IF(N82=1,Eingabe!D43,\"\")","v":""},{"$f":"IF(N82=1,Eingabe!E43,\"\")","v":""},{"$f":"IF(N82=1,Eingabe!N43,\"\")","v":""},{"$f":"IF(N82=1,Eingabe!O43,\"\")","v":""},null,"","",null,null,0,{"$f":"IF(Eingabe!O43=\"\",0,1)","v":0},"",23,null,null,{"$f":"IF(Eingabe!E43=\"S\",1,\"\")","v":""},{"$f":"IF(Eingabe!E43=\"V\",1,\"\")","v":""},{"$f":"IF(Eingabe!E43=\"SV\",1,\"\")","v":""},0]
[24,{"$f":"IF(N83=1,Eingabe!B44,\"\")","v":""},null,null,{"$f":"IF(N83=1,Eingabe!D44,\"\")","v":""},{"$f":"IF(N83=1,Eingabe!E44,\"\")","v":""},{"$f":"IF(N83=1,Eingabe!N44,\"\")","v":""},{"$f":"IF(N83=1,Eingabe!O44,\"\")","v":""},null,"","",null,null,0,{"$f":"IF(Eingabe!O44=\"\",0,1)","v":0},"",24,null,null,{"$f":"IF(Eingabe!E44=\"S\",1,\"\")","v":""},{"$f":"IF(Eingabe!E44=\"V\",1,\"\")","v":""},{"$f":"IF(Eingabe!E44=\"SV\",1,\"\")","v":""},0]
[25,{"$f":"IF(N84=1,Eingabe!B45,\"\")","v":""},null,null,{"$f":"IF(N84=1,Eingabe!D45,\"\")","v":""},{"$f":"IF(N84=1,Eingabe!E45,\"\")","v":""},{"$f":"IF(N84=1,Eingabe!N45,\"\")","v":""},{"$f":"IF(N84=1,Eingabe!O45,\"\")","v":""},null,"","",null,null,0,{"$f":"IF(Eingabe!O45=\"\",0,1)","v":0},"",25,null,null,{"$f":"IF(Eingabe!E45=\"S\",1,\"\")","v":""},{"$f":"IF(Eingabe!E45=\"V\",1,\"\")","v":""},{"$f":"IF(Eingabe!E45=\"SV\",1,\"\")","v":""},0]
[26,{"$f":"IF(N85=1,Eingabe!B46,\"\")","v":""},null,null,{"$f":"IF(N85=1,Eingabe!D46,\"\")","v":""},{"$f":"IF(N85=1,Eingabe!E46,\"\")","v":""},{"$f":"IF(N85=1,Eingabe!N46,\"\")","v":""},{"$f":"IF(N85=1,Eingabe!O46,\"\")","v":""},null,"","",null,null,0,{"$f":"IF(Eingabe!O46=\"\",0,1)","v":0},"",26,null,null,{"$f":"IF(Eingabe!E46=\"S\",1,\"\")","v":""},{"$f":"IF(Eingabe!E46=\"V\",1,\"\")","v":""},{"$f":"IF(Eingabe!E46=\"SV\",1,\"\")","v":""},0]
[27,{"$f":"IF(N86=1,Eingabe!B47,\"\")","v":""},null,null,{"$f":"IF(N86=1,Eingabe!D47,\"\")","v":""},{"$f":"IF(N86=1,Eingabe!E47,\"\")","v":""},{"$f":"IF(N86=1,Eingabe!N47,\"\")","v":""},{"$f":"IF(N86=1,Eingabe!O47,\"\")","v":""},null,"","",null,null,0,{"$f":"IF(Eingabe!O47=\"\",0,1)","v":0},"",27,null,null,{"$f":"IF(Eingabe!E47=\"S\",1,\"\")","v":""},{"$f":"IF(Eingabe!E47=\"V\",1,\"\")","v":""},{"$f":"IF(Eingabe!E47=\"SV\",1,\"\")","v":""},0]
[28,{"$f":"IF(N87=1,Eingabe!B48,\"\")","v":""},null,null,{"$f":"IF(N87=1,Eingabe!D48,\"\")","v":""},{"$f":"IF(N87=1,Eingabe!E48,\"\")","v":""},{"$f":"IF(N87=1,Eingabe!N48,\"\")","v":""},{"$f":"IF(N87=1,Eingabe!O48,\"\")","v":""},null,"","",null,null,0,{"$f":"IF(Eingabe!O48=\"\",0,1)","v":0},"",28,null,null,{"$f":"IF(Eingabe!E48=\"S\",1,\"\")","v":""},{"$f":"IF(Eingabe!E48=\"V\",1,\"\")","v":""},{"$f":"IF(Eingabe!E48=\"SV\",1,\"\")","v":""},0]
[29,{"$f":"IF(N88=1,Eingabe!B49,\"\")","v":""},null,null,{"$f":"IF(N88=1,Eingabe!D49,\"\")","v":""},{"$f":"IF(N88=1,Eingabe!E49,\"\")","v":""},{"$f":"IF(N88=1,Eingabe!N49,\"\")","v":""},{"$f":"IF(N88=1,Eingabe!O49,\"\")","v":""},null,"","",null,null,0,{"$f":"IF(Eingabe!O49=\"\",0,1)","v":0},"",29,null,null,{"$f":"IF(Eingabe!E49=\"S\",1,\"\")","v":""},{"$f":"IF(Eingabe!E49=\"V\",1,\"\")","v":""},{"$f":"IF(Eingabe!E49=\"SV\",1,\"\")","v":""},0]
[30,{"$f":"IF(N89=1,Eingabe!B50,\"\")","v":""},null,null,{"$f":"IF(N89=1,Eingabe!D50,\"\")","v":""},{"$f":"IF(N89=1,Eingabe!E50,\"\")","v":""},{"$f":"IF(N89=1,Eingabe!N50,\"\")","v":""},{"$f":"IF(N89=1,Eingabe!O50,\"\")","v":""},null,"","",null,null,0,{"$f":"IF(Eingabe!O50=\"\",0,1)","v":0},"",30,null,null,{"$f":"IF(Eingabe!E50=\"S\",1,\"\")","v":""},{"$f":"IF(Eingabe!E50=\"V\",1,\"\")","v":""},{"$f":"IF(Eingabe!E50=\"SV\",1,\"\")","v":""},0]
[31,{"$f":"IF(N90=1,Eingabe!B51,\"\")","v":""},null,null,{"$f":"IF(N90=1,Eingabe!D51,\"\")","v":""},{"$f":"IF(N90=1,Eingabe!E51,\"\")","v":""},{"$f":"IF(N90=1,Eingabe!N51,\"\")","v":""},{"$f":"IF(N90=1,Eingabe!O51,\"\")","v":""},null,"","",null,null,0,{"$f":"IF(Eingabe!O51=\"\",0,1)","v":0},"",31,null,null,{"$f":"IF(Eingabe!E51=\"S\",1,\"\")","v":""},{"$f":"IF(Eingabe!E51=\"V\",1,\"\")","v":""},{"$f":"IF(Eingabe!E51=\"SV\",1,\"\")","v":""},0]
[32,{"$f":"IF(N91=1,Eingabe!B52,\"\")","v":""},null,null,{"$f":"IF(N91=1,Eingabe!D52,\"\")","v":""},{"$f":"IF(N91=1,Eingabe!E52,\"\")","v":""},{"$f":"IF(N91=1,Eingabe!N52,\"\")","v":""},{"$f":"IF(N91=1,Eingabe!O52,\"\")","v":""},null,"","",null,null,0,{"$f":"IF(Eingabe!O52=\"\",0,1)","v":0},"",32,null,null,{"$f":"IF(Eingabe!E52=\"S\",1,\"\")","v":""},{"$f":"IF(Eingabe!E52=\"V\",1,\"\")","v":""},{"$f":"IF(Eingabe!E52=\"SV\",1,\"\")","v":""},0]
[33,{"$f":"IF(N92=1,Eingabe!B53,\"\")","v":""},null,null,{"$f":"IF(N92=1,Eingabe!D53,\"\")","v":""},{"$f":"IF(N92=1,Eingabe!E53,\"\")","v":""},{"$f":"IF(N92=1,Eingabe!N53,\"\")","v":""},{"$f":"IF(N92=1,Eingabe!O53,\"\")","v":""},null,"","",null,null,0,{"$f":"IF(Eingabe!O53=\"\",0,1)","v":0},"",33,null,null,{"$f":"IF(Eingabe!E53=\"S\",1,\"\")","v":""},{"$f":"IF(Eingabe!E53=\"V\",1,\"\")","v":""},{"$f":"IF(Eingabe!E53=\"SV\",1,\"\")","v":""},0]
[34,{"$f":"IF(N93=1,Eingabe!B54,\"\")","v":""},null,null,{"$f":"IF(N93=1,Eingabe!D54,\"\")","v":""},{"$f":"IF(N93=1,Eingabe!E54,\"\")","v":""},{"$f":"IF(N93=1,Eingabe!N54,\"\")","v":""},{"$f":"IF(N93=1,Eingabe!O54,\"\")","v":""},null,"","",null,null,0,{"$f":"IF(Eingabe!O54=\"\",0,1)","v":0},"",34,null,null,{"$f":"IF(Eingabe!E54=\"S\",1,\"\")","v":""},{"$f":"IF(Eingabe!E54=\"V\",1,\"\")","v":""},{"$f":"IF(Eingabe!E54=\"SV\",1,\"\")","v":""},0]
[35,{"$f":"IF(N94=1,Eingabe!B55,\"\")","v":""},null,null,{"$f":"IF(N94=1,Eingabe!D55,\"\")","v":""},{"$f":"IF(N94=1,Eingabe!E55,\"\")","v":""},{"$f":"IF(N94=1,Eingabe!N55,\"\")","v":""},{"$f":"IF(N94=1,Eingabe!O55,\"\")","v":""},null,"","",null,null,0,{"$f":"IF(Eingabe!O55=\"\",0,1)","v":0},"",35,null,null,{"$f":"IF(Eingabe!E55=\"S\",1,\"\")","v":""},{"$f":"IF(Eingabe!E55=\"V\",1,\"\")","v":""},{"$f":"IF(Eingabe!E55=\"SV\",1,\"\")","v":""},0]
[36,{"$f":"IF(N95=1,Eingabe!B56,\"\")","v":""},null,null,{"$f":"IF(N95=1,Eingabe!D56,\"\")","v":""},{"$f":"IF(N95=1,Eingabe!E56,\"\")","v":""},{"$f":"IF(N95=1,Eingabe!N56,\"\")","v":""},{"$f":"IF(N95=1,Eingabe!O56,\"\")","v":""},null,"","",null,null,0,{"$f":"IF(Eingabe!O56=\"\",0,1)","v":0},"",36,null,null,{"$f":"IF(Eingabe!E56=\"S\",1,\"\")","v":""},{"$f":"IF(Eingabe!E56=\"V\",1,\"\")","v":""},{"$f":"IF(Eingabe!E56=\"SV\",1,\"\")","v":""},0]
[37,{"$f":"IF(N96=1,Eingabe!B57,\"\")","v":""},null,null,{"$f":"IF(N96=1,Eingabe!D57,\"\")","v":""},{"$f":"IF(N96=1,Eingabe!E57,\"\")","v":""},{"$f":"IF(N96=1,Eingabe!N57,\"\")","v":""},{"$f":"IF(N96=1,Eingabe!O57,\"\")","v":""},null,"","",null,null,0,{"$f":"IF(Eingabe!O57=\"\",0,1)","v":0},"",37,null,null,{"$f":"IF(Eingabe!E57=\"S\",1,\"\")","v":""},{"$f":"IF(Eingabe!E57=\"V\",1,\"\")","v":""},{"$f":"IF(Eingabe!E57=\"SV\",1,\"\")","v":""},0]
[38,{"$f":"IF(N97=1,Eingabe!B58,\"\")","v":""},null,null,{"$f":"IF(N97=1,Eingabe!D58,\"\")","v":""},{"$f":"IF(N97=1,Eingabe!E58,\"\")","v":""},{"$f":"IF(N97=1,Eingabe!N58,\"\")","v":""},{"$f":"IF(N97=1,Eingabe!O58,\"\")","v":""},null,"","",null,null,0,{"$f":"IF(Eingabe!O58=\"\",0,1)","v":0},"",38,null,null,{"$f":"IF(Eingabe!E58=\"S\",1,\"\")","v":""},{"$f":"IF(Eingabe!E58=\"V\",1,\"\")","v":""},{"$f":"IF(Eingabe!E58=\"SV\",1,\"\")","v":""},0]
[39,{"$f":"IF(N98=1,Eingabe!B59,\"\")","v":""},null,null,{"$f":"IF(N98=1,Eingabe!D59,\"\")","v":""},{"$f":"IF(N98=1,Eingabe!E59,\"\")","v":""},{"$f":"IF(N98=1,Eingabe!N59,\"\")","v":""},{"$f":"IF(N98=1,Eingabe!O59,\"\")","v":""},null,"","",null,null,0,{"$f":"IF(Eingabe!O59=\"\",0,1)","v":0},"",39,null,null,{"$f":"IF(Eingabe!E59=\"S\",1,\"\")","v":""},{"$f":"IF(Eingabe!E59=\"V\",1,\"\")","v":""},{"$f":"IF(Eingabe!E59=\"SV\",1,\"\")","v":""},0]
[40,{"$f":"IF(N99=1,Eingabe!B60,\"\")","v":""},null,null,{"$f":"IF(N99=1,Eingabe!D60,\"\")","v":""},{"$f":"IF(N99=1,Eingabe!E60,\"\")","v":""},{"$f":"IF(N99=1,Eingabe!N60,\"\")","v":""},{"$f":"IF(N99=1,Eingabe!O60,\"\")","v":""},null,"","",null,null,0,{"$f":"IF(Eingabe!O60=\"\",0,1)","v":0},"",40,null,null,{"$f":"IF(Eingabe!E60=\"S\",1,\"\")","v":""},{"$f":"IF(Eingabe!E60=\"V\",1,\"\")","v":""},{"$f":"IF(Eingabe!E60=\"SV\",1,\"\")","v":""},0]
[]
["RANGLISTE JUNIOREN"]
["Rang","Name + Vorname",null,null,"Jahrgang \n(JJJJ)","E / V / J","Liegend Total","Kniend Total",null,"Gesamttotal","Prämienkarten",null,null,"J Rangliste?","Greschossen","Auszeichnungslimite","Sortierung",null,"U15","U17","U19","U21","Summe"]
[1,{"$f":"IF(N103=1,Eingabe!B21,\"\")","v":""},null,null,{"$f":"IF(N103=1,Eingabe!D21,\"\")","v":""},{"$f":"IF(N103=1,Eingabe!E21,\"\")","v":""},{"$f":"IF(N103=1,Eingabe!N21,\"\")","v":""},{"$f":"IF(N103=1,Eingabe!O21,\"\")","v":""},null,{"$f":"IF(N103=1,SUM(G103:H103),\"\")","v":""},{"$f":"IF(AND(N103=1,J103>=P103),1,IF(AND(N103=1,J103<P103),0,\"\"))","v":""},null,null,{"$f":"IF(AND(O103=1,W103=1),1,0)","v":0},{"$f":"IF(Eingabe!O21=\"\",0,1)","v":0},{"$f":"IF(S103=1,$Q$5,IF(T103=1,$Q$6,IF(U103=1,$Q$7,IF(V103=1,$Q$8,\"\"))))","v":""},1,null,{"$f":"IF(Eingabe!$E21=\"U15\",1,\"\")","v":""},{"$f":"IF(Eingabe!$E21=\"U17\",1,\"\")","v":""},{"$f":"IF(Eingabe!$E21=\"U19\",1,\"\")","v":""},{"$f":"IF(Eingabe!$E21=\"U21\",1,\"\")","v":""},{"$f":"SUM(S103:V103)","v":0}]
[2,{"$f":"IF(N104=1,Eingabe!B22,\"\")","v":""},null,null,{"$f":"IF(N104=1,Eingabe!D22,\"\")","v":""},{"$f":"IF(N104=1,Eingabe!E22,\"\")","v":""},{"$f":"IF(N104=1,Eingabe!N22,\"\")","v":""},{"$f":"IF(N104=1,Eingabe!O22,\"\")","v":""},null,"","",null,null,0,{"$f":"IF(Eingabe!O22=\"\",0,1)","v":0},"",2,null,{"$f":"IF(Eingabe!$E22=\"U15\",1,\"\")","v":""},{"$f":"IF(Eingabe!$E22=\"U17\",1,\"\")","v":""},{"$f":"IF(Eingabe!$E22=\"U19\",1,\"\")","v":""},{"$f":"IF(Eingabe!$E22=\"U21\",1,\"\")","v":""},0]
[3,{"$f":"IF(N105=1,Eingabe!B23,\"\")","v":""},null,null,{"$f":"IF(N105=1,Eingabe!D23,\"\")","v":""},{"$f":"IF(N105=1,Eingabe!E23,\"\")","v":""},{"$f":"IF(N105=1,Eingabe!N23,\"\")","v":""},{"$f":"IF(N105=1,Eingabe!O23,\"\")","v":""},null,"","",null,null,0,{"$f":"IF(Eingabe!O23=\"\",0,1)","v":0},"",3,null,{"$f":"IF(Eingabe!$E23=\"U15\",1,\"\")","v":""},{"$f":"IF(Eingabe!$E23=\"U17\",1,\"\")","v":""},{"$f":"IF(Eingabe!$E23=\"U19\",1,\"\")","v":""},{"$f":"IF(Eingabe!$E23=\"U21\",1,\"\")","v":""},0]
[4,{"$f":"IF(N106=1,Eingabe!B24,\"\")","v":""},null,null,{"$f":"IF(N106=1,Eingabe!D24,\"\")","v":""},{"$f":"IF(N106=1,Eingabe!E24,\"\")","v":""},{"$f":"IF(N106=1,Eingabe!N24,\"\")","v":""},{"$f":"IF(N106=1,Eingabe!O24,\"\")","v":""},null,"","",null,null,0,{"$f":"IF(Eingabe!O24=\"\",0,1)","v":0},"",4,null,{"$f":"IF(Eingabe!$E24=\"U15\",1,\"\")","v":""},{"$f":"IF(Eingabe!$E24=\"U17\",1,\"\")","v":""},{"$f":"IF(Eingabe!$E24=\"U19\",1,\"\")","v":""},{"$f":"IF(Eingabe!$E24=\"U21\",1,\"\")","v":""},0]
[5,{"$f":"IF(N107=1,Eingabe!B25,\"\")","v":""},null,null,{"$f":"IF(N107=1,Eingabe!D25,\"\")","v":""},{"$f":"IF(N107=1,Eingabe!E25,\"\")","v":""},{"$f":"IF(N107=1,Eingabe!N25,\"\")","v":""},{"$f":"IF(N107=1,Eingabe!O25,\"\")","v":""},null,"","",null,null,0,{"$f":"IF(Eingabe!O25=\"\",0,1)","v":0},"",5,null,{"$f":"IF(Eingabe!$E25=\"U15\",1,\"\")","v":""},{"$f":"IF(Eingabe!$E25=\"U17\",1,\"\")","v":""},{"$f":"IF(Eingabe!$E25=\"U19\",1,\"\")","v":""},{"$f":"IF(Eingabe!$E25=\"U21\",1,\"\")","v":""},0]
[6,{"$f":"IF(N108=1,Eingabe!B26,\"\")","v":""},null,null,{"$f":"IF(N108=1,Eingabe!D26,\"\")","v":""},{"$f":"IF(N108=1,Eingabe!E26,\"\")","v":""},{"$f":"IF(N108=1,Eingabe!N26,\"\")","v":""},{"$f":"IF(N108=1,Eingabe!O26,\"\")","v":""},null,"","",null,null,0,{"$f":"IF(Eingabe!O26=\"\",0,1)","v":0},"",6,null,{"$f":"IF(Eingabe!$E26=\"U15\",1,\"\")","v":""},{"$f":"IF(Eingabe!$E26=\"U17\",1,\"\")","v":""},{"$f":"IF(Eingabe!$E26=\"U19\",1,\"\")","v":""},{"$f":"IF(Eingabe!$E26=\"U21\",1,\"\")","v":""},0]
[7,{"$f":"IF(N109=1,Eingabe!B27,\"\")","v":""},null,null,{"$f":"IF(N109=1,Eingabe!D27,\"\")","v":""},{"$f":"IF(N109=1,Eingabe!E27,\"\")","v":""},{"$f":"IF(N109=1,Eingabe!N27,\"\")","v":""},{"$f":"IF(N109=1,Eingabe!O27,\"\")","v":""},null,"","",null,null,0,{"$f":"IF(Eingabe!O27=\"\",0,1)","v":0},"",7,null,{"$f":"IF(Eingabe!$E27=\"U15\",1,\"\")","v":""},{"$f":"IF(Eingabe!$E27=\"U17\",1,\"\")","v":""},{"$f":"IF(Eingabe!$E27=\"U19\",1,\"\")","v":""},{"$f":"IF(Eingabe!$E27=\"U21\",1,\"\")","v":""},0]
[8,{"$f":"IF(N110=1,Eingabe!B28,\"\")","v":""},null,null,{"$f":"IF(N110=1,Eingabe!D28,\"\")","v":""},{"$f":"IF(N110=1,Eingabe!E28,\"\")","v":""},{"$f":"IF(N110=1,Eingabe!N28,\"\")","v":""},{"$f":"IF(N110=1,Eingabe!O28,\"\")","v":""},null,"","",null,null,0,{"$f":"IF(Eingabe!O28=\"\",0,1)","v":0},"",8,null,{"$f":"IF(Eingabe!$E28=\"U15\",1,\"\")","v":""},{"$f":"IF(Eingabe!$E28=\"U17\",1,\"\")","v":""},{"$f":"IF(Eingabe!$E28=\"U19\",1,\"\")","v":""},{"$f":"IF(Eingabe!$E28=\"U21\",1,\"\")","v":""},0]
[9,{"$f":"IF(N111=1,Eingabe!B29,\"\")","v":""},null,null,{"$f":"IF(N111=1,Eingabe!D29,\"\")","v":""},{"$f":"IF(N111=1,Eingabe!E29,\"\")","v":""},{"$f":"IF(N111=1,Eingabe!N29,\"\")","v":""},{"$f":"IF(N111=1,Eingabe!O29,\"\")","v":""},null,"","",null,null,0,{"$f":"IF(Eingabe!O29=\"\",0,1)","v":0},"",9,null,{"$f":"IF(Eingabe!$E29=\"U15\",1,\"\")","v":""},{"$f":"IF(Eingabe!$E29=\"U17\",1,\"\")","v":""},{"$f":"IF(Eingabe!$E29=\"U19\",1,\"\")","v":""},{"$f":"IF(Eingabe!$E29=\"U21\",1,\"\")","v":""},0]
[10,{"$f":"IF(N112=1,Eingabe!B30,\"\")","v":""},null,null,{"$f":"IF(N112=1,Eingabe!D30,\"\")","v":""},{"$f":"IF(N112=1,Eingabe!E30,\"\")","v":""},{"$f":"IF(N112=1,Eingabe!N30,\"\")","v":""},{"$f":"IF(N112=1,Eingabe!O30,\"\")","v":""},null,"","",null,null,0,{"$f":"IF(Eingabe!O30=\"\",0,1)","v":0},"",10,null,{"$f":"IF(Eingabe!$E30=\"U15\",1,\"\")","v":""},{"$f":"IF(Eingabe!$E30=\"U17\",1,\"\")","v":""},{"$f":"IF(Eingabe!$E30=\"U19\",1,\"\")","v":""},{"$f":"IF(Eingabe!$E30=\"U21\",1,\"\")","v":""},0]
[11,{"$f":"IF(N113=1,Eingabe!B31,\"\")","v":""},null,null,{"$f":"IF(N113=1,Eingabe!D31,\"\")","v":""},{"$f":"IF(N113=1,Eingabe!E31,\"\")","v":""},{"$f":"IF(N113=1,Eingabe!N31,\"\")","v":""},{"$f":"IF(N113=1,Eingabe!O31,\"\")","v":""},null,"","",null,null,0,{"$f":"IF(Eingabe!O31=\"\",0,1)","v":0},"",11,null,{"$f":"IF(Eingabe!$E31=\"U15\",1,\"\")","v":""},{"$f":"IF(Eingabe!$E31=\"U17\",1,\"\")","v":""},{"$f":"IF(Eingabe!$E31=\"U19\",1,\"\")","v":""},{"$f":"IF(Eingabe!$E31=\"U21\",1,\"\")","v":""},0]
[12,{"$f":"IF(N114=1,Eingabe!B32,\"\")","v":""},null,null,{"$f":"IF(N114=1,Eingabe!D32,\"\")","v":""},{"$f":"IF(N114=1,Eingabe!E32,\"\")","v":""},{"$f":"IF(N114=1,Eingabe!N32,\"\")","v":""},{"$f":"IF(N114=1,Eingabe!O32,\"\")","v":""},null,"","",null,null,0,{"$f":"IF(Eingabe!O32=\"\",0,1)","v":0},"",12,null,{"$f":"IF(Eingabe!$E32=\"U15\",1,\"\")","v":""},{"$f":"IF(Eingabe!$E32=\"U17\",1,\"\")","v":""},{"$f":"IF(Eingabe!$E32=\"U19\",1,\"\")","v":""},{"$f":"IF(Eingabe!$E32=\"U21\",1,\"\")","v":""},0]
[13,{"$f":"IF(N115=1,Eingabe!B33,\"\")","v":""},null,null,{"$f":"IF(N115=1,Eingabe!D33,\"\")","v":""},{"$f":"IF(N115=1,Eingabe!E33,\"\")","v":""},{"$f":"IF(N115=1,Eingabe!N33,\"\")","v":""},{"$f":"IF(N115=1,Eingabe!O33,\"\")","v":""},null,"","",null,null,0,{"$f":"IF(Eingabe!O33=\"\",0,1)","v":0},"",13,null,{"$f":"IF(Eingabe!$E33=\"U15\",1,\"\")","v":""},{"$f":"IF(Eingabe!$E33=\"U17\",1,\"\")","v":""},{"$f":"IF(Eingabe!$E33=\"U19\",1,\"\")","v":""},{"$f":"IF(Eingabe!$E33=\"U21\",1,\"\")","v":""},0]
[14,{"$f":"IF(N116=1,Eingabe!B34,\"\")","v":""},null,null,{"$f":"IF(N116=1,Eingabe!D34,\"\")","v":""},{"$f":"IF(N116=1,Eingabe!E34,\"\")","v":""},{"$f":"IF(N116=1,Eingabe!N34,\"\")","v":""},{"$f":"IF(N116=1,Eingabe!O34,\"\")","v":""},null,"","",null,null,0,{"$f":"IF(Eingabe!O34=\"\",0,1)","v":0},"",14,null,{"$f":"IF(Eingabe!$E34=\"U15\",1,\"\")","v":""},{"$f":"IF(Eingabe!$E34=\"U17\",1,\"\")","v":""},{"$f":"IF(Eingabe!$E34=\"U19\",1,\"\")","v":""},{"$f":"IF(Eingabe!$E34=\"U21\",1,\"\")","v":""},0]
[15,{"$f":"IF(N117=1,Eingabe!B35,\"\")","v":""},null,null,{"$f":"IF(N117=1,Eingabe!D35,\"\")","v":""},{"$f":"IF(N117=1,Eingabe!E35,\"\")","v":""},{"$f":"IF(N117=1,Eingabe!N35,\"\")","v":""},{"$f":"IF(N117=1,Eingabe!O35,\"\")","v":""},null,"","",null,null,0,{"$f":"IF(Eingabe!O35=\"\",0,1)","v":0},"",15,null,{"$f":"IF(Eingabe!$E35=\"U15\",1,\"\")","v":""},{"$f":"IF(Eingabe!$E35=\"U17\",1,\"\")","v":""},{"$f":"IF(Eingabe!$E35=\"U19\",1,\"\")","v":""},{"$f":"IF(Eingabe!$E35=\"U21\",1,\"\")","v":""},0]
[16,{"$f":"IF(N118=1,Eingabe!B36,\"\")","v":""},null,null,{"$f":"IF(N118=1,Eingabe!D36,\"\")","v":""},{"$f":"IF(N118=1,Eingabe!E36,\"\")","v":""},{"$f":"IF(N118=1,Eingabe!N36,\"\")","v":""},{"$f":"IF(N118=1,Eingabe!O36,\"\")","v":""},null,"","",null,null,0,{"$f":"IF(Eingabe!O36=\"\",0,1)","v":0},"",16,null,{"$f":"IF(Eingabe!$E36=\"U15\",1,\"\")","v":""},{"$f":"IF(Eingabe!$E36=\"U17\",1,\"\")","v":""},{"$f":"IF(Eingabe!$E36=\"U19\",1,\"\")","v":""},{"$f":"IF(Eingabe!$E36=\"U21\",1,\"\")","v":""},0]
[17,{"$f":"IF(N119=1,Eingabe!B37,\"\")","v":""},null,null,{"$f":"IF(N119=1,Eingabe!D37,\"\")","v":""},{"$f":"IF(N119=1,Eingabe!E37,\"\")","v":""},{"$f":"IF(N119=1,Eingabe!N37,\"\")","v":""},{"$f":"IF(N119=1,Eingabe!O37,\"\")","v":""},null,"","",null,null,0,{"$f":"IF(Eingabe!O37=\"\",0,1)","v":0},"",17,null,{"$f":"IF(Eingabe!$E37=\"U15\",1,\"\")","v":""},{"$f":"IF(Eingabe!$E37=\"U17\",1,\"\")","v":""},{"$f":"IF(Eingabe!$E37=\"U19\",1,\"\")","v":""},{"$f":"IF(Eingabe!$E37=\"U21\",1,\"\")","v":""},0]
[18,{"$f":"IF(N120=1,Eingabe!B38,\"\")","v":""},null,null,{"$f":"IF(N120=1,Eingabe!D38,\"\")","v":""},{"$f":"IF(N120=1,Eingabe!E38,\"\")","v":""},{"$f":"IF(N120=1,Eingabe!N38,\"\")","v":""},{"$f":"IF(N120=1,Eingabe!O38,\"\")","v":""},null,"","",null,null,0,{"$f":"IF(Eingabe!O38=\"\",0,1)","v":0},"",18,null,{"$f":"IF(Eingabe!$E38=\"U15\",1,\"\")","v":""},{"$f":"IF(Eingabe!$E38=\"U17\",1,\"\")","v":""},{"$f":"IF(Eingabe!$E38=\"U19\",1,\"\")","v":""},{"$f":"IF(Eingabe!$E38=\"U21\",1,\"\")","v":""},0]
[19,{"$f":"IF(N121=1,Eingabe!B39,\"\")","v":""},null,null,{"$f":"IF(N121=1,Eingabe!D39,\"\")","v":""},{"$f":"IF(N121=1,Eingabe!E39,\"\")","v":""},{"$f":"IF(N121=1,Eingabe!N39,\"\")","v":""},{"$f":"IF(N121=1,Eingabe!O39,\"\")","v":""},null,"","",null,null,0,{"$f":"IF(Eingabe!O39=\"\",0,1)","v":0},"",19,null,{"$f":"IF(Eingabe!$E39=\"U15\",1,\"\")","v":""},{"$f":"IF(Eingabe!$E39=\"U17\",1,\"\")","v":""},{"$f":"IF(Eingabe!$E39=\"U19\",1,\"\")","v":""},{"$f":"IF(Eingabe!$E39=\"U21\",1,\"\")","v":""},0]
[20,{"$f":"IF(N122=1,Eingabe!B40,\"\")","v":""},null,null,{"$f":"IF(N122=1,Eingabe!D40,\"\")","v":""},{"$f":"IF(N122=1,Eingabe!E40,\"\")","v":""},{"$f":"IF(N122=1,Eingabe!N40,\"\")","v":""},{"$f":"IF(N122=1,Eingabe!O40,\"\")","v":""},null,"","",null,null,0,{"$f":"IF(Eingabe!O40=\"\",0,1)","v":0},"",20,null,{"$f":"IF(Eingabe!$E40=\"U15\",1,\"\")","v":""},{"$f":"IF(Eingabe!$E40=\"U17\",1,\"\")","v":""},{"$f":"IF(Eingabe!$E40=\"U19\",1,\"\")","v":""},{"$f":"IF(Eingabe!$E40=\"U21\",1,\"\")","v":""},0]
[21,{"$f":"IF(N123=1,Eingabe!B41,\"\")","v":""},null,null,{"$f":"IF(N123=1,Eingabe!D41,\"\")","v":""},{"$f":"IF(N123=1,Eingabe!E41,\"\")","v":""},{"$f":"IF(N123=1,Eingabe!N41,\"\")","v":""},{"$f":"IF(N123=1,Eingabe!O41,\"\")","v":""},null,"","",null,null,0,{"$f":"IF(Eingabe!O41=\"\",0,1)","v":0},"",21,null,{"$f":"IF(Eingabe!$E41=\"U15\",1,\"\")","v":""},{"$f":"IF(Eingabe!$E41=\"U17\",1,\"\")","v":""},{"$f":"IF(Eingabe!$E41=\"U19\",1,\"\")","v":""},{"$f":"IF(Eingabe!$E41=\"U21\",1,\"\")","v":""},0]
[22,{"$f":"IF(N124=1,Eingabe!B42,\"\")","v":""},null,null,{"$f":"IF(N124=1,Eingabe!D42,\"\")","v":""},{"$f":"IF(N124=1,Eingabe!E42,\"\")","v":""},{"$f":"IF(N124=1,Eingabe!N42,\"\")","v":""},{"$f":"IF(N124=1,Eingabe!O42,\"\")","v":""},null,"","",null,null,0,{"$f":"IF(Eingabe!O42=\"\",0,1)","v":0},"",22,null,{"$f":"IF(Eingabe!$E42=\"U15\",1,\"\")","v":""},{"$f":"IF(Eingabe!$E42=\"U17\",1,\"\")","v":""},{"$f":"IF(Eingabe!$E42=\"U19\",1,\"\")","v":""},{"$f":"IF(Eingabe!$E42=\"U21\",1,\"\")","v":""},0]
[23,{"$f":"IF(N125=1,Eingabe!B43,\"\")","v":""},null,null,{"$f":"IF(N125=1,Eingabe!D43,\"\")","v":""},{"$f":"IF(N125=1,Eingabe!E43,\"\")","v":""},{"$f":"IF(N125=1,Eingabe!N43,\"\")","v":""},{"$f":"IF(N125=1,Eingabe!O43,\"\")","v":""},null,"","",null,null,0,{"$f":"IF(Eingabe!O43=\"\",0,1)","v":0},"",23,null,{"$f":"IF(Eingabe!$E43=\"U15\",1,\"\")","v":""},{"$f":"IF(Eingabe!$E43=\"U17\",1,\"\")","v":""},{"$f":"IF(Eingabe!$E43=\"U19\",1,\"\")","v":""},{"$f":"IF(Eingabe!$E43=\"U21\",1,\"\")","v":""},0]
[24,{"$f":"IF(N126=1,Eingabe!B44,\"\")","v":""},null,null,{"$f":"IF(N126=1,Eingabe!D44,\"\")","v":""},{"$f":"IF(N126=1,Eingabe!E44,\"\")","v":""},{"$f":"IF(N126=1,Eingabe!N44,\"\")","v":""},{"$f":"IF(N126=1,Eingabe!O44,\"\")","v":""},null,"","",null,null,0,{"$f":"IF(Eingabe!O44=\"\",0,1)","v":0},"",24,null,{"$f":"IF(Eingabe!$E44=\"U15\",1,\"\")","v":""},{"$f":"IF(Eingabe!$E44=\"U17\",1,\"\")","v":""},{"$f":"IF(Eingabe!$E44=\"U19\",1,\"\")","v":""},{"$f":"IF(Eingabe!$E44=\"U21\",1,\"\")","v":""},0]
[25,{"$f":"IF(N127=1,Eingabe!B45,\"\")","v":""},null,null,{"$f":"IF(N127=1,Eingabe!D45,\"\")","v":""},{"$f":"IF(N127=1,Eingabe!E45,\"\")","v":""},{"$f":"IF(N127=1,Eingabe!N45,\"\")","v":""},{"$f":"IF(N127=1,Eingabe!O45,\"\")","v":""},null,"","",null,null,0,{"$f":"IF(Eingabe!O45=\"\",0,1)","v":0},"",25,null,{"$f":"IF(Eingabe!$E45=\"U15\",1,\"\")","v":""},{"$f":"IF(Eingabe!$E45=\"U17\",1,\"\")","v":""},{"$f":"IF(Eingabe!$E45=\"U19\",1,\"\")","v":""},{"$f":"IF(Eingabe!$E45=\"U21\",1,\"\")","v":""},0]
[26,{"$f":"IF(N128=1,Eingabe!B46,\"\")","v":""},null,null,{"$f":"IF(N128=1,Eingabe!D46,\"\")","v":""},{"$f":"IF(N128=1,Eingabe!E46,\"\")","v":""},{"$f":"IF(N128=1,Eingabe!N46,\"\")","v":""},{"$f":"IF(N128=1,Eingabe!O46,\"\")","v":""},null,"","",null,null,0,{"$f":"IF(Eingabe!O46=\"\",0,1)","v":0},"",26,null,{"$f":"IF(Eingabe!$E46=\"U15\",1,\"\")","v":""},{"$f":"IF(Eingabe!$E46=\"U17\",1,\"\")","v":""},{"$f":"IF(Eingabe!$E46=\"U19\",1,\"\")","v":""},{"$f":"IF(Eingabe!$E46=\"U21\",1,\"\")","v":""},0]
[27,{"$f":"IF(N129=1,Eingabe!B47,\"\")","v":""},null,null,{"$f":"IF(N129=1,Eingabe!D47,\"\")","v":""},{"$f":"IF(N129=1,Eingabe!E47,\"\")","v":""},{"$f":"IF(N129=1,Eingabe!N47,\"\")","v":""},{"$f":"IF(N129=1,Eingabe!O47,\"\")","v":""},null,"","",null,null,0,{"$f":"IF(Eingabe!O47=\"\",0,1)","v":0},"",27,null,{"$f":"IF(Eingabe!$E47=\"U15\",1,\"\")","v":""},{"$f":"IF(Eingabe!$E47=\"U17\",1,\"\")","v":""},{"$f":"IF(Eingabe!$E47=\"U19\",1,\"\")","v":""},{"$f":"IF(Eingabe!$E47=\"U21\",1,\"\")","v":""},0]
[28,{"$f":"IF(N130=1,Eingabe!B48,\"\")","v":""},null,null,{"$f":"IF(N130=1,Eingabe!D48,\"\")","v":""},{"$f":"IF(N130=1,Eingabe!E48,\"\")","v":""},{"$f":"IF(N130=1,Eingabe!N48,\"\")","v":""},{"$f":"IF(N130=1,Eingabe!O48,\"\")","v":""},null,"","",null,null,0,{"$f":"IF(Eingabe!O48=\"\",0,1)","v":0},"",28,null,{"$f":"IF(Eingabe!$E48=\"U15\",1,\"\")","v":""},{"$f":"IF(Eingabe!$E48=\"U17\",1,\"\")","v":""},{"$f":"IF(Eingabe!$E48=\"U19\",1,\"\")","v":""},{"$f":"IF(Eingabe!$E48=\"U21\",1,\"\")","v":""},0]
[29,{"$f":"IF(N131=1,Eingabe!B49,\"\")","v":""},null,null,{"$f":"IF(N131=1,Eingabe!D49,\"\")","v":""},{"$f":"IF(N131=1,Eingabe!E49,\"\")","v":""},{"$f":"IF(N131=1,Eingabe!N49,\"\")","v":""},{"$f":"IF(N131=1,Eingabe!O49,\"\")","v":""},null,"","",null,null,0,{"$f":"IF(Eingabe!O49=\"\",0,1)","v":0},"",29,null,{"$f":"IF(Eingabe!$E49=\"U15\",1,\"\")","v":""},{"$f":"IF(Eingabe!$E49=\"U17\",1,\"\")","v":""},{"$f":"IF(Eingabe!$E49=\"U19\",1,\"\")","v":""},{"$f":"IF(Eingabe!$E49=\"U21\",1,\"\")","v":""},0]
[30,{"$f":"IF(N132=1,Eingabe!B50,\"\")","v":""},null,null,{"$f":"IF(N132=1,Eingabe!D50,\"\")","v":""},{"$f":"IF(N132=1,Eingabe!E50,\"\")","v":""},{"$f":"IF(N132=1,Eingabe!N50,\"\")","v":""},{"$f":"IF(N132=1,Eingabe!O50,\"\")","v":""},null,"","",null,null,0,{"$f":"IF(Eingabe!O50=\"\",0,1)","v":0},"",30,null,{"$f":"IF(Eingabe!$E50=\"U15\",1,\"\")","v":""},{"$f":"IF(Eingabe!$E50=\"U17\",1,\"\")","v":""},{"$f":"IF(Eingabe!$E50=\"U19\",1,\"\")","v":""},{"$f":"IF(Eingabe!$E50=\"U21\",1,\"\")","v":""},0]
[31,{"$f":"IF(N133=1,Eingabe!B51,\"\")","v":""},null,null,{"$f":"IF(N133=1,Eingabe!D51,\"\")","v":""},{"$f":"IF(N133=1,Eingabe!E51,\"\")","v":""},{"$f":"IF(N133=1,Eingabe!N51,\"\")","v":""},{"$f":"IF(N133=1,Eingabe!O51,\"\")","v":""},null,"","",null,null,0,{"$f":"IF(Eingabe!O51=\"\",0,1)","v":0},"",31,null,{"$f":"IF(Eingabe!$E51=\"U15\",1,\"\")","v":""},{"$f":"IF(Eingabe!$E51=\"U17\",1,\"\")","v":""},{"$f":"IF(Eingabe!$E51=\"U19\",1,\"\")","v":""},{"$f":"IF(Eingabe!$E51=\"U21\",1,\"\")","v":""},0]
[32,{"$f":"IF(N134=1,Eingabe!B52,\"\")","v":""},null,null,{"$f":"IF(N134=1,Eingabe!D52,\"\")","v":""},{"$f":"IF(N134=1,Eingabe!E52,\"\")","v":""},{"$f":"IF(N134=1,Eingabe!N52,\"\")","v":""},{"$f":"IF(N134=1,Eingabe!O52,\"\")","v":""},null,"","",null,null,0,{"$f":"IF(Eingabe!O52=\"\",0,1)","v":0},"",32,null,{"$f":"IF(Eingabe!$E52=\"U15\",1,\"\")","v":""},{"$f":"IF(Eingabe!$E52=\"U17\",1,\"\")","v":""},{"$f":"IF(Eingabe!$E52=\"U19\",1,\"\")","v":""},{"$f":"IF(Eingabe!$E52=\"U21\",1,\"\")","v":""},0]
[33,{"$f":"IF(N135=1,Eingabe!B53,\"\")","v":""},null,null,{"$f":"IF(N135=1,Eingabe!D53,\"\")","v":""},{"$f":"IF(N135=1,Eingabe!E53,\"\")","v":""},{"$f":"IF(N135=1,Eingabe!N53,\"\")","v":""},{"$f":"IF(N135=1,Eingabe!O53,\"\")","v":""},null,"","",null,null,0,{"$f":"IF(Eingabe!O53=\"\",0,1)","v":0},"",33,null,{"$f":"IF(Eingabe!$E53=\"U15\",1,\"\")","v":""},{"$f":"IF(Eingabe!$E53=\"U17\",1,\"\")","v":""},{"$f":"IF(Eingabe!$E53=\"U19\",1,\"\")","v":""},{"$f":"IF(Eingabe!$E53=\"U21\",1,\"\")","v":""},0]
[34,{"$f":"IF(N136=1,Eingabe!B54,\"\")","v":""},null,null,{"$f":"IF(N136=1,Eingabe!D54,\"\")","v":""},{"$f":"IF(N136=1,Eingabe!E54,\"\")","v":""},{"$f":"IF(N136=1,Eingabe!N54,\"\")","v":""},{"$f":"IF(N136=1,Eingabe!O54,\"\")","v":""},null,"","",null,null,0,{"$f":"IF(Eingabe!O54=\"\",0,1)","v":0},"",34,null,{"$f":"IF(Eingabe!$E54=\"U15\",1,\"\")","v":""},{"$f":"IF(Eingabe!$E54=\"U17\",1,\"\")","v":""},{"$f":"IF(Eingabe!$E54=\"U19\",1,\"\")","v":""},{"$f":"IF(Eingabe!$E54=\"U21\",1,\"\")","v":""},0]
[35,{"$f":"IF(N137=1,Eingabe!B55,\"\")","v":""},null,null,{"$f":"IF(N137=1,Eingabe!D55,\"\")","v":""},{"$f":"IF(N137=1,Eingabe!E55,\"\")","v":""},{"$f":"IF(N137=1,Eingabe!N55,\"\")","v":""},{"$f":"IF(N137=1,Eingabe!O55,\"\")","v":""},null,"","",null,null,0,{"$f":"IF(Eingabe!O55=\"\",0,1)","v":0},"",35,null,{"$f":"IF(Eingabe!$E55=\"U15\",1,\"\")","v":""},{"$f":"IF(Eingabe!$E55=\"U17\",1,\"\")","v":""},{"$f":"IF(Eingabe!$E55=\"U19\",1,\"\")","v":""},{"$f":"IF(Eingabe!$E55=\"U21\",1,\"\")","v":""},0]
[36,{"$f":"IF(N138=1,Eingabe!B56,\"\")","v":""},null,null,{"$f":"IF(N138=1,Eingabe!D56,\"\")","v":""},{"$f":"IF(N138=1,Eingabe!E56,\"\")","v":""},{"$f":"IF(N138=1,Eingabe!N56,\"\")","v":""},{"$f":"IF(N138=1,Eingabe!O56,\"\")","v":""},null,"","",null,null,0,{"$f":"IF(Eingabe!O56=\"\",0,1)","v":0},"",36,null,{"$f":"IF(Eingabe!$E56=\"U15\",1,\"\")","v":""},{"$f":"IF(Eingabe!$E56=\"U17\",1,\"\")","v":""},{"$f":"IF(Eingabe!$E56=\"U19\",1,\"\")","v":""},{"$f":"IF(Eingabe!$E56=\"U21\",1,\"\")","v":""},0]
[37,{"$f":"IF(N139=1,Eingabe!B57,\"\")","v":""},null,null,{"$f":"IF(N139=1,Eingabe!D57,\"\")","v":""},{"$f":"IF(N139=1,Eingabe!E57,\"\")","v":""},{"$f":"IF(N139=1,Eingabe!N57,\"\")","v":""},{"$f":"IF(N139=1,Eingabe!O57,\"\")","v":""},null,"","",null,null,0,{"$f":"IF(Eingabe!O57=\"\",0,1)","v":0},"",37,null,{"$f":"IF(Eingabe!$E57=\"U15\",1,\"\")","v":""},{"$f":"IF(Eingabe!$E57=\"U17\",1,\"\")","v":""},{"$f":"IF(Eingabe!$E57=\"U19\",1,\"\")","v":""},{"$f":"IF(Eingabe!$E57=\"U21\",1,\"\")","v":""},0]
[38,{"$f":"IF(N140=1,Eingabe!B58,\"\")","v":""},null,null,{"$f":"IF(N140=1,Eingabe!D58,\"\")","v":""},{"$f":"IF(N140=1,Eingabe!E58,\"\")","v":""},{"$f":"IF(N140=1,Eingabe!N58,\"\")","v":""},{"$f":"IF(N140=1,Eingabe!O58,\"\")","v":""},null,"","",null,null,0,{"$f":"IF(Eingabe!O58=\"\",0,1)","v":0},"",38,null,{"$f":"IF(Eingabe!$E58=\"U15\",1,\"\")","v":""},{"$f":"IF(Eingabe!$E58=\"U17\",1,\"\")","v":""},{"$f":"IF(Eingabe!$E58=\"U19\",1,\"\")","v":""},{"$f":"IF(Eingabe!$E58=\"U21\",1,\"\")","v":""},0]
[39,{"$f":"IF(N141=1,Eingabe!B59,\"\")","v":""},null,null,{"$f":"IF(N141=1,Eingabe!D59,\"\")","v":""},{"$f":"IF(N141=1,Eingabe!E59,\"\")","v":""},{"$f":"IF(N141=1,Eingabe!N59,\"\")","v":""},{"$f":"IF(N141=1,Eingabe!O59,\"\")","v":""},null,"","",null,null,0,{"$f":"IF(Eingabe!O59=\"\",0,1)","v":0},"",39,null,{"$f":"IF(Eingabe!$E59=\"U15\",1,\"\")","v":""},{"$f":"IF(Eingabe!$E59=\"U17\",1,\"\")","v":""},{"$f":"IF(Eingabe!$E59=\"U19\",1,\"\")","v":""},{"$f":"IF(Eingabe!$E59=\"U21\",1,\"\")","v":""},0]
[40,{"$f":"IF(N142=1,Eingabe!B60,\"\")","v":""},null,null,{"$f":"IF(N142=1,Eingabe!D60,\"\")","v":""},{"$f":"IF(N142=1,Eingabe!E60,\"\")","v":""},{"$f":"IF(N142=1,Eingabe!N60,\"\")","v":""},{"$f":"IF(N142=1,Eingabe!O60,\"\")","v":""},null,"","",null,null,0,{"$f":"IF(Eingabe!O60=\"\",0,1)","v":0},"",40,null,{"$f":"IF(Eingabe!$E60=\"U15\",1,\"\")","v":""},{"$f":"IF(Eingabe!$E60=\"U17\",1,\"\")","v":""},{"$f":"IF(Eingabe!$E60=\"U19\",1,\"\")","v":""},{"$f":"IF(Eingabe!$E60=\"U21\",1,\"\")","v":""},0]
[null,null,null,null,null,null,null,null,null,{"$f":"COUNT(J17:J142)","v":0},{"$f":"SUM(K17:K142)","v":0}]
[null,null,null,null,null,null,null,null,null,"Anz. E",{"$f":"COUNTIF(J17:J56,\">0\")","v":0}]
[null,null,null,null,null,null,null,null,null,"Anz. V",{"$f":"COUNTIF(J60:J99,\">0\")","v":0}]
[null,null,null,null,null,null,null,null,null,"Anz. J",{"$f":"COUNTIF(J103:J142,\">0\")","v":0}]
[null,null,null,null,null,null,null,null,null,"Total",{"$f":"SUM(K144:K146)","v":0}]

{"sheet":"PK","index":3,"n_rows":58,"n_cols":32,"rows_kept":58,"cut":false,"hidden":false,"merged":[[17,1,17,2],[3,2,3,3],[4,2,4,3],[5,2,5,3],[6,2,6,3],[9,2,9,3],[3,11,3,12],[10,2,10,3],[11,2,11,3],[12,2,12,3],[1,11,1,12]]}
[null,null,"Zentralschweizerischer Sportschützen-Verband"]
[null,null,"PRÄMIENKARTENSTICH - ABRECHNUNG",null,null,null,null,null,null,null,null,{"$f":"Eingabe!C3","v":2024}]
[]
["Sektionsname",null,{"$f":"Eingabe!C5","v":0},null,null,"Anzahl Doppel à 7.50",null,null,null,{"$f":"SUM(S19:S58)","v":0},null,{"$f":"J4*7.5","v":0},null,null,null,null,null,null,"Limite Ehrenmeldung:"]
["Ort",null,{"$f":"Eingabe!C6","v":0},null,null,"Anzahl Prämienkarten",null,null,null,{"$f":"SUM(AE19:AE58)","v":0},null,"à 5.--",null,null,null,null,null,null,"U15",null,85]
["Anzahl Mitglieder",null,{"$f":"Eingabe!C7","v":0},null,null,null,null,null,null,null,null,null,null,null,null,null,null,null,"U17",null,86]
["Anzahl Teilnehmer",null,null,null,null,null,null,null,null,null,null,null,null,null,null,null,null,null,"U19",null,86]
[null,null,null,null,null,null,null,null,null,null,null,null,null,null,null,null,null,null,"U21",null,86]
["der/die Verantwortliche:",null,null,null,null,"der Ressortchef:",null,null,null,null,null,null,null,null,null,null,null,null,"Elite",null,88]
["Name/Vorname ",null,{"$f":"Eingabe!C11","v":0},null,null,{"$f":"Eingabe!G11","v":"Bersanini Aldo"},null,null,null,null,null,null,null,null,null,null,null,null,"Senioren",null,88]
["Strasse",null,{"$f":"Eingabe!C12","v":0},null,null,{"$f":"Eingabe!G12","v":"Hausmatt 33"},null,null,null,null,null,null,null,null,null,null,null,null,"Veteranen",null,86]
["PLZ/Ort",null,{"$f":"Eingabe!C13","v":0},null,null,{"$f":"Eingabe!G13","v":"6422 Steinen"},null,null,null,null,null,null,null,null,null,null,null,null,"Seniorvetereanen",null,85]
["Telefon",null,{"$f":"Eingabe!C14","v":0},null,null,{"$f":"Eingabe!G14","v":"079 208 75 19"},null,null,null,null,null,null,null,null,null,null,null,null,"IV-Ausweis"]
["E-Mail",null,{"$f":"Eingabe!C15","v":0},null,null,{"$f":"Eingabe!G15","v":"aldobersanini.zsv@bluewin.ch"}]
[null,null,null,null,null,"Abrechnungsdatum: 1. Oktober"]
[]
["Rangliste"]
["Rang","Name + Vorname",null,"Jahrgang","Elite/Veteranen/Junioren","1. Doppel","2. Doppel","3. Doppel","4. Doppel","5. Doppel","6. Doppel","7. Doppel","8. Doppel","9. Doppel","10. Doppel","Prämienkarten","Hilfsspalte 1 Sortierung","Hilfsspalte 2 Sortierung","Anzahl Doppel","Sortierung","PK1","PK2","PK3","PK4","PK5","PK6","PK7","PK8","PK9","PK10","Tot PK","Limite"]
[1,{"$f":"IF(Eingabe!$R21>0,Eingabe!B21,\"\")","v":""},null,{"$f":"IF(Eingabe!$R21>0,Eingabe!D21,\"\")","v":""},{"$f":"IF(Eingabe!$R21>0,Eingabe!E21,\"\")","v":""},{"$f":"IF(Eingabe!R21>0,Eingabe!R21,\"\")","v":""},{"$f":"IF(Eingabe!S21>0,Eingabe!S21,\"\")","v":""},{"$f":"IF(Eingabe!T21>0,Eingabe!T21,\"\")","v":""},{"$f":"IF(Eingabe!U21>0,Eingabe!U21,\"\")","v":""},{"$f":"IF(Eingabe!V21>0,Eingabe!V21,\"\")","v":""},{"$f":"IF(Eingabe!W21>0,Eingabe!W21,\"\")","v":""},{"$f":"IF(Eingabe!X21>0,Eingabe!X21,\"\")","v":""},{"$f":"IF(Eingabe!Y21>0,Eingabe!Y21,\"\")","v":""},{"$f":"IF(Eingabe!Z21>0,Eingabe!Z21,\"\")","v":""},{"$f":"IF(Eingabe!AA21>0,Eingabe!AA21,\"\")","v":""},{"$f":"IF(AE19>0,AE19,\" \")","v":" "},{"$f":"LARGE(F19:O19,1)","v":{"$error":"#NUM!"}},{"$f":"IF(F19=\"\",0,1)","v":0},{"$f":"COUNT(F19:O19)","v":0},1,{"$f":"IF($B19=\"\",0,IF(F19>=AF19,1,0))","v":0},{"$f":"IF($B19=\"\",0,IF(G19=\"\",0,IF(G19>=AF19,1,0)))","v":0},{"$f":"IF($B19=\"\",0,IF(H19=\"\",0,IF(H19>=AF19,1,0)))","v":0},{"$f":"IF($B19=\"\",0,IF(I19=\"\",0,IF(I19>=AF19,1,0)))","v":0},{"$f":"IF($B19=\"\",0,IF(J19=\"\",0,IF(J19>=AF19,1,0)))","v":0},{"$f":"IF($B19=\"\",0,IF(K19=\"\",0,IF(K19>=$AF19,1,0)))","v":0},{"$f":"IF($B19=\"\",0,IF(L19=\"\",0,IF(L19>=$AF19,1,0)))","v":0},0,0,0,{"$f":"SUM(U19:AD19)","v":0},{"$f":"IF(E19=\"E\",$U$9,IF(E19=\"V\",$U$11,IF(E19=\"U21\",$U$8,IF(E19=\"S\",$U$10,IF(E19=\"SV\",$U$12,IF(E19=\"U15\",$U$5,IF(E19=\"U17\",$U$6,IF(E19=\"U19\",$U$7,\"\"))))))))","v":""}]
[2,{"$f":"IF(Eingabe!$R22>0,Eingabe!B22,\"\")","v":""},null,{"$f":"IF(Eingabe!$R22>0,Eingabe!D22,\"\")","v":""},{"$f":"IF(Eingabe!$R22>0,Eingabe!E22,\"\")","v":""},{"$f":"IF(Eingabe!R22>0,Eingabe!R22,\"\")","v":""},{"$f":"IF(Eingabe!S22>0,Eingabe!S22,\"\")","v":""},{"$f":"IF(Eingabe!T22>0,Eingabe!T22,\"\")","v":""},{"$f":"IF(Eingabe!U22>0,Eingabe!U22,\"\")","v":""},{"$f":"IF(Eingabe!V22>0,Eingabe!V22,\"\")","v":""},{"$f":"IF(Eingabe!W22>0,Eingabe!W22,\"\")","v":""},{"$f":"IF(Eingabe!X22>0,Eingabe!X22,\"\")","v":""},{"$f":"IF(Eingabe!Y22>0,Eingabe!Y22,\"\")","v":""},{"$f":"IF(Eingabe!Z22>0,Eingabe!Z22,\"\")","v":""},{"$f":"IF(Eingabe!AA22>0,Eingabe!AA22,\"\")","v":""},{"$f":"IF(AE20>0,AE20,\" \")","v":" "},{"$f":"LARGE(F20:O20,1)","v":{"$error":"#NUM!"}},{"$f":"IF(F20=\"\",0,1)","v":0},{"$f":"COUNT(F20:O20)","v":0},2,{"$f":"IF($B20=\"\",0,IF(F20>=AF20,1,0))","v":0},{"$f":"IF($B20=\"\",0,IF(G20=\"\",0,IF(G20>=AF20,1,0)))","v":0},{"$f":"IF($B20=\"\",0,IF(H20=\"\",0,IF(H20>=AF20,1,0)))","v":0},{"$f":"IF($B20=\"\",0,IF(I20=\"\",0,IF(I20>=AF20,1,0)))","v":0},{"$f":"IF($B20=\"\",0,IF(J20=\"\",0,IF(J20>=AF20,1,0)))","v":0},{"$f":"IF($B20=\"\",0,IF(K20=\"\",0,IF(K20>=$AF20,1,0)))","v":0},{"$f":"IF($B20=\"\",0,IF(L20=\"\",0,IF(L20>=$AF20,1,0)))","v":0},{"$f":"IF($B20=\"\",0,IF(M20=\"\",0,IF(M20>=$AF20,1,0)))","v":0},{"$f":"IF($B20=\"\",0,IF(N20=\"\",0,IF(N20>=$AF20,1,0)))","v":0},{"$f":"IF($B20=\"\",0,IF(O20=\"\",0,IF(O20>=$AF20,1,0)))","v":0},{"$f":"SUM(U20:AD20)","v":0},""]
[3,{"$f":"IF(Eingabe!$R23>0,Eingabe!B23,\"\")","v":""},null,{"$f":"IF(Eingabe!$R23>0,Eingabe!D23,\"\")","v":""},{"$f":"IF(Eingabe!$R23>0,Eingabe!E23,\"\")","v":""},{"$f":"IF(Eingabe!R23>0,Eingabe!R23,\"\")","v":""},{"$f":"IF(Eingabe!S23>0,Eingabe!S23,\"\")","v":""},{"$f":"IF(Eingabe!T23>0,Eingabe!T23,\"\")","v":""},{"$f":"IF(Eingabe!U23>0,Eingabe!U23,\"\")","v":""},{"$f":"IF(Eingabe!V23>0,Eingabe!V23,\"\")","v":""},{"$f":"IF(Eingabe!W23>0,Eingabe!W23,\"\")","v":""},{"$f":"IF(Eingabe!X23>0,Eingabe!X23,\"\")","v":""},{"$f":"IF(Eingabe!Y23>0,Eingabe!Y23,\"\")","v":""},{"$f":"IF(Eingabe!Z23>0,Eingabe!Z23,\"\")","v":""},{"$f":"IF(Eingabe!AA23>0,Eingabe!AA23,\"\")","v":""}," ",{"$error":"#NUM!"},0,0,3,0,0,0,0,0,0,0,0,0,0,0,""]
[4,{"$f":"IF(Eingabe!$R24>0,Eingabe!B24,\"\")","v":""},null,{"$f":"IF(Eingabe!$R24>0,Eingabe!D24,\"\")","v":""},{"$f":"IF(Eingabe!$R24>0,Eingabe!E24,\"\")","v":""},{"$f":"IF(Eingabe!R24>0,Eingabe!R24,\"\")","v":""},{"$f":"IF(Eingabe!S24>0,Eingabe!S24,\"\")","v":""},{"$f":"IF(Eingabe!T24>0,Eingabe!T24,\"\")","v":""},{"$f":"IF(Eingabe!U24>0,Eingabe!U24,\"\")","v":""},{"$f":"IF(Eingabe!V24>0,Eingabe!V24,\"\")","v":""},{"$f":"IF(Eingabe!W24>0,Eingabe!W24,\"\")","v":""},{"$f":"IF(Eingabe!X24>0,Eingabe!X24,\"\")","v":""},{"$f":"IF(Eingabe!Y24>0,Eingabe!Y24,\"\")","v":""},{"$f":"IF(Eingabe!Z24>0,Eingabe!Z24,\"\")","v":""},{"$f":"IF(Eingabe!AA24>0,Eingabe!AA24,\"\")","v":""}," ",{"$error":"#NUM!"},0,0,4,0,0,0,0,0,0,0,0,0,0,0,""]
[5,{"$f":"IF(Eingabe!$R25>0,Eingabe!B25,\"\")","v":""},null,{"$f":"IF(Eingabe!$R25>0,Eingabe!D25,\"\")","v":""},{"$f":"IF(Eingabe!$R25>0,Eingabe!E25,\"\")","v":""},{"$f":"IF(Eingabe!R25>0,Eingabe!R25,\"\")","v":""},{"$f":"IF(Eingabe!S25>0,Eingabe!S25,\"\")","v":""},{"$f":"IF(Eingabe!T25>0,Eingabe!T25,\"\")","v":""},{"$f":"IF(Eingabe!U25>0,Eingabe!U25,\"\")","v":""},{"$f":"IF(Eingabe!V25>0,Eingabe!V25,\"\")","v":""},{"$f":"IF(Eingabe!W25>0,Eingabe!W25,\"\")","v":""},{"$f":"IF(Eingabe!X25>0,Eingabe!X25,\"\")","v":""},{"$f":"IF(Eingabe!Y25>0,Eingabe!Y25,\"\")","v":""},{"$f":"IF(Eingabe!Z25>0,Eingabe!Z25,\"\")","v":""},{"$f":"IF(Eingabe!AA25>0,Eingabe!AA25,\"\")","v":""}," ",{"$error":"#NUM!"},0,0,5,0,0,0,0,0,0,0,0,0,0,0,""]
[6,{"$f":"IF(Eingabe!$R26>0,Eingabe!B26,\"\")","v":""},null,{"$f":"IF(Eingabe!$R26>0,Eingabe!D26,\"\")","v":""},{"$f":"IF(Eingabe!$R26>0,Eingabe!E26,\"\")","v":""},{"$f":"IF(Eingabe!R26>0,Eingabe!R26,\"\")","v":""},{"$f":"IF(Eingabe!S26>0,Eingabe!S26,\"\")","v":""},{"$f":"IF(Eingabe!T26>0,Eingabe!T26,\"\")","v":""},{"$f":"IF(Eingabe!U26>0,Eingabe!U26,\"\")","v":""},{"$f":"IF(Eingabe!V26>0,Eingabe!V26,\"\")","v":""},{"$f":"IF(Eingabe!W26>0,Eingabe!W26,\"\")","v":""},{"$f":"IF(Eingabe!X26>0,Eingabe!X26,\"\")","v":""},{"$f":"IF(Eingabe!Y26>0,Eingabe!Y26,\"\")","v":""},{"$f":"IF(Eingabe!Z26>0,Eingabe!Z26,\"\")","v":""},{"$f":"IF(Eingabe!AA26>0,Eingabe!AA26,\"\")","v":""}," ",{"$error":"#NUM!"},0,0,6,0,0,0,0,0,0,0,0,0,0,0,""]
[7,{"$f":"IF(Eingabe!$R27>0,Eingabe!B27,\"\")","v":""},null,{"$f":"IF(Eingabe!$R27>0,Eingabe!D27,\"\")","v":""},{"$f":"IF(Eingabe!$R27>0,Eingabe!E27,\"\")","v":""},{"$f":"IF(Eingabe!R27>0,Eingabe!R27,\"\")","v":""},{"$f":"IF(Eingabe!S27>0,Eingabe!S27,\"\")","v":""},{"$f":"IF(Eingabe!T27>0,Eingabe!T27,\"\")","v":""},{"$f":"IF(Eingabe!U27>0,Eingabe!U27,\"\")","v":""},{"$f":"IF(Eingabe!V27>0,Eingabe!V27,\"\")","v":""},{"$f":"IF(Eingabe!W27>0,Eingabe!W27,\"\")","v":""},{"$f":"IF(Eingabe!X27>0,Eingabe!X27,\"\")","v":""},{"$f":"IF(Eingabe!Y27>0,Eingabe!Y27,\"\")","v":""},{"$f":"IF(Eingabe!Z27>0,Eingabe!Z27,\"\")","v":""},{"$f":"IF(Eingabe!AA27>0,Eingabe!AA27,\"\")","v":""}," ",{"$error":"#NUM!"},0,0,7,0,0,0,0,0,0,0,0,0,0,0,""]
[8,{"$f":"IF(Eingabe!$R28>0,Eingabe!B28,\"\")","v":""},null,{"$f":"IF(Eingabe!$R28>0,Eingabe!D28,\"\")","v":""},{"$f":"IF(Eingabe!$R28>0,Eingabe!E28,\"\")","v":""},{"$f":"IF(Eingabe!R28>0,Eingabe!R28,\"\")","v":""},{"$f":"IF(Eingabe!S28>0,Eingabe!S28,\"\")","v":""},{"$f":"IF(Eingabe!T28>0,Eingabe!T28,\"\")","v":""},{"$f":"IF(Eingabe!U28>0,Eingabe!U28,\"\")","v":""},{"$f":"IF(Eingabe!V28>0,Eingabe!V28,\"\")","v":""},{"$f":"IF(Eingabe!W28>0,Eingabe!W28,\"\")","v":""},{"$f":"IF(Eingabe!X28>0,Eingabe!X28,\"\")","v":""},{"$f":"IF(Eingabe!Y28>0,Eingabe!Y28,\"\")","v":""},{"$f":"IF(Eingabe!Z28>0,Eingabe!Z28,\"\")","v":""},{"$f":"IF(Eingabe!AA28>0,Eingabe!AA28,\"\")","v":""}," ",{"$error":"#NUM!"},0,0,8,0,0,0,0,0,0,0,0,0,0,0,""]
[9,{"$f":"IF(Eingabe!$R29>0,Eingabe!B29,\"\")","v":""},null,{"$f":"IF(Eingabe!$R29>0,Eingabe!D29,\"\")","v":""},{"$f":"IF(Eingabe!$R29>0,Eingabe!E29,\"\")","v":""},{"$f":"IF(Eingabe!R29>0,Eingabe!R29,\"\")","v":""},{"$f":"IF(Eingabe!S29>0,Eingabe!S29,\"\")","v":""},{"$f":"IF(Eingabe!T29>0,Eingabe!T29,\"\")","v":""},{"$f":"IF(Eingabe!U29>0,Eingabe!U29,\"\")","v":""},{"$f":"IF(Eingabe!V29>0,Eingabe!V29,\"\")","v":""},{"$f":"IF(Eingabe!W29>0,Eingabe!W29,\"\")","v":""},{"$f":"IF(Eingabe!X29>0,Eingabe!X29,\"\")","v":""},{"$f":"IF(Eingabe!Y29>0,Eingabe!Y29,\"\")","v":""},{"$f":"IF(Eingabe!Z29>0,Eingabe!Z29,\"\")","v":""},{"$f":"IF(Eingabe!AA29>0,Eingabe!AA29,\"\")","v":""}," ",{"$error":"#NUM!"},0,0,9,0,0,0,0,0,0,0,0,0,0,0,""]
[10,{"$f":"IF(Eingabe!$R30>0,Eingabe!B30,\"\")","v":""},null,{"$f":"IF(Eingabe!$R30>0,Eingabe!D30,\"\")","v":""},{"$f":"IF(Eingabe!$R30>0,Eingabe!E30,\"\")","v":""},{"$f":"IF(Eingabe!R30>0,Eingabe!R30,\"\")","v":""},{"$f":"IF(Eingabe!S30>0,Eingabe!S30,\"\")","v":""},{"$f":"IF(Eingabe!T30>0,Eingabe!T30,\"\")","v":""},{"$f":"IF(Eingabe!U30>0,Eingabe!U30,\"\")","v":""},{"$f":"IF(Eingabe!V30>0,Eingabe!V30,\"\")","v":""},{"$f":"IF(Eingabe!W30>0,Eingabe!W30,\"\")","v":""},{"$f":"IF(Eingabe!X30>0,Eingabe!X30,\"\")","v":""},{"$f":"IF(Eingabe!Y30>0,Eingabe!Y30,\"\")","v":""},{"$f":"IF(Eingabe!Z30>0,Eingabe!Z30,\"\")","v":""},{"$f":"IF(Eingabe!AA30>0,Eingabe!AA30,\"\")","v":""}," ",{"$error":"#NUM!"},0,0,10,0,0,0,0,0,0,0,0,0,0,0,""]
[11,{"$f":"IF(Eingabe!$R31>0,Eingabe!B31,\"\")","v":""},null,{"$f":"IF(Eingabe!$R31>0,Eingabe!D31,\"\")","v":""},{"$f":"IF(Eingabe!$R31>0,Eingabe!E31,\"\")","v":""},{"$f":"IF(Eingabe!R31>0,Eingabe!R31,\"\")","v":""},{"$f":"IF(Eingabe!S31>0,Eingabe!S31,\"\")","v":""},{"$f":"IF(Eingabe!T31>0,Eingabe!T31,\"\")","v":""},{"$f":"IF(Eingabe!U31>0,Eingabe!U31,\"\")","v":""},{"$f":"IF(Eingabe!V31>0,Eingabe!V31,\"\")","v":""},{"$f":"IF(Eingabe!W31>0,Eingabe!W31,\"\")","v":""},{"$f":"IF(Eingabe!X31>0,Eingabe!X31,\"\")","v":""},{"$f":"IF(Eingabe!Y31>0,Eingabe!Y31,\"\")","v":""},{"$f":"IF(Eingabe!Z31>0,Eingabe!Z31,\"\")","v":""},{"$f":"IF(Eingabe!AA31>0,Eingabe!AA31,\"\")","v":""}," ",{"$error":"#NUM!"},0,0,11,0,0,0,0,0,0,0,0,0,0,0,""]
[12,{"$f":"IF(Eingabe!$R32>0,Eingabe!B32,\"\")","v":""},null,{"$f":"IF(Eingabe!$R32>0,Eingabe!D32,\"\")","v":""},{"$f":"IF(Eingabe!$R32>0,Eingabe!E32,\"\")","v":""},{"$f":"IF(Eingabe!R32>0,Eingabe!R32,\"\")","v":""},{"$f":"IF(Eingabe!S32>0,Eingabe!S32,\"\")","v":""},{"$f":"IF(Eingabe!T32>0,Eingabe!T32,\"\")","v":""},{"$f":"IF(Eingabe!U32>0,Eingabe!U32,\"\")","v":""},{"$f":"IF(Eingabe!V32>0,Eingabe!V32,\"\")","v":""},{"$f":"IF(Eingabe!W32>0,Eingabe!W32,\"\")","v":""},{"$f":"IF(Eingabe!X32>0,Eingabe!X32,\"\")","v":""},{"$f":"IF(Eingabe!Y32>0,Eingabe!Y32,\"\")","v":""},{"$f":"IF(Eingabe!Z32>0,Eingabe!Z32,\"\")","v":""},{"$f":"IF(Eingabe!AA32>0,Eingabe!AA32,\"\")","v":""}," ",{"$error":"#NUM!"},0,0,12,0,0,0,0,0,0,0,0,0,0,0,""]
[13,{"$f":"IF(Eingabe!$R33>0,Eingabe!B33,\"\")","v":""},null,{"$f":"IF(Eingabe!$R33>0,Eingabe!D33,\"\")","v":""},{"$f":"IF(Eingabe!$R33>0,Eingabe!E33,\"\")","v":""},{"$f":"IF(Eingabe!R33>0,Eingabe!R33,\"\")","v":""},{"$f":"IF(Eingabe!S33>0,Eingabe!S33,\"\")","v":""},{"$f":"IF(Eingabe!T33>0,Eingabe!T33,\"\")","v":""},{"$f":"IF(Eingabe!U33>0,Eingabe!U33,\"\")","v":""},{"$f":"IF(Eingabe!V33>0,Eingabe!V33,\"\")","v":""},{"$f":"IF(Eingabe!W33>0,Eingabe!W33,\"\")","v":""},{"$f":"IF(Eingabe!X33>0,Eingabe!X33,\"\")","v":""},{"$f":"IF(Eingabe!Y33>0,Eingabe!Y33,\"\")","v":""},{"$f":"IF(Eingabe!Z33>0,Eingabe!Z33,\"\")","v":""},{"$f":"IF(Eingabe!AA33>0,Eingabe!AA33,\"\")","v":""}," ",{"$error":"#NUM!"},0,0,13,0,0,0,0,0,0,0,0,0,0,0,""]
[14,{"$f":"IF(Eingabe!$R34>0,Eingabe!B34,\"\")","v":""},null,{"$f":"IF(Eingabe!$R34>0,Eingabe!D34,\"\")","v":""},{"$f":"IF(Eingabe!$R34>0,Eingabe!E34,\"\")","v":""},{"$f":"IF(Eingabe!R34>0,Eingabe!R34,\"\")","v":""},{"$f":"IF(Eingabe!S34>0,Eingabe!S34,\"\")","v":""},{"$f":"IF(Eingabe!T34>0,Eingabe!T34,\"\")","v":""},{"$f":"IF(Eingabe!U34>0,Eingabe!U34,\"\")","v":""},{"$f":"IF(Eingabe!V34>0,Eingabe!V34,\"\")","v":""},{"$f":"IF(Eingabe!W34>0,Eingabe!W34,\"\")","v":""},{"$f":"IF(Eingabe!X34>0,Eingabe!X34,\"\")","v":""},{"$f":"IF(Eingabe!Y34>0,Eingabe!Y34,\"\")","v":""},{"$f":"IF(Eingabe!Z34>0,Eingabe!Z34,\"\")","v":""},{"$f":"IF(Eingabe!AA34>0,Eingabe!AA34,\"\")","v":""}," ",{"$error":"#NUM!"},0,0,14,0,0,0,0,0,0,0,0,0,0,0,""]
[15,{"$f":"IF(Eingabe!$R35>0,Eingabe!B35,\"\")","v":""},null,{"$f":"IF(Eingabe!$R35>0,Eingabe!D35,\"\")","v":""},{"$f":"IF(Eingabe!$R35>0,Eingabe!E35,\"\")","v":""},{"$f":"IF(Eingabe!R35>0,Eingabe!R35,\"\")","v":""},{"$f":"IF(Eingabe!S35>0,Eingabe!S35,\"\")","v":""},{"$f":"IF(Eingabe!T35>0,Eingabe!T35,\"\")","v":""},{"$f":"IF(Eingabe!U35>0,Eingabe!U35,\"\")","v":""},{"$f":"IF(Eingabe!V35>0,Eingabe!V35,\"\")","v":""},{"$f":"IF(Eingabe!W35>0,Eingabe!W35,\"\")","v":""},{"$f":"IF(Eingabe!X35>0,Eingabe!X35,\"\")","v":""},{"$f":"IF(Eingabe!Y35>0,Eingabe!Y35,\"\")","v":""},{"$f":"IF(Eingabe!Z35>0,Eingabe!Z35,\"\")","v":""},{"$f":"IF(Eingabe!AA35>0,Eingabe!AA35,\"\")","v":""}," ",{"$error":"#NUM!"},0,0,15,0,0,0,0,0,0,0,0,0,0,0,""]
[16,{"$f":"IF(Eingabe!$R36>0,Eingabe!B36,\"\")","v":""},null,{"$f":"IF(Eingabe!$R36>0,Eingabe!D36,\"\")","v":""},{"$f":"IF(Eingabe!$R36>0,Eingabe!E36,\"\")","v":""},{"$f":"IF(Eingabe!R36>0,Eingabe!R36,\"\")","v":""},{"$f":"IF(Eingabe!S36>0,Eingabe!S36,\"\")","v":""},{"$f":"IF(Eingabe!T36>0,Eingabe!T36,\"\")","v":""},{"$f":"IF(Eingabe!U36>0,Eingabe!U36,\"\")","v":""},{"$f":"IF(Eingabe!V36>0,Eingabe!V36,\"\")","v":""},{"$f":"IF(Eingabe!W36>0,Eingabe!W36,\"\")","v":""},{"$f":"IF(Eingabe!X36>0,Eingabe!X36,\"\")","v":""},{"$f":"IF(Eingabe!Y36>0,Eingabe!Y36,\"\")","v":""},{"$f":"IF(Eingabe!Z36>0,Eingabe!Z36,\"\")","v":""},{"$f":"IF(Eingabe!AA36>0,Eingabe!AA36,\"\")","v":""}," ",{"$error":"#NUM!"},0,0,16,0,0,0,0,0,0,0,0,0,0,0,""]
[17,{"$f":"IF(Eingabe!$R37>0,Eingabe!B37,\"\")","v":""},null,{"$f":"IF(Eingabe!$R37>0,Eingabe!D37,\"\")","v":""},{"$f":"IF(Eingabe!$R37>0,Eingabe!E37,\"\")","v":""},{"$f":"IF(Eingabe!R37>0,Eingabe!R37,\"\")","v":""},{"$f":"IF(Eingabe!S37>0,Eingabe!S37,\"\")","v":""},{"$f":"IF(Eingabe!T37>0,Eingabe!T37,\"\")","v":""},{"$f":"IF(Eingabe!U37>0,Eingabe!U37,\"\")","v":""},{"$f":"IF(Eingabe!V37>0,Eingabe!V37,\"\")","v":""},{"$f":"IF(Eingabe!W37>0,Eingabe!W37,\"\")","v":""},{"$f":"IF(Eingabe!X37>0,Eingabe!X37,\"\")","v":""},{"$f":"IF(Eingabe!Y37>0,Eingabe!Y37,\"\")","v":""},{"$f":"IF(Eingabe!Z37>0,Eingabe!Z37,\"\")","v":""},{"$f":"IF(Eingabe!AA37>0,Eingabe!AA37,\"\")","v":""}," ",{"$error":"#NUM!"},0,0,17,0,0,0,0,0,0,0,0,0,0,0,""]
[18,{"$f":"IF(Eingabe!$R38>0,Eingabe!B38,\"\")","v":""},null,{"$f":"IF(Eingabe!$R38>0,Eingabe!D38,\"\")","v":""},{"$f":"IF(Eingabe!$R38>0,Eingabe!E38,\"\")","v":""},{"$f":"IF(Eingabe!R38>0,Eingabe!R38,\"\")","v":""},{"$f":"IF(Eingabe!S38>0,Eingabe!S38,\"\")","v":""},{"$f":"IF(Eingabe!T38>0,Eingabe!T38,\"\")","v":""},{"$f":"IF(Eingabe!U38>0,Eingabe!U38,\"\")","v":""},{"$f":"IF(Eingabe!V38>0,Eingabe!V38,\"\")","v":""},{"$f":"IF(Eingabe!W38>0,Eingabe!W38,\"\")","v":""},{"$f":"IF(Eingabe!X38>0,Eingabe!X38,\"\")","v":""},{"$f":"IF(Eingabe!Y38>0,Eingabe!Y38,\"\")","v":""},{"$f":"IF(Eingabe!Z38>0,Eingabe!Z38,\"\")","v":""},{"$f":"IF(Eingabe!AA38>0,Eingabe!AA38,\"\")","v":""}," ",{"$error":"#NUM!"},0,0,18,0,0,0,0,0,0,0,0,0,0,0,""]
[19,{"$f":"IF(Eingabe!$R39>0,Eingabe!B39,\"\")","v":""},null,{"$f":"IF(Eingabe!$R39>0,Eingabe!D39,\"\")","v":""},{"$f":"IF(Eingabe!$R39>0,Eingabe!E39,\"\")","v":""},{"$f":"IF(Eingabe!R39>0,Eingabe!R39,\"\")","v":""},{"$f":"IF(Eingabe!S39>0,Eingabe!S39,\"\")","v":""},{"$f":"IF(Eingabe!T39>0,Eingabe!T39,\"\")","v":""},{"$f":"IF(Eingabe!U39>0,Eingabe!U39,\"\")","v":""},{"$f":"IF(Eingabe!V39>0,Eingabe!V39,\"\")","v":""},{"$f":"IF(Eingabe!W39>0,Eingabe!W39,\"\")","v":""},{"$f":"IF(Eingabe!X39>0,Eingabe!X39,\"\")","v":""},{"$f":"IF(Eingabe!Y39>0,Eingabe!Y39,\"\")","v":""},{"$f":"IF(Eingabe!Z39>0,Eingabe!Z39,\"\")","v":""},{"$f":"IF(Eingabe!AA39>0,Eingabe!AA39,\"\")","v":""}," ",{"$error":"#NUM!"},0,0,19,0,0,0,0,0,0,0,0,0,0,0,""]
[20,{"$f":"IF(Eingabe!$R40>0,Eingabe!B40,\"\")","v":""},null,{"$f":"IF(Eingabe!$R40>0,Eingabe!D40,\"\")","v":""},{"$f":"IF(Eingabe!$R40>0,Eingabe!E40,\"\")","v":""},{"$f":"IF(Eingabe!R40>0,Eingabe!R40,\"\")","v":""},{"$f":"IF(Eingabe!S40>0,Eingabe!S40,\"\")","v":""},{"$f":"IF(Eingabe!T40>0,Eingabe!T40,\"\")","v":""},{"$f":"IF(Eingabe!U40>0,Eingabe!U40,\"\")","v":""},{"$f":"IF(Eingabe!V40>0,Eingabe!V40,\"\")","v":""},{"$f":"IF(Eingabe!W40>0,Eingabe!W40,\"\")","v":""},{"$f":"IF(Eingabe!X40>0,Eingabe!X40,\"\")","v":""},{"$f":"IF(Eingabe!Y40>0,Eingabe!Y40,\"\")","v":""},{"$f":"IF(Eingabe!Z40>0,Eingabe!Z40,\"\")","v":""},{"$f":"IF(Eingabe!AA40>0,Eingabe!AA40,\"\")","v":""}," ",{"$error":"#NUM!"},0,0,20,0,0,0,0,0,0,0,0,0,0,0,""]
[21,{"$f":"IF(Eingabe!$R41>0,Eingabe!B41,\"\")","v":""},null,{"$f":"IF(Eingabe!$R41>0,Eingabe!D41,\"\")","v":""},{"$f":"IF(Eingabe!$R41>0,Eingabe!E41,\"\")","v":""},{"$f":"IF(Eingabe!R41>0,Eingabe!R41,\"\")","v":""},{"$f":"IF(Eingabe!S41>0,Eingabe!S41,\"\")","v":""},{"$f":"IF(Eingabe!T41>0,Eingabe!T41,\"\")","v":""},{"$f":"IF(Eingabe!U41>0,Eingabe!U41,\"\")","v":""},{"$f":"IF(Eingabe!V41>0,Eingabe!V41,\"\")","v":""},{"$f":"IF(Eingabe!W41>0,Eingabe!W41,\"\")","v":""},{"$f":"IF(Eingabe!X41>0,Eingabe!X41,\"\")","v":""},{"$f":"IF(Eingabe!Y41>0,Eingabe!Y41,\"\")","v":""},{"$f":"IF(Eingabe!Z41>0,Eingabe!Z41,\"\")","v":""},{"$f":"IF(Eingabe!AA41>0,Eingabe!AA41,\"\")","v":""}," ",{"$error":"#NUM!"},0,0,21,0,0,0,0,0,0,0,0,0,0,0,""]
[22,{"$f":"IF(Eingabe!$R42>0,Eingabe!B42,\"\")","v":""},null,{"$f":"IF(Eingabe!$R42>0,Eingabe!D42,\"\")","v":""},{"$f":"IF(Eingabe!$R42>0,Eingabe!E42,\"\")","v":""},{"$f":"IF(Eingabe!R42>0,Eingabe!R42,\"\")","v":""},{"$f":"IF(Eingabe!S42>0,Eingabe!S42,\"\")","v":""},{"$f":"IF(Eingabe!T42>0,Eingabe!T42,\"\")","v":""},{"$f":"IF(Eingabe!U42>0,Eingabe!U42,\"\")","v":""},{"$f":"IF(Eingabe!V42>0,Eingabe!V42,\"\")","v":""},{"$f":"IF(Eingabe!W42>0,Eingabe!W42,\"\")","v":""},{"$f":"IF(Eingabe!X42>0,Eingabe!X42,\"\")","v":""},{"$f":"IF(Eingabe!Y42>0,Eingabe!Y42,\"\")","v":""},{"$f":"IF(Eingabe!Z42>0,Eingabe!Z42,\"\")","v":""},{"$f":"IF(Eingabe!AA42>0,Eingabe!AA42,\"\")","v":""}," ",{"$error":"#NUM!"},0,0,22,0,0,0,0,0,0,0,0,0,0,0,""]
[23,{"$f":"IF(Eingabe!$R43>0,Eingabe!B43,\"\")","v":""},null,{"$f":"IF(Eingabe!$R43>0,Eingabe!D43,\"\")","v":""},{"$f":"IF(Eingabe!$R43>0,Eingabe!E43,\"\")","v":""},{"$f":"IF(Eingabe!R43>0,Eingabe!R43,\"\")","v":""},{"$f":"IF(Eingabe!S43>0,Eingabe!S43,\"\")","v":""},{"$f":"IF(Eingabe!T43>0,Eingabe!T43,\"\")","v":""},{"$f":"IF(Eingabe!U43>0,Eingabe!U43,\"\")","v":""},{"$f":"IF(Eingabe!V43>0,Eingabe!V43,\"\")","v":""},{"$f":"IF(Eingabe!W43>0,Eingabe!W43,\"\")","v":""},{"$f":"IF(Eingabe!X43>0,Eingabe!X43,\"\")","v":""},{"$f":"IF(Eingabe!Y43>0,Eingabe!Y43,\"\")","v":""},{"$f":"IF(Eingabe!Z43>0,Eingabe!Z43,\"\")","v":""},{"$f":"IF(Eingabe!AA43>0,Eingabe!AA43,\"\")","v":""}," ",{"$error":"#NUM!"},0,0,23,0,0,0,0,0,0,0,0,0,0,0,""]
[24,{"$f":"IF(Eingabe!$R44>0,Eingabe!B44,\"\")","v":""},null,{"$f":"IF(Eingabe!$R44>0,Eingabe!D44,\"\")","v":""},{"$f":"IF(Eingabe!$R44>0,Eingabe!E44,\"\")","v":""},{"$f":"IF(Eingabe!R44>0,Eingabe!R44,\"\")","v":""},{"$f":"IF(Eingabe!S44>0,Eingabe!S44,\"\")","v":""},{"$f":"IF(Eingabe!T44>0,Eingabe!T44,\"\")","v":""},{"$f":"IF(Eingabe!U44>0,Eingabe!U44,\"\")","v":""},{"$f":"IF(Eingabe!V44>0,Eingabe!V44,\"\")","v":""},{"$f":"IF(Eingabe!W44>0,Eingabe!W44,\"\")","v":""},{"$f":"IF(Eingabe!X44>0,Eingabe!X44,\"\")","v":""},{"$f":"IF(Eingabe!Y44>0,Eingabe!Y44,\"\")","v":""},{"$f":"IF(Eingabe!Z44>0,Eingabe!Z44,\"\")","v":""},{"$f":"IF(Eingabe!AA44>0,Eingabe!AA44,\"\")","v":""}," ",{"$error":"#NUM!"},0,0,24,0,0,0,0,0,0,0,0,0,0,0,""]
[25,{"$f":"IF(Eingabe!$R45>0,Eingabe!B45,\"\")","v":""},null,{"$f":"IF(Eingabe!$R45>0,Eingabe!D45,\"\")","v":""},{"$f":"IF(Eingabe!$R45>0,Eingabe!E45,\"\")","v":""},{"$f":"IF(Eingabe!R45>0,Eingabe!R45,\"\")","v":""},{"$f":"IF(Eingabe!S45>0,Eingabe!S45,\"\")","v":""},{"$f":"IF(Eingabe!T45>0,Eingabe!T45,\"\")","v":""},{"$f":"IF(Eingabe!U45>0,Eingabe!U45,\"\")","v":""},{"$f":"IF(Eingabe!V45>0,Eingabe!V45,\"\")","v":""},{"$f":"IF(Eingabe!W45>0,Eingabe!W45,\"\")","v":""},{"$f":"IF(Eingabe!X45>0,Eingabe!X45,\"\")","v":""},{"$f":"IF(Eingabe!Y45>0,Eingabe!Y45,\"\")","v":""},{"$f":"IF(Eingabe!Z45>0,Eingabe!Z45,\"\")","v":""},{"$f":"IF(Eingabe!AA45>0,Eingabe!AA45,\"\")","v":""}," ",{"$error":"#NUM!"},0,0,25,0,0,0,0,0,0,0,0,0,0,0,""]
[26,{"$f":"IF(Eingabe!$R46>0,Eingabe!B46,\"\")","v":""},null,{"$f":"IF(Eingabe!$R46>0,Eingabe!D46,\"\")","v":""},{"$f":"IF(Eingabe!$R46>0,Eingabe!E46,\"\")","v":""},{"$f":"IF(Eingabe!R46>0,Eingabe!R46,\"\")","v":""},{"$f":"IF(Eingabe!S46>0,Eingabe!S46,\"\")","v":""},{"$f":"IF(Eingabe!T46>0,Eingabe!T46,\"\")","v":""},{"$f":"IF(Eingabe!U46>0,Eingabe!U46,\"\")","v":""},{"$f":"IF(Eingabe!V46>0,Eingabe!V46,\"\")","v":""},{"$f":"IF(Eingabe!W46>0,Eingabe!W46,\"\")","v":""},{"$f":"IF(Eingabe!X46>0,Eingabe!X46,\"\")","v":""},{"$f":"IF(Eingabe!Y46>0,Eingabe!Y46,\"\")","v":""},{"$f":"IF(Eingabe!Z46>0,Eingabe!Z46,\"\")","v":""},{"$f":"IF(Eingabe!AA46>0,Eingabe!AA46,\"\")","v":""}," ",{"$error":"#NUM!"},0,0,26,0,0,0,0,0,0,0,0,0,0,0,""]
[27,{"$f":"IF(Eingabe!$R47>0,Eingabe!B47,\"\")","v":""},null,{"$f":"IF(Eingabe!$R47>0,Eingabe!D47,\"\")","v":""},{"$f":"IF(Eingabe!$R47>0,Eingabe!E47,\"\")","v":""},{"$f":"IF(Eingabe!R47>0,Eingabe!R47,\"\")","v":""},{"$f":"IF(Eingabe!S47>0,Eingabe!S47,\"\")","v":""},{"$f":"IF(Eingabe!T47>0,Eingabe!T47,\"\")","v":""},{"$f":"IF(Eingabe!U47>0,Eingabe!U47,\"\")","v":""},{"$f":"IF(Eingabe!V47>0,Eingabe!V47,\"\")","v":""},{"$f":"IF(Eingabe!W47>0,Eingabe!W47,\"\")","v":""},{"$f":"IF(Eingabe!X47>0,Eingabe!X47,\"\")","v":""},{"$f":"IF(Eingabe!Y47>0,Eingabe!Y47,\"\")","v":""},{"$f":"IF(Eingabe!Z47>0,Eingabe!Z47,\"\")","v":""},{"$f":"IF(Eingabe!AA47>0,Eingabe!AA47,\"\")","v":""}," ",{"$error":"#NUM!"},0,0,27,0,0,0,0,0,0,0,0,0,0,0,""]
[28,{"$f":"IF(Eingabe!$R48>0,Eingabe!B48,\"\")","v":""},null,{"$f":"IF(Eingabe!$R48>0,Eingabe!D48,\"\")","v":""},{"$f":"IF(Eingabe!$R48>0,Eingabe!E48,\"\")","v":""},{"$f":"IF(Eingabe!R48>0,Eingabe!R48,\"\")","v":""},{"$f":"IF(Eingabe!S48>0,Eingabe!S48,\"\")","v":""},{"$f":"IF(Eingabe!T48>0,Eingabe!T48,\"\")","v":""},{"$f":"IF(Eingabe!U48>0,Eingabe!U48,\"\")","v":""},{"$f":"IF(Eingabe!V48>0,Eingabe!V48,\"\")","v":""},{"$f":"IF(Eingabe!W48>0,Eingabe!W48,\"\")","v":""},{"$f":"IF(Eingabe!X48>0,Eingabe!X48,\"\")","v":""},{"$f":"IF(Eingabe!Y48>0,Eingabe!Y48,\"\")","v":""},{"$f":"IF(Eingabe!Z48>0,Eingabe!Z48,\"\")","v":""},{"$f":"IF(Eingabe!AA48>0,Eingabe!AA48,\"\")","v":""}," ",{"$error":"#NUM!"},0,0,28,0,0,0,0,0,0,0,0,0,0,0,""]
[29,{"$f":"IF(Eingabe!$R49>0,Eingabe!B49,\"\")","v":""},null,{"$f":"IF(Eingabe!$R49>0,Eingabe!D49,\"\")","v":""},{"$f":"IF(Eingabe!$R49>0,Eingabe!E49,\"\")","v":""},{"$f":"IF(Eingabe!R49>0,Eingabe!R49,\"\")","v":""},{"$f":"IF(Eingabe!S49>0,Eingabe!S49,\"\")","v":""},{"$f":"IF(Eingabe!T49>0,Eingabe!T49,\"\")","v":""},{"$f":"IF(Eingabe!U49>0,Eingabe!U49,\"\")","v":""},{"$f":"IF(Eingabe!V49>0,Eingabe!V49,\"\")","v":""},{"$f":"IF(Eingabe!W49>0,Eingabe!W49,\"\")","v":""},{"$f":"IF(Eingabe!X49>0,Eingabe!X49,\"\")","v":""},{"$f":"IF(Eingabe!Y49>0,Eingabe!Y49,\"\")","v":""},{"$f":"IF(Eingabe!Z49>0,Eingabe!Z49,\"\")","v":""},{"$f":"IF(Eingabe!AA49>0,Eingabe!AA49,\"\")","v":""}," ",{"$error":"#NUM!"},0,0,29,0,0,0,0,0,0,0,0,0,0,0,""]
[30,{"$f":"IF(Eingabe!$R50>0,Eingabe!B50,\"\")","v":""},null,{"$f":"IF(Eingabe!$R50>0,Eingabe!D50,\"\")","v":""},{"$f":"IF(Eingabe!$R50>0,Eingabe!E50,\"\")","v":""},{"$f":"IF(Eingabe!R50>0,Eingabe!R50,\"\")","v":""},{"$f":"IF(Eingabe!S50>0,Eingabe!S50,\"\")","v":""},{"$f":"IF(Eingabe!T50>0,Eingabe!T50,\"\")","v":""},{"$f":"IF(Eingabe!U50>0,Eingabe!U50,\"\")","v":""},{"$f":"IF(Eingabe!V50>0,Eingabe!V50,\"\")","v":""},{"$f":"IF(Eingabe!W50>0,Eingabe!W50,\"\")","v":""},{"$f":"IF(Eingabe!X50>0,Eingabe!X50,\"\")","v":""},{"$f":"IF(Eingabe!Y50>0,Eingabe!Y50,\"\")","v":""},{"$f":"IF(Eingabe!Z50>0,Eingabe!Z50,\"\")","v":""},{"$f":"IF(Eingabe!AA50>0,Eingabe!AA50,\"\")","v":""}," ",{"$error":"#NUM!"},0,0,30,0,0,0,0,0,0,0,0,0,0,0,""]
[31,{"$f":"IF(Eingabe!$R51>0,Eingabe!B51,\"\")","v":""},null,{"$f":"IF(Eingabe!$R51>0,Eingabe!D51,\"\")","v":""},{"$f":"IF(Eingabe!$R51>0,Eingabe!E51,\"\")","v":""},{"$f":"IF(Eingabe!R51>0,Eingabe!R51,\"\")","v":""},{"$f":"IF(Eingabe!S51>0,Eingabe!S51,\"\")","v":""},{"$f":"IF(Eingabe!T51>0,Eingabe!T51,\"\")","v":""},{"$f":"IF(Eingabe!U51>0,Eingabe!U51,\"\")","v":""},{"$f":"IF(Eingabe!V51>0,Eingabe!V51,\"\")","v":""},{"$f":"IF(Eingabe!W51>0,Eingabe!W51,\"\")","v":""},{"$f":"IF(Eingabe!X51>0,Eingabe!X51,\"\")","v":""},{"$f":"IF(Eingabe!Y51>0,Eingabe!Y51,\"\")","v":""},{"$f":"IF(Eingabe!Z51>0,Eingabe!Z51,\"\")","v":""},{"$f":"IF(Eingabe!AA51>0,Eingabe!AA51,\"\")","v":""}," ",{"$error":"#NUM!"},0,0,31,0,0,0,0,0,0,0,0,0,0,0,""]
[32,{"$f":"IF(Eingabe!$R52>0,Eingabe!B52,\"\")","v":""},null,{"$f":"IF(Eingabe!$R52>0,Eingabe!D52,\"\")","v":""},{"$f":"IF(Eingabe!$R52>0,Eingabe!E52,\"\")","v":""},{"$f":"IF(Eingabe!R52>0,Eingabe!R52,\"\")","v":""},{"$f":"IF(Eingabe!S52>0,Eingabe!S52,\"\")","v":""},{"$f":"IF(Eingabe!T52>0,Eingabe!T52,\"\")","v":""},{"$f":"IF(Eingabe!U52>0,Eingabe!U52,\"\")","v":""},{"$f":"IF(Eingabe!V52>0,Eingabe!V52,\"\")","v":""},{"$f":"IF(Eingabe!W52>0,Eingabe!W52,\"\")","v":""},{"$f":"IF(Eingabe!X52>0,Eingabe!X52,\"\")","v":""},{"$f":"IF(Eingabe!Y52>0,Eingabe!Y52,\"\")","v":""},{"$f":"IF(Eingabe!Z52>0,Eingabe!Z52,\"\")","v":""},{"$f":"IF(Eingabe!AA52>0,Eingabe!AA52,\"\")","v":""}," ",{"$error":"#NUM!"},0,0,32,0,0,0,0,0,0,0,0,0,0,0,""]
[33,{"$f":"IF(Eingabe!$R53>0,Eingabe!B53,\"\")","v":""},null,{"$f":"IF(Eingabe!$R53>0,Eingabe!D53,\"\")","v":""},{"$f":"IF(Eingabe!$R53>0,Eingabe!E53,\"\")","v":""},{"$f":"IF(Eingabe!R53>0,Eingabe!R53,\"\")","v":""},{"$f":"IF(Eingabe!S53>0,Eingabe!S53,\"\")","v":""},{"$f":"IF(Eingabe!T53>0,Eingabe!T53,\"\")","v":""},{"$f":"IF(Eingabe!U53>0,Eingabe!U53,\"\")","v":""},{"$f":"IF(Eingabe!V53>0,Eingabe!V53,\"\")","v":""},{"$f":"IF(Eingabe!W53>0,Eingabe!W53,\"\")","v":""},{"$f":"IF(Eingabe!X53>0,Eingabe!X53,\"\")","v":""},{"$f":"IF(Eingabe!Y53>0,Eingabe!Y53,\"\")","v":""},{"$f":"IF(Eingabe!Z53>0,Eingabe!Z53,\"\")","v":""},{"$f":"IF(Eingabe!AA53>0,Eingabe!AA53,\"\")","v":""}," ",{"$error":"#NUM!"},0,0,33,0,0,0,0,0,0,0,0,0,0,0,""]
[34,{"$f":"IF(Eingabe!$R54>0,Eingabe!B54,\"\")","v":""},null,{"$f":"IF(Eingabe!$R54>0,Eingabe!D54,\"\")","v":""},{"$f":"IF(Eingabe!$R54>0,Eingabe!E54,\"\")","v":""},{"$f":"IF(Eingabe!R54>0,Eingabe!R54,\"\")","v":""},{"$f":"IF(Eingabe!S54>0,Eingabe!S54,\"\")","v":""},{"$f":"IF(Eingabe!T54>0,Eingabe!T54,\"\")","v":""},{"$f":"IF(Eingabe!U54>0,Eingabe!U54,\"\")","v":""},{"$f":"IF(Eingabe!V54>0,Eingabe!V54,\"\")","v":""},{"$f":"IF(Eingabe!W54>0,Eingabe!W54,\"\")","v":""},{"$f":"IF(Eingabe!X54>0,Eingabe!X54,\"\")","v":""},{"$f":"IF(Eingabe!Y54>0,Eingabe!Y54,\"\")","v":""},{"$f":"IF(Eingabe!Z54>0,Eingabe!Z54,\"\")","v":""},{"$f":"IF(Eingabe!AA54>0,Eingabe!AA54,\"\")","v":""}," ",{"$error":"#NUM!"},0,0,34,0,0,0,0,0,0,0,0,0,0,0,""]
[35,{"$f":"IF(Eingabe!$R55>0,Eingabe!B55,\"\")","v":""},null,{"$f":"IF(Eingabe!$R55>0,Eingabe!D55,\"\")","v":""},{"$f":"IF(Eingabe!$R55>0,Eingabe!E55,\"\")","v":""},{"$f":"IF(Eingabe!R55>0,Eingabe!R55,\"\")","v":""},{"$f":"IF(Eingabe!S55>0,Eingabe!S55,\"\")","v":""},{"$f":"IF(Eingabe!T55>0,Eingabe!T55,\"\")","v":""},{"$f":"IF(Eingabe!U55>0,Eingabe!U55,\"\")","v":""},{"$f":"IF(Eingabe!V55>0,Eingabe!V55,\"\")","v":""},{"$f":"IF(Eingabe!W55>0,Eingabe!W55,\"\")","v":""},{"$f":"IF(Eingabe!X55>0,Eingabe!X55,\"\")","v":""},{"$f":"IF(Eingabe!Y55>0,Eingabe!Y55,\"\")","v":""},{"$f":"IF(Eingabe!Z55>0,Eingabe!Z55,\"\")","v":""},{"$f":"IF(Eingabe!AA55>0,Eingabe!AA55,\"\")","v":""}," ",{"$error":"#NUM!"},0,0,35,0,0,0,0,0,0,0,0,0,0,0,""]
[36,{"$f":"IF(Eingabe!$R56>0,Eingabe!B56,\"\")","v":""},null,{"$f":"IF(Eingabe!$R56>0,Eingabe!D56,\"\")","v":""},{"$f":"IF(Eingabe!$R56>0,Eingabe!E56,\"\")","v":""},{"$f":"IF(Eingabe!R56>0,Eingabe!R56,\"\")","v":""},{"$f":"IF(Eingabe!S56>0,Eingabe!S56,\"\")","v":""},{"$f":"IF(Eingabe!T56>0,Eingabe!T56,\"\")","v":""},{"$f":"IF(Eingabe!U56>0,Eingabe!U56,\"\")","v":""},{"$f":"IF(Eingabe!V56>0,Eingabe!V56,\"\")","v":""},{"$f":"IF(Eingabe!W56>0,Eingabe!W56,\"\")","v":""},{"$f":"IF(Eingabe!X56>0,Eingabe!X56,\"\")","v":""},{"$f":"IF(Eingabe!Y56>0,Eingabe!Y56,\"\")","v":""},{"$f":"IF(Eingabe!Z56>0,Eingabe!Z56,\"\")","v":""},{"$f":"IF(Eingabe!AA56>0,Eingabe!AA56,\"\")","v":""}," ",{"$error":"#NUM!"},0,0,36,0,0,0,0,0,0,0,0,0,0,0,""]
[37,{"$f":"IF(Eingabe!$R57>0,Eingabe!B57,\"\")","v":""},null,{"$f":"IF(Eingabe!$R57>0,Eingabe!D57,\"\")","v":""},{"$f":"IF(Eingabe!$R57>0,Eingabe!E57,\"\")","v":""},{"$f":"IF(Eingabe!R57>0,Eingabe!R57,\"\")","v":""},{"$f":"IF(Eingabe!S57>0,Eingabe!S57,\"\")","v":""},{"$f":"IF(Eingabe!T57>0,Eingabe!T57,\"\")","v":""},{"$f":"IF(Eingabe!U57>0,Eingabe!U57,\"\")","v":""},{"$f":"IF(Eingabe!V57>0,Eingabe!V57,\"\")","v":""},{"$f":"IF(Eingabe!W57>0,Eingabe!W57,\"\")","v":""},{"$f":"IF(Eingabe!X57>0,Eingabe!X57,\"\")","v":""},{"$f":"IF(Eingabe!Y57>0,Eingabe!Y57,\"\")","v":""},{"$f":"IF(Eingabe!Z57>0,Eingabe!Z57,\"\")","v":""},{"$f":"IF(Eingabe!AA57>0,Eingabe!AA57,\"\")","v":""}," ",{"$error":"#NUM!"},0,0,37,0,0,0,0,0,0,0,0,0,0,0,""]
[38,{"$f":"IF(Eingabe!$R58>0,Eingabe!B58,\"\")","v":""},null,{"$f":"IF(Eingabe!$R58>0,Eingabe!D58,\"\")","v":""},{"$f":"IF(Eingabe!$R58>0,Eingabe!E58,\"\")","v":""},{"$f":"IF(Eingabe!R58>0,Eingabe!R58,\"\")","v":""},{"$f":"IF(Eingabe!S58>0,Eingabe!S58,\"\")","v":""},{"$f":"IF(Eingabe!T58>0,Eingabe!T58,\"\")","v":""},{"$f":"IF(Eingabe!U58>0,Eingabe!U58,\"\")","v":""},{"$f":"IF(Eingabe!V58>0,Eingabe!V58,\"\")","v":""},{"$f":"IF(Eingabe!W58>0,Eingabe!W58,\"\")","v":""},{"$f":"IF(Eingabe!X58>0,Eingabe!X58,\"\")","v":""},{"$f":"IF(Eingabe!Y58>0,Eingabe!Y58,\"\")","v":""},{"$f":"IF(Eingabe!Z58>0,Eingabe!Z58,\"\")","v":""},{"$f":"IF(Eingabe!AA58>0,Eingabe!AA58,\"\")","v":""}," ",{"$error":"#NUM!"},0,0,38,0,0,0,0,0,0,0,0,0,0,0,""]
[39,{"$f":"IF(Eingabe!$R59>0,Eingabe!B59,\"\")","v":""},null,{"$f":"IF(Eingabe!$R59>0,Eingabe!D59,\"\")","v":""},{"$f":"IF(Eingabe!$R59>0,Eingabe!E59,\"\")","v":""},{"$f":"IF(Eingabe!R59>0,Eingabe!R59,\"\")","v":""},{"$f":"IF(Eingabe!S59>0,Eingabe!S59,\"\")","v":""},{"$f":"IF(Eingabe!T59>0,Eingabe!T59,\"\")","v":""},{"$f":"IF(Eingabe!U59>0,Eingabe!U59,\"\")","v":""},{"$f":"IF(Eingabe!V59>0,Eingabe!V59,\"\")","v":""},{"$f":"IF(Eingabe!W59>0,Eingabe!W59,\"\")","v":""},{"$f":"IF(Eingabe!X59>0,Eingabe!X59,\"\")","v":""},{"$f":"IF(Eingabe!Y59>0,Eingabe!Y59,\"\")","v":""},{"$f":"IF(Eingabe!Z59>0,Eingabe!Z59,\"\")","v":""},{"$f":"IF(Eingabe!AA59>0,Eingabe!AA59,\"\")","v":""}," ",{"$error":"#NUM!"},0,0,39,0,0,0,0,0,0,0,0,0,0,0,""]
[40,{"$f":"IF(Eingabe!$R60>0,Eingabe!B60,\"\")","v":""},null,{"$f":"IF(Eingabe!$R60>0,Eingabe!D60,\"\")","v":""},{"$f":"IF(Eingabe!$R60>0,Eingabe!E60,\"\")","v":""},{"$f":"IF(Eingabe!R60>0,Eingabe!R60,\"\")","v":""},{"$f":"IF(Eingabe!S60>0,Eingabe!S60,\"\")","v":""},{"$f":"IF(Eingabe!T60>0,Eingabe!T60,\"\")","v":""},{"$f":"IF(Eingabe!U60>0,Eingabe!U60,\"\")","v":""},{"$f":"IF(Eingabe!V60>0,Eingabe!V60,\"\")","v":""},{"$f":"IF(Eingabe!W60>0,Eingabe!W60,\"\")","v":""},{"$f":"IF(Eingabe!X60>0,Eingabe!X60,\"\")","v":""},{"$f":"IF(Eingabe!Y60>0,Eingabe!Y60,\"\")","v":""},{"$f":"IF(Eingabe!Z60>0,Eingabe!Z60,\"\")","v":""},{"$f":"IF(Eingabe!AA60>0,Eingabe!AA60,\"\")","v":""}," ",{"$error":"#NUM!"},0,0,40,0,0,0,0,0,0,0,0,0,0,0,""]

{"sheet":"Rechnung","index":4,"n_rows":50,"n_cols":8,"rows_kept":50,"cut":false,"hidden":false,"merged":[[1,14,3,21],[18,5,18,6],[29,6,29,7],[31,1,31,3],[31,6,31,7],[37,8,40,15],[35,6,35,7],[37,0,40,7],[42,0,44,7],[13,5,13,7],[32,1,32,3],[32,6,32,7],[33,1,33,3],[33,6,33,7]]}
[null,null,"Zentralschweizerischer - Sportschützen Verband"]
[null,null,"Abteilung Gewehr 50m",null,null,"Ressort Verbandsinterne Schiessen ZSV"]
[null,null,"Aldo Bersanini, Hausmatt 33,  6422 Steinen"]
[null,null,"E-Mail:","aldobersanini.zsv@bluewin.ch",null,null,"N: 079 208 75 19"]
[]
[]
[]
[]
[]
[]
[null,null,null,null,null,"Verein:",{"$f":"Eingabe!C5","v":0}]
[null,null,null,null,null,{"$f":"Eingabe!C11","v":0}]
[null,null,null,null,null,{"$f":"Eingabe!C12","v":0}]
[null,null,null,null,null,{"$f":"Eingabe!C13","v":0}]
[]
[]
[]
[]
[null,null,null,null,null,"Steinen, ",null,{"$f":"TODAY()","v":"2024-04-28"}]
[]
[]
[]
[{"$f":"\"Rechnung Verbandsinterne Schiessen ZSV \"& Eingabe!C3","v":"Rechnung Verbandsinterne Schiessen ZSV 2024"}]
[]
[]
["Geschätzter Vereinsfunktionär"]
[]
["Gemäss Ihrer Abrechnung, hier nun Ihre Rechnungsaufstellung."]
[]
["Anzahl","Programm",null,null,"Preis",null,"Total"]
[]
[{"$f":"'ZSV-Programm'!J4","v":0},"ZSV-Programm",null,null,8,null,{"$f":"A32*E32","v":0}]
[{"$f":"Serie!H4","v":0},"Serischiessen",null,null,15,null,{"$f":"A33*E33","v":0}]
[{"$f":"PK!J4","v":0},"PK-Stich",null,null,7.5,null,{"$f":"A34*E34","v":0}]
[]
["Totalbetrag",null,null,null,null,null,{"$f":"SUM(G32:H34)","v":0}]
[]
["Wir bitten Sie, den Rechnungsbetrag bis spätestens am 01. Oktober  (wenn möglichst direkt ab Ihrem Postcheck oder Bankkonto) einzubezahlen, damit keine zusätzliche Kosten für Einzahlungen am Postschalter entstehen. Für die Vereine welche einen EZ benötigen liegt dieser bei. IBAN Nr: CH06 0900 0000 6000 3864 3"]
[]
[]
[]
[]
[{"$f":"\"Für elektronische Überweisung bitte ich Sie den Zahlungsvermerk anzubringen: (Verbandsinterne Schiessen ZSV \"&(Eingabe!C3)&\" + Vereinsname). Sie erleichtern uns und vor allem dem Kassier die Arbeit damit.\"","v":"Für elektronische Überweisung bitte ich Sie den Zahlungsvermerk anzubringen: (Verbandsinterne Schiessen ZSV 2024 + Vereinsname). Sie erleichtern uns und vor allem dem Kassier die Arbeit damit."}]
[]
[]
[]
[null,null,null,null,"Mit freundlichen Grüssen"]
[null,null,null,null,"Aldo Bersanini"]
[null,null,null,null,"Verbandsinterne Schiessen ZSV"]
[null,null,null,null,"Zentralschweizerischer Sportschützen-Verband"]

{"sheet":"ZSV-Meisters E","index":5,"n_rows":56,"n_cols":25,"rows_kept":56,"cut":false,"hidden":false,"merged":[[1,6,1,7]]}
[null,null,"Zentralschweizerischer Sportschützen-Verband"]
[null,null,"ZSV- Meisterschaft",null,null,null,{"$f":"Eingabe!C3","v":2024}]
[]
["Sektionsname",null,{"$f":"Eingabe!$C$5","v":0}]
["Ort",null,{"$f":"Eingabe!$C$6","v":0}]
["Anzahl Mitglieder",null,{"$f":"Eingabe!$C$7","v":0}]
[]
["der/die Verantwortliche:",null,null,null,"der Ressortchef:"]
["Name/Vorname ",null,{"$f":"Eingabe!$C$11","v":0},null,"Amstutz Thomas"]
["Strasse",null,{"$f":"Eingabe!$C$12","v":0},null,"Küfermattstrasse 33a"]
["PLZ/Ort",null,{"$f":"Eingabe!$C$13","v":0},null,"5633 Sins"]
["Telefon",null,{"$f":"Eingabe!$C$14","v":0},null,"P: 041 787 22 49     N: 079 678 35 90"]
["E-Mail",null,{"$f":"Eingabe!$C$15","v":0},null,"thomas.amstutz@bluewin.ch"]
[]
["Rangliste Elite"]
[null,"Name+Vorname","JG","Sektion","VWS-ZSV","SVWS","ZSV-Programm","Serie","Volk","PK-Stich","Total",null,"Kathegori U15","Kathegori U17","Kathegori U19","Kathegori U21","Kathegori E","Kathegori S","Kathegori V","Kathegori SV",null,"E bis SV Schütze","Alle Programme","Richtige Rangliste","Sortierung"]
[1,{"$f":"IF(X17=3,Eingabe!B21,\"\")","v":""},{"$f":"IF(X17=3,Eingabe!D21,\"\")","v":""},{"$f":"IF(X17=3,Eingabe!C$5,\"\")","v":""},{"$f":"IF(X17=3,Eingabe!AF21,\"\")","v":""},{"$f":"IF(X17=3,Eingabe!AH21,\"\")","v":""},{"$f":"IF(X17=3,Eingabe!L21,\"\")","v":""},{"$f":"IF(X17=3,Eingabe!P21,\"\")","v":""},{"$f":"IF(X17=3,Eingabe!AL21,\"\")","v":""},{"$f":"IF(X17=3,Eingabe!AB21,\"\")","v":""},{"$f":"IF(X17=3,SUM(E17:J17),\"\")","v":""},null,{"$f":"IF(Eingabe!$E21=\"U15\",1,\"\")","v":""},{"$f":"IF(Eingabe!$E21=\"U17\",1,\"\")","v":""},{"$f":"IF(Eingabe!$E21=\"U19\",1,\"\")","v":""},{"$f":"IF(Eingabe!$E21=\"U21\",1,\"\")","v":""},{"$f":"IF(Eingabe!$E21=\"E\",1,\"\")","v":""},{"$f":"IF(Eingabe!$E21=\"S\",1,\"\")","v":""},{"$f":"IF(Eingabe!$E21=\"V\",1,\"\")","v":""},{"$f":"IF(Eingabe!$E21=\"SV\",1,\"\")","v":""},null,{"$f":"IF(Q17=1,2,0)","v":0},{"$f":"IF(AND(Eingabe!H21>1,Eingabe!N21>1,Eingabe!R21>1,Eingabe!AD21>1,Eingabe!AH21>1,Eingabe!AM21=1),1,0)","v":0},{"$f":"IF(V17+W17=3,3,\"\")","v":""},1]
[2,{"$f":"IF(X18=3,Eingabe!B22,\"\")","v":""},{"$f":"IF(X18=3,Eingabe!D22,\"\")","v":""},{"$f":"IF(X18=3,Eingabe!C$5,\"\")","v":""},{"$f":"IF(X18=3,Eingabe!AF22,\"\")","v":""},{"$f":"IF(X18=3,Eingabe!AH22,\"\")","v":""},{"$f":"IF(X18=3,Eingabe!L22,\"\")","v":""},{"$f":"IF(X18=3,Eingabe!P22,\"\")","v":""},{"$f":"IF(X18=3,Eingabe!AL22,\"\")","v":""},{"$f":"IF(X18=3,Eingabe!AB22,\"\")","v":""},"",null,{"$f":"IF(Eingabe!$E22=\"U15\",1,\"\")","v":""},{"$f":"IF(Eingabe!$E22=\"U17\",1,\"\")","v":""},{"$f":"IF(Eingabe!$E22=\"U19\",1,\"\")","v":""},{"$f":"IF(Eingabe!$E22=\"U21\",1,\"\")","v":""},{"$f":"IF(Eingabe!$E22=\"E\",1,\"\")","v":""},{"$f":"IF(Eingabe!$E22=\"S\",1,\"\")","v":""},{"$f":"IF(Eingabe!$E22=\"V\",1,\"\")","v":""},{"$f":"IF(Eingabe!$E22=\"SV\",1,\"\")","v":""},null,0,{"$f":"IF(AND(Eingabe!H22>1,Eingabe!N22>1,Eingabe!R22>1,Eingabe!AD22>1,Eingabe!AH22>1,Eingabe!AM22=1),1,0)","v":0},"",2]
[3,{"$f":"IF(X19=3,Eingabe!B23,\"\")","v":""},{"$f":"IF(X19=3,Eingabe!D23,\"\")","v":""},{"$f":"IF(X19=3,Eingabe!C$5,\"\")","v":""},{"$f":"IF(X19=3,Eingabe!AF23,\"\")","v":""},{"$f":"IF(X19=3,Eingabe!AH23,\"\")","v":""},{"$f":"IF(X19=3,Eingabe!L23,\"\")","v":""},{"$f":"IF(X19=3,Eingabe!P23,\"\")","v":""},{"$f":"IF(X19=3,Eingabe!AL23,\"\")","v":""},{"$f":"IF(X19=3,Eingabe!AB23,\"\")","v":""},"",null,{"$f":"IF(Eingabe!$E23=\"U15\",1,\"\")","v":""},{"$f":"IF(Eingabe!$E23=\"U17\",1,\"\")","v":""},{"$f":"IF(Eingabe!$E23=\"U19\",1,\"\")","v":""},{"$f":"IF(Eingabe!$E23=\"U21\",1,\"\")","v":""},{"$f":"IF(Eingabe!$E23=\"E\",1,\"\")","v":""},{"$f":"IF(Eingabe!$E23=\"S\",1,\"\")","v":""},{"$f":"IF(Eingabe!$E23=\"V\",1,\"\")","v":""},{"$f":"IF(Eingabe!$E23=\"SV\",1,\"\")","v":""},null,0,{"$f":"IF(AND(Eingabe!H23>1,Eingabe!N23>1,Eingabe!R23>1,Eingabe!AD23>1,Eingabe!AH23>1,Eingabe!AM23=1),1,0)","v":0},"",3]
[4,{"$f":"IF(X20=3,Eingabe!B24,\"\")","v":""},{"$f":"IF(X20=3,Eingabe!D24,\"\")","v":""},{"$f":"IF(X20=3,Eingabe!C$5,\"\")","v":""},{"$f":"IF(X20=3,Eingabe!AF24,\"\")","v":""},{"$f":"IF(X20=3,Eingabe!AH24,\"\")","v":""},{"$f":"IF(X20=3,Eingabe!L24,\"\")","v":""},{"$f":"IF(X20=3,Eingabe!P24,\"\")","v":""},{"$f":"IF(X20=3,Eingabe!AL24,\"\")","v":""},{"$f":"IF(X20=3,Eingabe!AB24,\"\")","v":""},"",null,{"$f":"IF(Eingabe!$E24=\"U15\",1,\"\")","v":""},{"$f":"IF(Eingabe!$E24=\"U17\",1,\"\")","v":""},{"$f":"IF(Eingabe!$E24=\"U19\",1,\"\")","v":""},{"$f":"IF(Eingabe!$E24=\"U21\",1,\"\")","v":""},{"$f":"IF(Eingabe!$E24=\"E\",1,\"\")","v":""},{"$f":"IF(Eingabe!$E24=\"S\",1,\"\")","v":""},{"$f":"IF(Eingabe!$E24=\"V\",1,\"\")","v":""},{"$f":"IF(Eingabe!$E24=\"SV\",1,\"\")","v":""},null,0,{"$f":"IF(AND(Eingabe!H24>1,Eingabe!N24>1,Eingabe!R24>1,Eingabe!AD24>1,Eingabe!AH24>1,Eingabe!AM24=1),1,0)","v":0},"",4]
[5,{"$f":"IF(X21=3,Eingabe!B25,\"\")","v":""},{"$f":"IF(X21=3,Eingabe!D25,\"\")","v":""},{"$f":"IF(X21=3,Eingabe!C$5,\"\")","v":""},{"$f":"IF(X21=3,Eingabe!AF25,\"\")","v":""},{"$f":"IF(X21=3,Eingabe!AH25,\"\")","v":""},{"$f":"IF(X21=3,Eingabe!L25,\"\")","v":""},{"$f":"IF(X21=3,Eingabe!P25,\"\")","v":""},{"$f":"IF(X21=3,Eingabe!AL25,\"\")","v":""},{"$f":"IF(X21=3,Eingabe!AB25,\"\")","v":""},"",null,{"$f":"IF(Eingabe!$E25=\"U15\",1,\"\")","v":""},{"$f":"IF(Eingabe!$E25=\"U17\",1,\"\")","v":""},{"$f":"IF(Eingabe!$E25=\"U19\",1,\"\")","v":""},{"$f":"IF(Eingabe!$E25=\"U21\",1,\"\")","v":""},{"$f":"IF(Eingabe!$E25=\"E\",1,\"\")","v":""},{"$f":"IF(Eingabe!$E25=\"S\",1,\"\")","v":""},{"$f":"IF(Eingabe!$E25=\"V\",1,\"\")","v":""},{"$f":"IF(Eingabe!$E25=\"SV\",1,\"\")","v":""},null,0,{"$f":"IF(AND(Eingabe!H25>1,Eingabe!N25>1,Eingabe!R25>1,Eingabe!AD25>1,Eingabe!AH25>1,Eingabe!AM25=1),1,0)","v":0},"",5]
[6,{"$f":"IF(X22=3,Eingabe!B26,\"\")","v":""},{"$f":"IF(X22=3,Eingabe!D26,\"\")","v":""},{"$f":"IF(X22=3,Eingabe!C$5,\"\")","v":""},{"$f":"IF(X22=3,Eingabe!AF26,\"\")","v":""},{"$f":"IF(X22=3,Eingabe!AH26,\"\")","v":""},{"$f":"IF(X22=3,Eingabe!L26,\"\")","v":""},{"$f":"IF(X22=3,Eingabe!P26,\"\")","v":""},{"$f":"IF(X22=3,Eingabe!AL26,\"\")","v":""},{"$f":"IF(X22=3,Eingabe!AB26,\"\")","v":""},"",null,{"$f":"IF(Eingabe!$E26=\"U15\",1,\"\")","v":""},{"$f":"IF(Eingabe!$E26=\"U17\",1,\"\")","v":""},{"$f":"IF(Eingabe!$E26=\"U19\",1,\"\")","v":""},{"$f":"IF(Eingabe!$E26=\"U21\",1,\"\")","v":""},{"$f":"IF(Eingabe!$E26=\"E\",1,\"\")","v":""},{"$f":"IF(Eingabe!$E26=\"S\",1,\"\")","v":""},{"$f":"IF(Eingabe!$E26=\"V\",1,\"\")","v":""},{"$f":"IF(Eingabe!$E26=\"SV\",1,\"\")","v":""},null,0,{"$f":"IF(AND(Eingabe!H26>1,Eingabe!N26>1,Eingabe!R26>1,Eingabe!AD26>1,Eingabe!AH26>1,Eingabe!AM26=1),1,0)","v":0},"",6]
[7,{"$f":"IF(X23=3,Eingabe!B27,\"\")","v":""},{"$f":"IF(X23=3,Eingabe!D27,\"\")","v":""},{"$f":"IF(X23=3,Eingabe!C$5,\"\")","v":""},{"$f":"IF(X23=3,Eingabe!AF27,\"\")","v":""},{"$f":"IF(X23=3,Eingabe!AH27,\"\")","v":""},{"$f":"IF(X23=3,Eingabe!L27,\"\")","v":""},{"$f":"IF(X23=3,Eingabe!P27,\"\")","v":""},{"$f":"IF(X23=3,Eingabe!AL27,\"\")","v":""},{"$f":"IF(X23=3,Eingabe!AB27,\"\")","v":""},"",null,{"$f":"IF(Eingabe!$E27=\"U15\",1,\"\")","v":""},{"$f":"IF(Eingabe!$E27=\"U17\",1,\"\")","v":""},{"$f":"IF(Eingabe!$E27=\"U19\",1,\"\")","v":""},{"$f":"IF(Eingabe!$E27=\"U21\",1,\"\")","v":""},{"$f":"IF(Eingabe!$E27=\"E\",1,\"\")","v":""},{"$f":"IF(Eingabe!$E27=\"S\",1,\"\")","v":""},{"$f":"IF(Eingabe!$E27=\"V\",1,\"\")","v":""},{"$f":"IF(Eingabe!$E27=\"SV\",1,\"\")","v":""},null,0,{"$f":"IF(AND(Eingabe!H27>1,Eingabe!N27>1,Eingabe!R27>1,Eingabe!AD27>1,Eingabe!AH27>1,Eingabe!AM27=1),1,0)","v":0},"",7]
[8,{"$f":"IF(X24=3,Eingabe!B28,\"\")","v":""},{"$f":"IF(X24=3,Eingabe!D28,\"\")","v":""},{"$f":"IF(X24=3,Eingabe!C$5,\"\")","v":""},{"$f":"IF(X24=3,Eingabe!AF28,\"\")","v":""},{"$f":"IF(X24=3,Eingabe!AH28,\"\")","v":""},{"$f":"IF(X24=3,Eingabe!L28,\"\")","v":""},{"$f":"IF(X24=3,Eingabe!P28,\"\")","v":""},{"$f":"IF(X24=3,Eingabe!AL28,\"\")","v":""},{"$f":"IF(X24=3,Eingabe!AB28,\"\")","v":""},"",null,{"$f":"IF(Eingabe!$E28=\"U15\",1,\"\")","v":""},{"$f":"IF(Eingabe!$E28=\"U17\",1,\"\")","v":""},{"$f":"IF(Eingabe!$E28=\"U19\",1,\"\")","v":""},{"$f":"IF(Eingabe!$E28=\"U21\",1,\"\")","v":""},{"$f":"IF(Eingabe!$E28=\"E\",1,\"\")","v":""},{"$f":"IF(Eingabe!$E28=\"S\",1,\"\")","v":""},{"$f":"IF(Eingabe!$E28=\"V\",1,\"\")","v":""},{"$f":"IF(Eingabe!$E28=\"SV\",1,\"\")","v":""},null,0,{"$f":"IF(AND(Eingabe!H28>1,Eingabe!N28>1,Eingabe!R28>1,Eingabe!AD28>1,Eingabe!AH28>1,Eingabe!AM28=1),1,0)","v":0},"",8]
[9,{"$f":"IF(X25=3,Eingabe!B29,\"\")","v":""},{"$f":"IF(X25=3,Eingabe!D29,\"\")","v":""},{"$f":"IF(X25=3,Eingabe!C$5,\"\")","v":""},{"$f":"IF(X25=3,Eingabe!AF29,\"\")","v":""},{"$f":"IF(X25=3,Eingabe!AH29,\"\")","v":""},{"$f":"IF(X25=3,Eingabe!L29,\"\")","v":""},{"$f":"IF(X25=3,Eingabe!P29,\"\")","v":""},{"$f":"IF(X25=3,Eingabe!AL29,\"\")","v":""},{"$f":"IF(X25=3,Eingabe!AB29,\"\")","v":""},"",null,{"$f":"IF(Eingabe!$E29=\"U15\",1,\"\")","v":""},{"$f":"IF(Eingabe!$E29=\"U17\",1,\"\")","v":""},{"$f":"IF(Eingabe!$E29=\"U19\",1,\"\")","v":""},{"$f":"IF(Eingabe!$E29=\"U21\",1,\"\")","v":""},{"$f":"IF(Eingabe!$E29=\"E\",1,\"\")","v":""},{"$f":"IF(Eingabe!$E29=\"S\",1,\"\")","v":""},{"$f":"IF(Eingabe!$E29=\"V\",1,\"\")","v":""},{"$f":"IF(Eingabe!$E29=\"SV\",1,\"\")","v":""},null,0,{"$f":"IF(AND(Eingabe!H29>1,Eingabe!N29>1,Eingabe!R29>1,Eingabe!AD29>1,Eingabe!AH29>1,Eingabe!AM29=1),1,0)","v":0},"",9]
[10,{"$f":"IF(X26=3,Eingabe!B30,\"\")","v":""},{"$f":"IF(X26=3,Eingabe!D30,\"\")","v":""},{"$f":"IF(X26=3,Eingabe!C$5,\"\")","v":""},{"$f":"IF(X26=3,Eingabe!AF30,\"\")","v":""},{"$f":"IF(X26=3,Eingabe!AH30,\"\")","v":""},{"$f":"IF(X26=3,Eingabe!L30,\"\")","v":""},{"$f":"IF(X26=3,Eingabe!P30,\"\")","v":""},{"$f":"IF(X26=3,Eingabe!AL30,\"\")","v":""},{"$f":"IF(X26=3,Eingabe!AB30,\"\")","v":""},"",null,{"$f":"IF(Eingabe!$E30=\"U15\",1,\"\")","v":""},{"$f":"IF(Eingabe!$E30=\"U17\",1,\"\")","v":""},{"$f":"IF(Eingabe!$E30=\"U19\",1,\"\")","v":""},{"$f":"IF(Eingabe!$E30=\"U21\",1,\"\")","v":""},{"$f":"IF(Eingabe!$E30=\"E\",1,\"\")","v":""},{"$f":"IF(Eingabe!$E30=\"S\",1,\"\")","v":""},{"$f":"IF(Eingabe!$E30=\"V\",1,\"\")","v":""},{"$f":"IF(Eingabe!$E30=\"SV\",1,\"\")","v":""},null,0,{"$f":"IF(AND(Eingabe!H30>1,Eingabe!N30>1,Eingabe!R30>1,Eingabe!AD30>1,Eingabe!AH30>1,Eingabe!AM30=1),1,0)","v":0},"",10]
[11,{"$f":"IF(X27=3,Eingabe!B31,\"\")","v":""},{"$f":"IF(X27=3,Eingabe!D31,\"\")","v":""},{"$f":"IF(X27=3,Eingabe!C$5,\"\")","v":""},{"$f":"IF(X27=3,Eingabe!AF31,\"\")","v":""},{"$f":"IF(X27=3,Eingabe!AH31,\"\")","v":""},{"$f":"IF(X27=3,Eingabe!L31,\"\")","v":""},{"$f":"IF(X27=3,Eingabe!P31,\"\")","v":""},{"$f":"IF(X27=3,Eingabe!AL31,\"\")","v":""},{"$f":"IF(X27=3,Eingabe!AB31,\"\")","v":""},"",null,{"$f":"IF(Eingabe!$E31=\"U15\",1,\"\")","v":""},{"$f":"IF(Eingabe!$E31=\"U17\",1,\"\")","v":""},{"$f":"IF(Eingabe!$E31=\"U19\",1,\"\")","v":""},{"$f":"IF(Eingabe!$E31=\"U21\",1,\"\")","v":""},{"$f":"IF(Eingabe!$E31=\"E\",1,\"\")","v":""},{"$f":"IF(Eingabe!$E31=\"S\",1,\"\")","v":""},{"$f":"IF(Eingabe!$E31=\"V\",1,\"\")","v":""},{"$f":"IF(Eingabe!$E31=\"SV\",1,\"\")","v":""},null,0,{"$f":"IF(AND(Eingabe!H31>1,Eingabe!N31>1,Eingabe!R31>1,Eingabe!AD31>1,Eingabe!AH31>1,Eingabe!AM31=1),1,0)","v":0},"",11]
[12,{"$f":"IF(X28=3,Eingabe!B32,\"\")","v":""},{"$f":"IF(X28=3,Eingabe!D32,\"\")","v":""},{"$f":"IF(X28=3,Eingabe!C$5,\"\")","v":""},{"$f":"IF(X28=3,Eingabe!AF32,\"\")","v":""},{"$f":"IF(X28=3,Eingabe!AH32,\"\")","v":""},{"$f":"IF(X28=3,Eingabe!L32,\"\")","v":""},{"$f":"IF(X28=3,Eingabe!P32,\"\")","v":""},{"$f":"IF(X28=3,Eingabe!AL32,\"\")","v":""},{"$f":"IF(X28=3,Eingabe!AB32,\"\")","v":""},"",null,{"$f":"IF(Eingabe!$E32=\"U15\",1,\"\")","v":""},{"$f":"IF(Eingabe!$E32=\"U17\",1,\"\")","v":""},{"$f":"IF(Eingabe!$E32=\"U19\",1,\"\")","v":""},{"$f":"IF(Eingabe!$E32=\"U21\",1,\"\")","v":""},{"$f":"IF(Eingabe!$E32=\"E\",1,\"\")","v":""},{"$f":"IF(Eingabe!$E32=\"S\",1,\"\")","v":""},{"$f":"IF(Eingabe!$E32=\"V\",1,\"\")","v":""},{"$f":"IF(Eingabe!$E32=\"SV\",1,\"\")","v":""},null,0,{"$f":"IF(AND(Eingabe!H32>1,Eingabe!N32>1,Eingabe!R32>1,Eingabe!AD32>1,Eingabe!AH32>1,Eingabe!AM32=1),1,0)","v":0},"",12]
[13,{"$f":"IF(X29=3,Eingabe!B33,\"\")","v":""},{"$f":"IF(X29=3,Eingabe!D33,\"\")","v":""},{"$f":"IF(X29=3,Eingabe!C$5,\"\")","v":""},{"$f":"IF(X29=3,Eingabe!AF33,\"\")","v":""},{"$f":"IF(X29=3,Eingabe!AH33,\"\")","v":""},{"$f":"IF(X29=3,Eingabe!L33,\"\")","v":""},{"$f":"IF(X29=3,Eingabe!P33,\"\")","v":""},{"$f":"IF(X29=3,Eingabe!AL33,\"\")","v":""},{"$f":"IF(X29=3,Eingabe!AB33,\"\")","v":""},"",null,{"$f":"IF(Eingabe!$E33=\"U15\",1,\"\")","v":""},{"$f":"IF(Eingabe!$E33=\"U17\",1,\"\")","v":""},{"$f":"IF(Eingabe!$E33=\"U19\",1,\"\")","v":""},{"$f":"IF(Eingabe!$E33=\"U21\",1,\"\")","v":""},{"$f":"IF(Eingabe!$E33=\"E\",1,\"\")","v":""},{"$f":"IF(Eingabe!$E33=\"S\",1,\"\")","v":""},{"$f":"IF(Eingabe!$E33=\"V\",1,\"\")","v":""},{"$f":"IF(Eingabe!$E33=\"SV\",1,\"\")","v":""},null,0,{"$f":"IF(AND(Eingabe!H33>1,Eingabe!N33>1,Eingabe!R33>1,Eingabe!AD33>1,Eingabe!AH33>1,Eingabe!AM33=1),1,0)","v":0},"",13]
[14,{"$f":"IF(X30=3,Eingabe!B34,\"\")","v":""},{"$f":"IF(X30=3,Eingabe!D34,\"\")","v":""},{"$f":"IF(X30=3,Eingabe!C$5,\"\")","v":""},{"$f":"IF(X30=3,Eingabe!AF34,\"\")","v":""},{"$f":"IF(X30=3,Eingabe!AH34,\"\")","v":""},{"$f":"IF(X30=3,Eingabe!L34,\"\")","v":""},{"$f":"IF(X30=3,Eingabe!P34,\"\")","v":""},{"$f":"IF(X30=3,Eingabe!AL34,\"\")","v":""},{"$f":"IF(X30=3,Eingabe!AB34,\"\")","v":""},"",null,{"$f":"IF(Eingabe!$E34=\"U15\",1,\"\")","v":""},{"$f":"IF(Eingabe!$E34=\"U17\",1,\"\")","v":""},{"$f":"IF(Eingabe!$E34=\"U19\",1,\"\")","v":""},{"$f":"IF(Eingabe!$E34=\"U21\",1,\"\")","v":""},{"$f":"IF(Eingabe!$E34=\"E\",1,\"\")","v":""},{"$f":"IF(Eingabe!$E34=\"S\",1,\"\")","v":""},{"$f":"IF(Eingabe!$E34=\"V\",1,\"\")","v":""},{"$f":"IF(Eingabe!$E34=\"SV\",1,\"\")","v":""},null,0,{"$f":"IF(AND(Eingabe!H34>1,Eingabe!N34>1,Eingabe!R34>1,Eingabe!AD34>1,Eingabe!AH34>1,Eingabe!AM34=1),1,0)","v":0},"",14]
[15,{"$f":"IF(X31=3,Eingabe!B35,\"\")","v":""},{"$f":"IF(X31=3,Eingabe!D35,\"\")","v":""},{"$f":"IF(X31=3,Eingabe!C$5,\"\")","v":""},{"$f":"IF(X31=3,Eingabe!AF35,\"\")","v":""},{"$f":"IF(X31=3,Eingabe!AH35,\"\")","v":""},{"$f":"IF(X31=3,Eingabe!L35,\"\")","v":""},{"$f":"IF(X31=3,Eingabe!P35,\"\")","v":""},{"$f":"IF(X31=3,Eingabe!AL35,\"\")","v":""},{"$f":"IF(X31=3,Eingabe!AB35,\"\")","v":""},"",null,{"$f":"IF(Eingabe!$E35=\"U15\",1,\"\")","v":""},{"$f":"IF(Eingabe!$E35=\"U17\",1,\"\")","v":""},{"$f":"IF(Eingabe!$E35=\"U19\",1,\"\")","v":""},{"$f":"IF(Eingabe!$E35=\"U21\",1,\"\")","v":""},{"$f":"IF(Eingabe!$E35=\"E\",1,\"\")","v":""},{"$f":"IF(Eingabe!$E35=\"S\",1,\"\")","v":""},{"$f":"IF(Eingabe!$E35=\"V\",1,\"\")","v":""},{"$f":"IF(Eingabe!$E35=\"SV\",1,\"\")","v":""},null,0,{"$f":"IF(AND(Eingabe!H35>1,Eingabe!N35>1,Eingabe!R35>1,Eingabe!AD35>1,Eingabe!AH35>1,Eingabe!AM35=1),1,0)","v":0},"",15]
[16,{"$f":"IF(X32=3,Eingabe!B36,\"\")","v":""},{"$f":"IF(X32=3,Eingabe!D36,\"\")","v":""},{"$f":"IF(X32=3,Eingabe!C$5,\"\")","v":""},{"$f":"IF(X32=3,Eingabe!AF36,\"\")","v":""},{"$f":"IF(X32=3,Eingabe!AH36,\"\")","v":""},{"$f":"IF(X32=3,Eingabe!L36,\"\")","v":""},{"$f":"IF(X32=3,Eingabe!P36,\"\")","v":""},{"$f":"IF(X32=3,Eingabe!AL36,\"\")","v":""},{"$f":"IF(X32=3,Eingabe!AB36,\"\")","v":""},"",null,{"$f":"IF(Eingabe!$E36=\"U15\",1,\"\")","v":""},{"$f":"IF(Eingabe!$E36=\"U17\",1,\"\")","v":""},{"$f":"IF(Eingabe!$E36=\"U19\",1,\"\")","v":""},{"$f":"IF(Eingabe!$E36=\"U21\",1,\"\")","v":""},{"$f":"IF(Eingabe!$E36=\"E\",1,\"\")","v":""},{"$f":"IF(Eingabe!$E36=\"S\",1,\"\")","v":""},{"$f":"IF(Eingabe!$E36=\"V\",1,\"\")","v":""},{"$f":"IF(Eingabe!$E36=\"SV\",1,\"\")","v":""},null,0,{"$f":"IF(AND(Eingabe!H36>1,Eingabe!N36>1,Eingabe!R36>1,Eingabe!AD36>1,Eingabe!AH36>1,Eingabe!AM36=1),1,0)","v":0},"",16]
[17,{"$f":"IF(X33=3,Eingabe!B37,\"\")","v":""},{"$f":"IF(X33=3,Eingabe!D37,\"\")","v":""},{"$f":"IF(X33=3,Eingabe!C$5,\"\")","v":""},{"$f":"IF(X33=3,Eingabe!AF37,\"\")","v":""},{"$f":"IF(X33=3,Eingabe!AH37,\"\")","v":""},{"$f":"IF(X33=3,Eingabe!L37,\"\")","v":""},{"$f":"IF(X33=3,Eingabe!P37,\"\")","v":""},{"$f":"IF(X33=3,Eingabe!AL37,\"\")","v":""},{"$f":"IF(X33=3,Eingabe!AB37,\"\")","v":""},"",null,{"$f":"IF(Eingabe!$E37=\"U15\",1,\"\")","v":""},{"$f":"IF(Eingabe!$E37=\"U17\",1,\"\")","v":""},{"$f":"IF(Eingabe!$E37=\"U19\",1,\"\")","v":""},{"$f":"IF(Eingabe!$E37=\"U21\",1,\"\")","v":""},{"$f":"IF(Eingabe!$E37=\"E\",1,\"\")","v":""},{"$f":"IF(Eingabe!$E37=\"S\",1,\"\")","v":""},{"$f":"IF(Eingabe!$E37=\"V\",1,\"\")","v":""},{"$f":"IF(Eingabe!$E37=\"SV\",1,\"\")","v":""},null,0,{"$f":"IF(AND(Eingabe!H37>1,Eingabe!N37>1,Eingabe!R37>1,Eingabe!AD37>1,Eingabe!AH37>1,Eingabe!AM37=1),1,0)","v":0},"",17]
[18,{"$f":"IF(X34=3,Eingabe!B38,\"\")","v":""},{"$f":"IF(X34=3,Eingabe!D38,\"\")","v":""},{"$f":"IF(X34=3,Eingabe!C$5,\"\")","v":""},{"$f":"IF(X34=3,Eingabe!AF38,\"\")","v":""},{"$f":"IF(X34=3,Eingabe!AH38,\"\")","v":""},{"$f":"IF(X34=3,Eingabe!L38,\"\")","v":""},{"$f":"IF(X34=3,Eingabe!P38,\"\")","v":""},{"$f":"IF(X34=3,Eingabe!AL38,\"\")","v":""},{"$f":"IF(X34=3,Eingabe!AB38,\"\")","v":""},"",null,{"$f":"IF(Eingabe!$E38=\"U15\",1,\"\")","v":""},{"$f":"IF(Eingabe!$E38=\"U17\",1,\"\")","v":""},{"$f":"IF(Eingabe!$E38=\"U19\",1,\"\")","v":""},{"$f":"IF(Eingabe!$E38=\"U21\",1,\"\")","v":""},{"$f":"IF(Eingabe!$E38=\"E\",1,\"\")","v":""},{"$f":"IF(Eingabe!$E38=\"S\",1,\"\")","v":""},{"$f":"IF(Eingabe!$E38=\"V\",1,\"\")","v":""},{"$f":"IF(Eingabe!$E38=\"SV\",1,\"\")","v":""},null,0,{"$f":"IF(AND(Eingabe!H38>1,Eingabe!N38>1,Eingabe!R38>1,Eingabe!AD38>1,Eingabe!AH38>1,Eingabe!AM38=1),1,0)","v":0},"",18]
[19,{"$f":"IF(X35=3,Eingabe!B39,\"\")","v":""},{"$f":"IF(X35=3,Eingabe!D39,\"\")","v":""},{"$f":"IF(X35=3,Eingabe!C$5,\"\")","v":""},{"$f":"IF(X35=3,Eingabe!AF39,\"\")","v":""},{"$f":"IF(X35=3,Eingabe!AH39,\"\")","v":""},{"$f":"IF(X35=3,Eingabe!L39,\"\")","v":""},{"$f":"IF(X35=3,Eingabe!P39,\"\")","v":""},{"$f":"IF(X35=3,Eingabe!AL39,\"\")","v":""},{"$f":"IF(X35=3,Eingabe!AB39,\"\")","v":""},"",null,{"$f":"IF(Eingabe!$E39=\"U15\",1,\"\")","v":""},{"$f":"IF(Eingabe!$E39=\"U17\",1,\"\")","v":""},{"$f":"IF(Eingabe!$E39=\"U19\",1,\"\")","v":""},{"$f":"IF(Eingabe!$E39=\"U21\",1,\"\")","v":""},{"$f":"IF(Eingabe!$E39=\"E\",1,\"\")","v":""},{"$f":"IF(Eingabe!$E39=\"S\",1,\"\")","v":""},{"$f":"IF(Eingabe!$E39=\"V\",1,\"\")","v":""},{"$f":"IF(Eingabe!$E39=\"SV\",1,\"\")","v":""},null,0,{"$f":"IF(AND(Eingabe!H39>1,Eingabe!N39>1,Eingabe!R39>1,Eingabe!AD39>1,Eingabe!AH39>1,Eingabe!AM39=1),1,0)","v":0},"",19]
[20,{"$f":"IF(X36=3,Eingabe!B40,\"\")","v":""},{"$f":"IF(X36=3,Eingabe!D40,\"\")","v":""},{"$f":"IF(X36=3,Eingabe!C$5,\"\")","v":""},{"$f":"IF(X36=3,Eingabe!AF40,\"\")","v":""},{"$f":"IF(X36=3,Eingabe!AH40,\"\")","v":""},{"$f":"IF(X36=3,Eingabe!L40,\"\")","v":""},{"$f":"IF(X36=3,Eingabe!P40,\"\")","v":""},{"$f":"IF(X36=3,Eingabe!AL40,\"\")","v":""},{"$f":"IF(X36=3,Eingabe!AB40,\"\")","v":""},"",null,{"$f":"IF(Eingabe!$E40=\"U15\",1,\"\")","v":""},{"$f":"IF(Eingabe!$E40=\"U17\",1,\"\")","v":""},{"$f":"IF(Eingabe!$E40=\"U19\",1,\"\")","v":""},{"$f":"IF(Eingabe!$E40=\"U21\",1,\"\")","v":""},{"$f":"IF(Eingabe!$E40=\"E\",1,\"\")","v":""},{"$f":"IF(Eingabe!$E40=\"S\",1,\"\")","v":""},{"$f":"IF(Eingabe!$E40=\"V\",1,\"\")","v":""},{"$f":"IF(Eingabe!$E40=\"SV\",1,\"\")","v":""},null,0,{"$f":"IF(AND(Eingabe!H40>1,Eingabe!N40>1,Eingabe!R40>1,Eingabe!AD40>1,Eingabe!AH40>1,Eingabe!AM40=1),1,0)","v":0},"",20]
[21,{"$f":"IF(X37=3,Eingabe!B41,\"\")","v":""},{"$f":"IF(X37=3,Eingabe!D41,\"\")","v":""},{"$f":"IF(X37=3,Eingabe!C$5,\"\")","v":""},{"$f":"IF(X37=3,Eingabe!AF41,\"\")","v":""},{"$f":"IF(X37=3,Eingabe!AH41,\"\")","v":""},{"$f":"IF(X37=3,Eingabe!L41,\"\")","v":""},{"$f":"IF(X37=3,Eingabe!P41,\"\")","v":""},{"$f":"IF(X37=3,Eingabe!AL41,\"\")","v":""},{"$f":"IF(X37=3,Eingabe!AB41,\"\")","v":""},"",null,{"$f":"IF(Eingabe!$E41=\"U15\",1,\"\")","v":""},{"$f":"IF(Eingabe!$E41=\"U17\",1,\"\")","v":""},{"$f":"IF(Eingabe!$E41=\"U19\",1,\"\")","v":""},{"$f":"IF(Eingabe!$E41=\"U21\",1,\"\")","v":""},{"$f":"IF(Eingabe!$E41=\"E\",1,\"\")","v":""},{"$f":"IF(Eingabe!$E41=\"S\",1,\"\")","v":""},{"$f":"IF(Eingabe!$E41=\"V\",1,\"\")","v":""},{"$f":"IF(Eingabe!$E41=\"SV\",1,\"\")","v":""},null,0,{"$f":"IF(AND(Eingabe!H41>1,Eingabe!N41>1,Eingabe!R41>1,Eingabe!AD41>1,Eingabe!AH41>1,Eingabe!AM41=1),1,0)","v":0},"",21]
[22,{"$f":"IF(X38=3,Eingabe!B42,\"\")","v":""},{"$f":"IF(X38=3,Eingabe!D42,\"\")","v":""},{"$f":"IF(X38=3,Eingabe!C$5,\"\")","v":""},{"$f":"IF(X38=3,Eingabe!AF42,\"\")","v":""},{"$f":"IF(X38=3,Eingabe!AH42,\"\")","v":""},{"$f":"IF(X38=3,Eingabe!L42,\"\")","v":""},{"$f":"IF(X38=3,Eingabe!P42,\"\")","v":""},{"$f":"IF(X38=3,Eingabe!AL42,\"\")","v":""},{"$f":"IF(X38=3,Eingabe!AB42,\"\")","v":""},"",null,{"$f":"IF(Eingabe!$E42=\"U15\",1,\"\")","v":""},{"$f":"IF(Eingabe!$E42=\"U17\",1,\"\")","v":""},{"$f":"IF(Eingabe!$E42=\"U19\",1,\"\")","v":""},{"$f":"IF(Eingabe!$E42=\"U21\",1,\"\")","v":""},{"$f":"IF(Eingabe!$E42=\"E\",1,\"\")","v":""},{"$f":"IF(Eingabe!$E42=\"S\",1,\"\")","v":""},{"$f":"IF(Eingabe!$E42=\"V\",1,\"\")","v":""},{"$f":"IF(Eingabe!$E42=\"SV\",1,\"\")","v":""},null,0,{"$f":"IF(AND(Eingabe!H42>1,Eingabe!N42>1,Eingabe!R42>1,Eingabe!AD42>1,Eingabe!AH42>1,Eingabe!AM42=1),1,0)","v":0},"",22]
[23,{"$f":"IF(X39=3,Eingabe!B43,\"\")","v":""},{"$f":"IF(X39=3,Eingabe!D43,\"\")","v":""},{"$f":"IF(X39=3,Eingabe!C$5,\"\")","v":""},{"$f":"IF(X39=3,Eingabe!AF43,\"\")","v":""},{"$f":"IF(X39=3,Eingabe!AH43,\"\")","v":""},{"$f":"IF(X39=3,Eingabe!L43,\"\")","v":""},{"$f":"IF(X39=3,Eingabe!P43,\"\")","v":""},{"$f":"IF(X39=3,Eingabe!AL43,\"\")","v":""},{"$f":"IF(X39=3,Eingabe!AB43,\"\")","v":""},"",null,{"$f":"IF(Eingabe!$E43=\"U15\",1,\"\")","v":""},{"$f":"IF(Eingabe!$E43=\"U17\",1,\"\")","v":""},{"$f":"IF(Eingabe!$E43=\"U19\",1,\"\")","v":""},{"$f":"IF(Eingabe!$E43=\"U21\",1,\"\")","v":""},{"$f":"IF(Eingabe!$E43=\"E\",1,\"\")","v":""},{"$f":"IF(Eingabe!$E43=\"S\",1,\"\")","v":""},{"$f":"IF(Eingabe!$E43=\"V\",1,\"\")","v":""},{"$f":"IF(Eingabe!$E43=\"SV\",1,\"\")","v":""},null,0,{"$f":"IF(AND(Eingabe!H43>1,Eingabe!N43>1,Eingabe!R43>1,Eingabe!AD43>1,Eingabe!AH43>1,Eingabe!AM43=1),1,0)","v":0},"",23]
[24,{"$f":"IF(X40=3,Eingabe!B44,\"\")","v":""},{"$f":"IF(X40=3,Eingabe!D44,\"\")","v":""},{"$f":"IF(X40=3,Eingabe!C$5,\"\")","v":""},{"$f":"IF(X40=3,Eingabe!AF44,\"\")","v":""},{"$f":"IF(X40=3,Eingabe!AH44,\"\")","v":""},{"$f":"IF(X40=3,Eingabe!L44,\"\")","v":""},{"$f":"IF(X40=3,Eingabe!P44,\"\")","v":""},{"$f":"IF(X40=3,Eingabe!AL44,\"\")","v":""},{"$f":"IF(X40=3,Eingabe!AB44,\"\")","v":""},"",null,{"$f":"IF(Eingabe!$E44=\"U15\",1,\"\")","v":""},{"$f":"IF(Eingabe!$E44=\"U17\",1,\"\")","v":""},{"$f":"IF(Eingabe!$E44=\"U19\",1,\"\")","v":""},{"$f":"IF(Eingabe!$E44=\"U21\",1,\"\")","v":""},{"$f":"IF(Eingabe!$E44=\"E\",1,\"\")","v":""},{"$f":"IF(Eingabe!$E44=\"S\",1,\"\")","v":""},{"$f":"IF(Eingabe!$E44=\"V\",1,\"\")","v":""},{"$f":"IF(Eingabe!$E44=\"SV\",1,\"\")","v":""},null,0,{"$f":"IF(AND(Eingabe!H44>1,Eingabe!N44>1,Eingabe!R44>1,Eingabe!AD44>1,Eingabe!AH44>1,Eingabe!AM44=1),1,0)","v":0},"",24]
[25,{"$f":"IF(X41=3,Eingabe!B45,\"\")","v":""},{"$f":"IF(X41=3,Eingabe!D45,\"\")","v":""},{"$f":"IF(X41=3,Eingabe!C$5,\"\")","v":""},{"$f":"IF(X41=3,Eingabe!AF45,\"\")","v":""},{"$f":"IF(X41=3,Eingabe!AH45,\"\")","v":""},{"$f":"IF(X41=3,Eingabe!L45,\"\")","v":""},{"$f":"IF(X41=3,Eingabe!P45,\"\")","v":""},{"$f":"IF(X41=3,Eingabe!AL45,\"\")","v":""},{"$f":"IF(X41=3,Eingabe!AB45,\"\")","v":""},"",null,{"$f":"IF(Eingabe!$E45=\"U15\",1,\"\")","v":""},{"$f":"IF(Eingabe!$E45=\"U17\",1,\"\")","v":""},{"$f":"IF(Eingabe!$E45=\"U19\",1,\"\")","v":""},{"$f":"IF(Eingabe!$E45=\"U21\",1,\"\")","v":""},{"$f":"IF(Eingabe!$E45=\"E\",1,\"\")","v":""},{"$f":"IF(Eingabe!$E45=\"S\",1,\"\")","v":""},{"$f":"IF(Eingabe!$E45=\"V\",1,\"\")","v":""},{"$f":"IF(Eingabe!$E45=\"SV\",1,\"\")","v":""},null,0,{"$f":"IF(AND(Eingabe!H45>1,Eingabe!N45>1,Eingabe!R45>1,Eingabe!AD45>1,Eingabe!AH45>1,Eingabe!AM45=1),1,0)","v":0},"",25]
[26,{"$f":"IF(X42=3,Eingabe!B46,\"\")","v":""},{"$f":"IF(X42=3,Eingabe!D46,\"\")","v":""},{"$f":"IF(X42=3,Eingabe!C$5,\"\")","v":""},{"$f":"IF(X42=3,Eingabe!AF46,\"\")","v":""},{"$f":"IF(X42=3,Eingabe!AH46,\"\")","v":""},{"$f":"IF(X42=3,Eingabe!L46,\"\")","v":""},{"$f":"IF(X42=3,Eingabe!P46,\"\")","v":""},{"$f":"IF(X42=3,Eingabe!AL46,\"\")","v":""},{"$f":"IF(X42=3,Eingabe!AB46,\"\")","v":""},"",null,{"$f":"IF(Eingabe!$E46=\"U15\",1,\"\")","v":""},{"$f":"IF(Eingabe!$E46=\"U17\",1,\"\")","v":""},{"$f":"IF(Eingabe!$E46=\"U19\",1,\"\")","v":""},{"$f":"IF(Eingabe!$E46=\"U21\",1,\"\")","v":""},{"$f":"IF(Eingabe!$E46=\"E\",1,\"\")","v":""},{"$f":"IF(Eingabe!$E46=\"S\",1,\"\")","v":""},{"$f":"IF(Eingabe!$E46=\"V\",1,\"\")","v":""},{"$f":"IF(Eingabe!$E46=\"SV\",1,\"\")","v":""},null,0,{"$f":"IF(AND(Eingabe!H46>1,Eingabe!N46>1,Eingabe!R46>1,Eingabe!AD46>1,Eingabe!AH46>1,Eingabe!AM46=1),1,0)","v":0},"",26]
[27,{"$f":"IF(X43=3,Eingabe!B47,\"\")","v":""},{"$f":"IF(X43=3,Eingabe!D47,\"\")","v":""},{"$f":"IF(X43=3,Eingabe!C$5,\"\")","v":""},{"$f":"IF(X43=3,Eingabe!AF47,\"\")","v":""},{"$f":"IF(X43=3,Eingabe!AH47,\"\")","v":""},{"$f":"IF(X43=3,Eingabe!L47,\"\")","v":""},{"$f":"IF(X43=3,Eingabe!P47,\"\")","v":""},{"$f":"IF(X43=3,Eingabe!AL47,\"\")","v":""},{"$f":"IF(X43=3,Eingabe!AB47,\"\")","v":""},"",null,{"$f":"IF(Eingabe!$E47=\"U15\",1,\"\")","v":""},{"$f":"IF(Eingabe!$E47=\"U17\",1,\"\")","v":""},{"$f":"IF(Eingabe!$E47=\"U19\",1,\"\")","v":""},{"$f":"IF(Eingabe!$E47=\"U21\",1,\"\")","v":""},{"$f":"IF(Eingabe!$E47=\"E\",1,\"\")","v":""},{"$f":"IF(Eingabe!$E47=\"S\",1,\"\")","v":""},{"$f":"IF(Eingabe!$E47=\"V\",1,\"\")","v":""},{"$f":"IF(Eingabe!$E47=\"SV\",1,\"\")","v":""},null,0,{"$f":"IF(AND(Eingabe!H47>1,Eingabe!N47>1,Eingabe!R47>1,Eingabe!AD47>1,Eingabe!AH47>1,Eingabe!AM47=1),1,0)","v":0},"",27]
[28,{"$f":"IF(X44=3,Eingabe!B48,\"\")","v":""},{"$f":"IF(X44=3,Eingabe!D48,\"\")","v":""},{"$f":"IF(X44=3,Eingabe!C$5,\"\")","v":""},{"$f":"IF(X44=3,Eingabe!AF48,\"\")","v":""},{"$f":"IF(X44=3,Eingabe!AH48,\"\")","v":""},{"$f":"IF(X44=3,Eingabe!L48,\"\")","v":""},{"$f":"IF(X44=3,Eingabe!P48,\"\")","v":""},{"$f":"IF(X44=3,Eingabe!AL48,\"\")","v":""},{"$f":"IF(X44=3,Eingabe!AB48,\"\")","v":""},"",null,{"$f":"IF(Eingabe!$E48=\"U15\",1,\"\")","v":""},{"$f":"IF(Eingabe!$E48=\"U17\",1,\"\")","v":""},{"$f":"IF(Eingabe!$E48=\"U19\",1,\"\")","v":""},{"$f":"IF(Eingabe!$E48=\"U21\",1,\"\")","v":""},{"$f":"IF(Eingabe!$E48=\"E\",1,\"\")","v":""},{"$f":"IF(Eingabe!$E48=\"S\",1,\"\")","v":""},{"$f":"IF(Eingabe!$E48=\"V\",1,\"\")","v":""},{"$f":"IF(Eingabe!$E48=\"SV\",1,\"\")","v":""},null,0,{"$f":"IF(AND(Eingabe!H48>1,Eingabe!N48>1,Eingabe!R48>1,Eingabe!AD48>1,Eingabe!AH48>1,Eingabe!AM48=1),1,0)","v":0},"",28]
[29,{"$f":"IF(X45=3,Eingabe!B49,\"\")","v":""},{"$f":"IF(X45=3,Eingabe!D49,\"\")","v":""},{"$f":"IF(X45=3,Eingabe!C$5,\"\")","v":""},{"$f":"IF(X45=3,Eingabe!AF49,\"\")","v":""},{"$f":"IF(X45=3,Eingabe!AH49,\"\")","v":""},{"$f":"IF(X45=3,Eingabe!L49,\"\")","v":""},{"$f":"IF(X45=3,Eingabe!P49,\"\")","v":""},{"$f":"IF(X45=3,Eingabe!AL49,\"\")","v":""},{"$f":"IF(X45=3,Eingabe!AB49,\"\")","v":""},"",null,{"$f":"IF(Eingabe!$E49=\"U15\",1,\"\")","v":""},{"$f":"IF(Eingabe!$E49=\"U17\",1,\"\")","v":""},{"$f":"IF(Eingabe!$E49=\"U19\",1,\"\")","v":""},{"$f":"IF(Eingabe!$E49=\"U21\",1,\"\")","v":""},{"$f":"IF(Eingabe!$E49=\"E\",1,\"\")","v":""},{"$f":"IF(Eingabe!$E49=\"S\",1,\"\")","v":""},{"$f":"IF(Eingabe!$E49=\"V\",1,\"\")","v":""},{"$f":"IF(Eingabe!$E49=\"SV\",1,\"\")","v":""},null,0,{"$f":"IF(AND(Eingabe!H49>1,Eingabe!N49>1,Eingabe!R49>1,Eingabe!AD49>1,Eingabe!AH49>1,Eingabe!AM49=1),1,0)","v":0},"",29]
[30,{"$f":"IF(X46=3,Eingabe!B50,\"\")","v":""},{"$f":"IF(X46=3,Eingabe!D50,\"\")","v":""},{"$f":"IF(X46=3,Eingabe!C$5,\"\")","v":""},{"$f":"IF(X46=3,Eingabe!AF50,\"\")","v":""},{"$f":"IF(X46=3,Eingabe!AH50,\"\")","v":""},{"$f":"IF(X46=3,Eingabe!L50,\"\")","v":""},{"$f":"IF(X46=3,Eingabe!P50,\"\")","v":""},{"$f":"IF(X46=3,Eingabe!AL50,\"\")","v":""},{"$f":"IF(X46=3,Eingabe!AB50,\"\")","v":""},"",null,{"$f":"IF(Eingabe!$E50=\"U15\",1,\"\")","v":""},{"$f":"IF(Eingabe!$E50=\"U17\",1,\"\")","v":""},{"$f":"IF(Eingabe!$E50=\"U19\",1,\"\")","v":""},{"$f":"IF(Eingabe!$E50=\"U21\",1,\"\")","v":""},{"$f":"IF(Eingabe!$E50=\"E\",1,\"\")","v":""},{"$f":"IF(Eingabe!$E50=\"S\",1,\"\")","v":""},{"$f":"IF(Eingabe!$E50=\"V\",1,\"\")","v":""},{"$f":"IF(Eingabe!$E50=\"SV\",1,\"\")","v":""},null,0,{"$f":"IF(AND(Eingabe!H50>1,Eingabe!N50>1,Eingabe!R50>1,Eingabe!AD50>1,Eingabe!AH50>1,Eingabe!AM50=1),1,0)","v":0},"",30]
[31,{"$f":"IF(X47=3,Eingabe!B51,\"\")","v":""},{"$f":"IF(X47=3,Eingabe!D51,\"\")","v":""},{"$f":"IF(X47=3,Eingabe!C$5,\"\")","v":""},{"$f":"IF(X47=3,Eingabe!AF51,\"\")","v":""},{"$f":"IF(X47=3,Eingabe!AH51,\"\")","v":""},{"$f":"IF(X47=3,Eingabe!L51,\"\")","v":""},{"$f":"IF(X47=3,Eingabe!P51,\"\")","v":""},{"$f":"IF(X47=3,Eingabe!AL51,\"\")","v":""},{"$f":"IF(X47=3,Eingabe!AB51,\"\")","v":""},"",null,{"$f":"IF(Eingabe!$E51=\"U15\",1,\"\")","v":""},{"$f":"IF(Eingabe!$E51=\"U17\",1,\"\")","v":""},{"$f":"IF(Eingabe!$E51=\"U19\",1,\"\")","v":""},{"$f":"IF(Eingabe!$E51=\"U21\",1,\"\")","v":""},{"$f":"IF(Eingabe!$E51=\"E\",1,\"\")","v":""},{"$f":"IF(Eingabe!$E51=\"S\",1,\"\")","v":""},{"$f":"IF(Eingabe!$E51=\"V\",1,\"\")","v":""},{"$f":"IF(Eingabe!$E51=\"SV\",1,\"\")","v":""},null,0,{"$f":"IF(AND(Eingabe!H51>1,Eingabe!N51>1,Eingabe!R51>1,Eingabe!AD51>1,Eingabe!AH51>1,Eingabe!AM51=1),1,0)","v":0},"",31]
[32,{"$f":"IF(X48=3,Eingabe!B52,\"\")","v":""},{"$f":"IF(X48=3,Eingabe!D52,\"\")","v":""},{"$f":"IF(X48=3,Eingabe!C$5,\"\")","v":""},{"$f":"IF(X48=3,Eingabe!AF52,\"\")","v":""},{"$f":"IF(X48=3,Eingabe!AH52,\"\")","v":""},{"$f":"IF(X48=3,Eingabe!L52,\"\")","v":""},{"$f":"IF(X48=3,Eingabe!P52,\"\")","v":""},{"$f":"IF(X48=3,Eingabe!AL52,\"\")","v":""},{"$f":"IF(X48=3,Eingabe!AB52,\"\")","v":""},"",null,{"$f":"IF(Eingabe!$E52=\"U15\",1,\"\")","v":""},{"$f":"IF(Eingabe!$E52=\"U17\",1,\"\")","v":""},{"$f":"IF(Eingabe!$E52=\"U19\",1,\"\")","v":""},{"$f":"IF(Eingabe!$E52=\"U21\",1,\"\")","v":""},{"$f":"IF(Eingabe!$E52=\"E\",1,\"\")","v":""},{"$f":"IF(Eingabe!$E52=\"S\",1,\"\")","v":""},{"$f":"IF(Eingabe!$E52=\"V\",1,\"\")","v":""},{"$f":"IF(Eingabe!$E52=\"SV\",1,\"\")","v":""},null,0,{"$f":"IF(AND(Eingabe!H52>1,Eingabe!N52>1,Eingabe!R52>1,Eingabe!AD52>1,Eingabe!AH52>1,Eingabe!AM52=1),1,0)","v":0},"",32]
[33,{"$f":"IF(X49=3,Eingabe!B53,\"\")","v":""},{"$f":"IF(X49=3,Eingabe!D53,\"\")","v":""},{"$f":"IF(X49=3,Eingabe!C$5,\"\")","v":""},{"$f":"IF(X49=3,Eingabe!AF53,\"\")","v":""},{"$f":"IF(X49=3,Eingabe!AH53,\"\")","v":""},{"$f":"IF(X49=3,Eingabe!L53,\"\")","v":""},{"$f":"IF(X49=3,Eingabe!P53,\"\")","v":""},{"$f":"IF(X49=3,Eingabe!AL53,\"\")","v":""},{"$f":"IF(X49=3,Eingabe!AB53,\"\")","v":""},"",null,{"$f":"IF(Eingabe!$E53=\"U15\",1,\"\")","v":""},{"$f":"IF(Eingabe!$E53=\"U17\",1,\"\")","v":""},{"$f":"IF(Eingabe!$E53=\"U19\",1,\"\")","v":""},{"$f":"IF(Eingabe!$E53=\"U21\",1,\"\")","v":""},{"$f":"IF(Eingabe!$E53=\"E\",1,\"\")","v":""},{"$f":"IF(Eingabe!$E53=\"S\",1,\"\")","v":""},{"$f":"IF(Eingabe!$E53=\"V\",1,\"\")","v":""},{"$f":"IF(Eingabe!$E53=\"SV\",1,\"\")","v":""},null,0,{"$f":"IF(AND(Eingabe!H53>1,Eingabe!N53>1,Eingabe!R53>1,Eingabe!AD53>1,Eingabe!AH53>1,Eingabe!AM53=1),1,0)","v":0},"",33]
[34,{"$f":"IF(X50=3,Eingabe!B54,\"\")","v":""},{"$f":"IF(X50=3,Eingabe!D54,\"\")","v":""},{"$f":"IF(X50=3,Eingabe!C$5,\"\")","v":""},{"$f":"IF(X50=3,Eingabe!AF54,\"\")","v":""},{"$f":"IF(X50=3,Eingabe!AH54,\"\")","v":""},{"$f":"IF(X50=3,Eingabe!L54,\"\")","v":""},{"$f":"IF(X50=3,Eingabe!P54,\"\")","v":""},{"$f":"IF(X50=3,Eingabe!AL54,\"\")","v":""},{"$f":"IF(X50=3,Eingabe!AB54,\"\")","v":""},"",null,{"$f":"IF(Eingabe!$E54=\"U15\",1,\"\")","v":""},{"$f":"IF(Eingabe!$E54=\"U17\",1,\"\")","v":""},{"$f":"IF(Eingabe!$E54=\"U19\",1,\"\")","v":""},{"$f":"IF(Eingabe!$E54=\"U21\",1,\"\")","v":""},{"$f":"IF(Eingabe!$E54=\"E\",1,\"\")","v":""},{"$f":"IF(Eingabe!$E54=\"S\",1,\"\")","v":""},{"$f":"IF(Eingabe!$E54=\"V\",1,\"\")","v":""},{"$f":"IF(Eingabe!$E54=\"SV\",1,\"\")","v":""},null,0,{"$f":"IF(AND(Eingabe!H54>1,Eingabe!N54>1,Eingabe!R54>1,Eingabe!AD54>1,Eingabe!AH54>1,Eingabe!AM54=1),1,0)","v":0},"",34]
[35,{"$f":"IF(X51=3,Eingabe!B55,\"\")","v":""},{"$f":"IF(X51=3,Eingabe!D55,\"\")","v":""},{"$f":"IF(X51=3,Eingabe!C$5,\"\")","v":""},{"$f":"IF(X51=3,Eingabe!AF55,\"\")","v":""},{"$f":"IF(X51=3,Eingabe!AH55,\"\")","v":""},{"$f":"IF(X51=3,Eingabe!L55,\"\")","v":""},{"$f":"IF(X51=3,Eingabe!P55,\"\")","v":""},{"$f":"IF(X51=3,Eingabe!AL55,\"\")","v":""},{"$f":"IF(X51=3,Eingabe!AB55,\"\")","v":""},"",null,{"$f":"IF(Eingabe!$E55=\"U15\",1,\"\")","v":""},{"$f":"IF(Eingabe!$E55=\"U17\",1,\"\")","v":""},{"$f":"IF(Eingabe!$E55=\"U19\",1,\"\")","v":""},{"$f":"IF(Eingabe!$E55=\"U21\",1,\"\")","v":""},{"$f":"IF(Eingabe!$E55=\"E\",1,\"\")","v":""},{"$f":"IF(Eingabe!$E55=\"S\",1,\"\")","v":""},{"$f":"IF(Eingabe!$E55=\"V\",1,\"\")","v":""},{"$f":"IF(Eingabe!$E55=\"SV\",1,\"\")","v":""},null,0,{"$f":"IF(AND(Eingabe!H55>1,Eingabe!N55>1,Eingabe!R55>1,Eingabe!AD55>1,Eingabe!AH55>1,Eingabe!AM55=1),1,0)","v":0},"",35]
[36,{"$f":"IF(X52=3,Eingabe!B56,\"\")","v":""},{"$f":"IF(X52=3,Eingabe!D56,\"\")","v":""},{"$f":"IF(X52=3,Eingabe!C$5,\"\")","v":""},{"$f":"IF(X52=3,Eingabe!AF56,\"\")","v":""},{"$f":"IF(X52=3,Eingabe!AH56,\"\")","v":""},{"$f":"IF(X52=3,Eingabe!L56,\"\")","v":""},{"$f":"IF(X52=3,Eingabe!P56,\"\")","v":""},{"$f":"IF(X52=3,Eingabe!AL56,\"\")","v":""},{"$f":"IF(X52=3,Eingabe!AB56,\"\")","v":""},"",null,{"$f":"IF(Eingabe!$E56=\"U15\",1,\"\")","v":""},{"$f":"IF(Eingabe!$E56=\"U17\",1,\"\")","v":""},{"$f":"IF(Eingabe!$E56=\"U19\",1,\"\")","v":""},{"$f":"IF(Eingabe!$E56=\"U21\",1,\"\")","v":""},{"$f":"IF(Eingabe!$E56=\"E\",1,\"\")","v":""},{"$f":"IF(Eingabe!$E56=\"S\",1,\"\")","v":""},{"$f":"IF(Eingabe!$E56=\"V\",1,\"\")","v":""},{"$f":"IF(Eingabe!$E56=\"SV\",1,\"\")","v":""},null,0,{"$f":"IF(AND(Eingabe!H56>1,Eingabe!N56>1,Eingabe!R56>1,Eingabe!AD56>1,Eingabe!AH56>1,Eingabe!AM56=1),1,0)","v":0},"",36]
[37,{"$f":"IF(X53=3,Eingabe!B57,\"\")","v":""},{"$f":"IF(X53=3,Eingabe!D57,\"\")","v":""},{"$f":"IF(X53=3,Eingabe!C$5,\"\")","v":""},{"$f":"IF(X53=3,Eingabe!AF57,\"\")","v":""},{"$f":"IF(X53=3,Eingabe!AH57,\"\")","v":""},{"$f":"IF(X53=3,Eingabe!L57,\"\")","v":""},{"$f":"IF(X53=3,Eingabe!P57,\"\")","v":""},{"$f":"IF(X53=3,Eingabe!AL57,\"\")","v":""},{"$f":"IF(X53=3,Eingabe!AB57,\"\")","v":""},"",null,{"$f":"IF(Eingabe!$E57=\"U15\",1,\"\")","v":""},{"$f":"IF(Eingabe!$E57=\"U17\",1,\"\")","v":""},{"$f":"IF(Eingabe!$E57=\"U19\",1,\"\")","v":""},{"$f":"IF(Eingabe!$E57=\"U21\",1,\"\")","v":""},{"$f":"IF(Eingabe!$E57=\"E\",1,\"\")","v":""},{"$f":"IF(Eingabe!$E57=\"S\",1,\"\")","v":""},{"$f":"IF(Eingabe!$E57=\"V\",1,\"\")","v":""},{"$f":"IF(Eingabe!$E57=\"SV\",1,\"\")","v":""},null,0,{"$f":"IF(AND(Eingabe!H57>1,Eingabe!N57>1,Eingabe!R57>1,Eingabe!AD57>1,Eingabe!AH57>1,Eingabe!AM57=1),1,0)","v":0},"",37]
[38,{"$f":"IF(X54=3,Eingabe!B58,\"\")","v":""},{"$f":"IF(X54=3,Eingabe!D58,\"\")","v":""},{"$f":"IF(X54=3,Eingabe!C$5,\"\")","v":""},{"$f":"IF(X54=3,Eingabe!AF58,\"\")","v":""},{"$f":"IF(X54=3,Eingabe!AH58,\"\")","v":""},{"$f":"IF(X54=3,Eingabe!L58,\"\")","v":""},{"$f":"IF(X54=3,Eingabe!P58,\"\")","v":""},{"$f":"IF(X54=3,Eingabe!AL58,\"\")","v":""},{"$f":"IF(X54=3,Eingabe!AB58,\"\")","v":""},"",null,{"$f":"IF(Eingabe!$E58=\"U15\",1,\"\")","v":""},{"$f":"IF(Eingabe!$E58=\"U17\",1,\"\")","v":""},{"$f":"IF(Eingabe!$E58=\"U19\",1,\"\")","v":""},{"$f":"IF(Eingabe!$E58=\"U21\",1,\"\")","v":""},{"$f":"IF(Eingabe!$E58=\"E\",1,\"\")","v":""},{"$f":"IF(Eingabe!$E58=\"S\",1,\"\")","v":""},{"$f":"IF(Eingabe!$E58=\"V\",1,\"\")","v":""},{"$f":"IF(Eingabe!$E58=\"SV\",1,\"\")","v":""},null,0,{"$f":"IF(AND(Eingabe!H58>1,Eingabe!N58>1,Eingabe!R58>1,Eingabe!AD58>1,Eingabe!AH58>1,Eingabe!AM58=1),1,0)","v":0},"",38]
[39,{"$f":"IF(X55=3,Eingabe!B59,\"\")","v":""},{"$f":"IF(X55=3,Eingabe!D59,\"\")","v":""},{"$f":"IF(X55=3,Eingabe!C$5,\"\")","v":""},{"$f":"IF(X55=3,Eingabe!AF59,\"\")","v":""},{"$f":"IF(X55=3,Eingabe!AH59,\"\")","v":""},{"$f":"IF(X55=3,Eingabe!L59,\"\")","v":""},{"$f":"IF(X55=3,Eingabe!P59,\"\")","v":""},{"$f":"IF(X55=3,Eingabe!AL59,\"\")","v":""},{"$f":"IF(X55=3,Eingabe!AB59,\"\")","v":""},"",null,{"$f":"IF(Eingabe!$E59=\"U15\",1,\"\")","v":""},{"$f":"IF(Eingabe!$E59=\"U17\",1,\"\")","v":""},{"$f":"IF(Eingabe!$E59=\"U19\",1,\"\")","v":""},{"$f":"IF(Eingabe!$E59=\"U21\",1,\"\")","v":""},{"$f":"IF(Eingabe!$E59=\"E\",1,\"\")","v":""},{"$f":"IF(Eingabe!$E59=\"S\",1,\"\")","v":""},{"$f":"IF(Eingabe!$E59=\"V\",1,\"\")","v":""},{"$f":"IF(Eingabe!$E59=\"SV\",1,\"\")","v":""},null,0,{"$f":"IF(AND(Eingabe!H59>1,Eingabe!N59>1,Eingabe!R59>1,Eingabe!AD59>1,Eingabe!AH59>1,Eingabe!AM59=1),1,0)","v":0},"",39]
[40,{"$f":"IF(X56=3,Eingabe!B60,\"\")","v":""},{"$f":"IF(X56=3,Eingabe!D60,\"\")","v":""},{"$f":"IF(X56=3,Eingabe!C$5,\"\")","v":""},{"$f":"IF(X56=3,Eingabe!AF60,\"\")","v":""},{"$f":"IF(AND(Eingabe!$E60=\"E\",Eingabe!$AS60=1),Eingabe!AH60,\"\")","v":""},{"$f":"IF(X56=3,Eingabe!L60,\"\")","v":""},{"$f":"IF(X56=3,Eingabe!P60,\"\")","v":""},{"$f":"IF(X56=3,Eingabe!AL60,\"\")","v":""},{"$f":"IF(X56=3,Eingabe!AB60,\"\")","v":""},"",null,{"$f":"IF(Eingabe!$E60=\"U15\",1,\"\")","v":""},{"$f":"IF(Eingabe!$E60=\"U17\",1,\"\")","v":""},{"$f":"IF(Eingabe!$E60=\"U19\",1,\"\")","v":""},{"$f":"IF(Eingabe!$E60=\"U21\",1,\"\")","v":""},{"$f":"IF(Eingabe!$E60=\"E\",1,\"\")","v":""},{"$f":"IF(Eingabe!$E60=\"S\",1,\"\")","v":""},{"$f":"IF(Eingabe!$E60=\"V\",1,\"\")","v":""},{"$f":"IF(Eingabe!$E60=\"SV\",1,\"\")","v":""},null,0,{"$f":"IF(AND(Eingabe!H60>1,Eingabe!N60>1,Eingabe!R60>1,Eingabe!AD60>1,Eingabe!AH60>1,Eingabe!AM60=1),1,0)","v":0},"",40]

{"sheet":"ZSV-Meisters V","index":6,"n_rows":56,"n_cols":25,"rows_kept":56,"cut":false,"hidden":false,"merged":[[1,6,1,7]]}
[null,null,"Zentralschweizerischer Sportschützen-Verband"]
[null,null,"ZSV- Meisterschaft",null,null,null,{"$f":"Eingabe!C3","v":2024}]
[]
["Sektionsname",null,{"$f":"Eingabe!$C$5","v":0}]
["Ort",null,{"$f":"Eingabe!$C$6","v":0}]
["Anzahl Mitglieder",null,{"$f":"Eingabe!$C$7","v":0}]
[]
["der/die Verantwortliche:",null,null,null,"der Ressortchef:"]
["Name/Vorname ",null,{"$f":"Eingabe!$C$11","v":0},null,"Amstutz Thomas"]
["Strasse",null,{"$f":"Eingabe!$C$12","v":0},null,"Küfermattstrasse 33a"]
["PLZ/Ort",null,{"$f":"Eingabe!$C$13","v":0},null,"5633 Sins"]
["Telefon",null,{"$f":"Eingabe!$C$14","v":0},null,"P: 041 787 22 49     N: 079 678 35 90"]
["E-Mail",null,{"$f":"Eingabe!$C$15","v":0},null,"thomas.amstutz@bluewin.ch"]
[]
["Rangliste Senioren/ Veteranenen/ Seniorveteranen"]
[null,"Name+Vorname","JG","Sektion","VWS-ZSV","SVWS","ZSV-Programm","Serie","Volk","PK-Stich","Total",null,"Kathegori U15","Kathegori U17","Kathegori U19","Kathegori U21","Kathegori E","Kathegori S","Kathegori V","Kathegori SV",null,"S bis SV Schütze","Alle Programme","Richtige Rangliste","Sortierung"]
[1,{"$f":"IF(X17=3,Eingabe!B21,\"\")","v":""},{"$f":"IF(X17=3,Eingabe!D21,\"\")","v":""},{"$f":"IF(X17=3,Eingabe!C$5,\"\")","v":""},{"$f":"IF(X17=3,Eingabe!AF21,\"\")","v":""},{"$f":"IF(X17=3,Eingabe!AH21,\"\")","v":""},{"$f":"IF(X17=3,Eingabe!L21,\"\")","v":""},{"$f":"IF(X17=3,Eingabe!P21,\"\")","v":""},{"$f":"IF(X17=3,Eingabe!AL21,\"\")","v":""},{"$f":"IF(X17=3,Eingabe!AB21,\"\")","v":""},{"$f":"IF(X17=3,SUM(E17:J17),\"\")","v":""},null,{"$f":"IF(Eingabe!$E21=\"U15\",1,\"\")","v":""},{"$f":"IF(Eingabe!$E21=\"U17\",1,\"\")","v":""},{"$f":"IF(Eingabe!$E21=\"U19\",1,\"\")","v":""},{"$f":"IF(Eingabe!$E21=\"U21\",1,\"\")","v":""},{"$f":"IF(Eingabe!$E21=\"E\",1,\"\")","v":""},{"$f":"IF(Eingabe!$E21=\"S\",1,\"\")","v":""},{"$f":"IF(Eingabe!$E21=\"V\",1,\"\")","v":""},{"$f":"IF(Eingabe!$E21=\"SV\",1,\"\")","v":""},null,{"$f":"COUNT(R17:T17)","v":0},{"$f":"IF(AND(Eingabe!H21>1,Eingabe!N21>1,Eingabe!R21>1,Eingabe!AD21>1,Eingabe!AH21>1,Eingabe!AM21=1),1,0)","v":0},{"$f":"IF(V17+W17=2,3,\"\")","v":""},1]
[2,{"$f":"IF(X18=3,Eingabe!B22,\"\")","v":""},{"$f":"IF(X18=3,Eingabe!D22,\"\")","v":""},{"$f":"IF(X18=3,Eingabe!C$5,\"\")","v":""},{"$f":"IF(X18=3,Eingabe!AF22,\"\")","v":""},{"$f":"IF(X18=3,Eingabe!AH22,\"\")","v":""},{"$f":"IF(X18=3,Eingabe!L22,\"\")","v":""},{"$f":"IF(X18=3,Eingabe!P22,\"\")","v":""},{"$f":"IF(X18=3,Eingabe!AL22,\"\")","v":""},{"$f":"IF(X18=3,Eingabe!AB22,\"\")","v":""},"",null,{"$f":"IF(Eingabe!$E22=\"U15\",1,\"\")","v":""},{"$f":"IF(Eingabe!$E22=\"U17\",1,\"\")","v":""},{"$f":"IF(Eingabe!$E22=\"U19\",1,\"\")","v":""},{"$f":"IF(Eingabe!$E22=\"U21\",1,\"\")","v":""},{"$f":"IF(Eingabe!$E22=\"E\",1,\"\")","v":""},{"$f":"IF(Eingabe!$E22=\"S\",1,\"\")","v":""},{"$f":"IF(Eingabe!$E22=\"V\",1,\"\")","v":""},{"$f":"IF(Eingabe!$E22=\"SV\",1,\"\")","v":""},null,{"$f":"COUNT(R18:U18)","v":0},{"$f":"IF(AND(Eingabe!H22>1,Eingabe!N22>1,Eingabe!R22>1,Eingabe!AD22>1,Eingabe!AH22>1,Eingabe!AM22=1),1,0)","v":0},"",2]
[3,{"$f":"IF(X19=3,Eingabe!B23,\"\")","v":""},{"$f":"IF(X19=3,Eingabe!D23,\"\")","v":""},{"$f":"IF(X19=3,Eingabe!C$5,\"\")","v":""},{"$f":"IF(X19=3,Eingabe!AF23,\"\")","v":""},{"$f":"IF(X19=3,Eingabe!AH23,\"\")","v":""},{"$f":"IF(X19=3,Eingabe!L23,\"\")","v":""},{"$f":"IF(X19=3,Eingabe!P23,\"\")","v":""},{"$f":"IF(X19=3,Eingabe!AL23,\"\")","v":""},{"$f":"IF(X19=3,Eingabe!AB23,\"\")","v":""},"",null,{"$f":"IF(Eingabe!$E23=\"U15\",1,\"\")","v":""},{"$f":"IF(Eingabe!$E23=\"U17\",1,\"\")","v":""},{"$f":"IF(Eingabe!$E23=\"U19\",1,\"\")","v":""},{"$f":"IF(Eingabe!$E23=\"U21\",1,\"\")","v":""},{"$f":"IF(Eingabe!$E23=\"E\",1,\"\")","v":""},{"$f":"IF(Eingabe!$E23=\"S\",1,\"\")","v":""},{"$f":"IF(Eingabe!$E23=\"V\",1,\"\")","v":""},{"$f":"IF(Eingabe!$E23=\"SV\",1,\"\")","v":""},null,0,{"$f":"IF(AND(Eingabe!H23>1,Eingabe!N23>1,Eingabe!R23>1,Eingabe!AD23>1,Eingabe!AH23>1,Eingabe!AM23=1),1,0)","v":0},"",3]
[4,{"$f":"IF(X20=3,Eingabe!B24,\"\")","v":""},{"$f":"IF(X20=3,Eingabe!D24,\"\")","v":""},{"$f":"IF(X20=3,Eingabe!C$5,\"\")","v":""},{"$f":"IF(X20=3,Eingabe!AF24,\"\")","v":""},{"$f":"IF(X20=3,Eingabe!AH24,\"\")","v":""},{"$f":"IF(X20=3,Eingabe!L24,\"\")","v":""},{"$f":"IF(X20=3,Eingabe!P24,\"\")","v":""},{"$f":"IF(X20=3,Eingabe!AL24,\"\")","v":""},{"$f":"IF(X20=3,Eingabe!AB24,\"\")","v":""},"",null,{"$f":"IF(Eingabe!$E24=\"U15\",1,\"\")","v":""},{"$f":"IF(Eingabe!$E24=\"U17\",1,\"\")","v":""},{"$f":"IF(Eingabe!$E24=\"U19\",1,\"\")","v":""},{"$f":"IF(Eingabe!$E24=\"U21\",1,\"\")","v":""},{"$f":"IF(Eingabe!$E24=\"E\",1,\"\")","v":""},{"$f":"IF(Eingabe!$E24=\"S\",1,\"\")","v":""},{"$f":"IF(Eingabe!$E24=\"V\",1,\"\")","v":""},{"$f":"IF(Eingabe!$E24=\"SV\",1,\"\")","v":""},null,0,{"$f":"IF(AND(Eingabe!H24>1,Eingabe!N24>1,Eingabe!R24>1,Eingabe!AD24>1,Eingabe!AH24>1,Eingabe!AM24=1),1,0)","v":0},"",4]
[5,{"$f":"IF(X21=3,Eingabe!B25,\"\")","v":""},{"$f":"IF(X21=3,Eingabe!D25,\"\")","v":""},{"$f":"IF(X21=3,Eingabe!C$5,\"\")","v":""},{"$f":"IF(X21=3,Eingabe!AF25,\"\")","v":""},{"$f":"IF(X21=3,Eingabe!AH25,\"\")","v":""},{"$f":"IF(X21=3,Eingabe!L25,\"\")","v":""},{"$f":"IF(X21=3,Eingabe!P25,\"\")","v":""},{"$f":"IF(X21=3,Eingabe!AL25,\"\")","v":""},{"$f":"IF(X21=3,Eingabe!AB25,\"\")","v":""},"",null,{"$f":"IF(Eingabe!$E25=\"U15\",1,\"\")","v":""},{"$f":"IF(Eingabe!$E25=\"U17\",1,\"\")","v":""},{"$f":"IF(Eingabe!$E25=\"U19\",1,\"\")","v":""},{"$f":"IF(Eingabe!$E25=\"U21\",1,\"\")","v":""},{"$f":"IF(Eingabe!$E25=\"E\",1,\"\")","v":""},{"$f":"IF(Eingabe!$E25=\"S\",1,\"\")","v":""},{"$f":"IF(Eingabe!$E25=\"V\",1,\"\")","v":""},{"$f":"IF(Eingabe!$E25=\"SV\",1,\"\")","v":""},null,0,{"$f":"IF(AND(Eingabe!H25>1,Eingabe!N25>1,Eingabe!R25>1,Eingabe!AD25>1,Eingabe!AH25>1,Eingabe!AM25=1),1,0)","v":0},"",5]
[6,{"$f":"IF(X22=3,Eingabe!B26,\"\")","v":""},{"$f":"IF(X22=3,Eingabe!D26,\"\")","v":""},{"$f":"IF(X22=3,Eingabe!C$5,\"\")","v":""},{"$f":"IF(X22=3,Eingabe!AF26,\"\")","v":""},{"$f":"IF(X22=3,Eingabe!AH26,\"\")","v":""},{"$f":"IF(X22=3,Eingabe!L26,\"\")","v":""},{"$f":"IF(X22=3,Eingabe!P26,\"\")","v":""},{"$f":"IF(X22=3,Eingabe!AL26,\"\")","v":""},{"$f":"IF(X22=3,Eingabe!AB26,\"\")","v":""},"",null,{"$f":"IF(Eingabe!$E26=\"U15\",1,\"\")","v":""},{"$f":"IF(Eingabe!$E26=\"U17\",1,\"\")","v":""},{"$f":"IF(Eingabe!$E26=\"U19\",1,\"\")","v":""},{"$f":"IF(Eingabe!$E26=\"U21\",1,\"\")","v":""},{"$f":"IF(Eingabe!$E26=\"E\",1,\"\")","v":""},{"$f":"IF(Eingabe!$E26=\"S\",1,\"\")","v":""},{"$f":"IF(Eingabe!$E26=\"V\",1,\"\")","v":""},{"$f":"IF(Eingabe!$E26=\"SV\",1,\"\")","v":""},null,0,{"$f":"IF(AND(Eingabe!H26>1,Eingabe!N26>1,Eingabe!R26>1,Eingabe!AD26>1,Eingabe!AH26>1,Eingabe!AM26=1),1,0)","v":0},"",6]
[7,{"$f":"IF(X23=3,Eingabe!B27,\"\")","v":""},{"$f":"IF(X23=3,Eingabe!D27,\"\")","v":""},{"$f":"IF(X23=3,Eingabe!C$5,\"\")","v":""},{"$f":"IF(X23=3,Eingabe!AF27,\"\")","v":""},{"$f":"IF(X23=3,Eingabe!AH27,\"\")","v":""},{"$f":"IF(X23=3,Eingabe!L27,\"\")","v":""},{"$f":"IF(X23=3,Eingabe!P27,\"\")","v":""},{"$f":"IF(X23=3,Eingabe!AL27,\"\")","v":""},{"$f":"IF(X23=3,Eingabe!AB27,\"\")","v":""},"",null,{"$f":"IF(Eingabe!$E27=\"U15\",1,\"\")","v":""},{"$f":"IF(Eingabe!$E27=\"U17\",1,\"\")","v":""},{"$f":"IF(Eingabe!$E27=\"U19\",1,\"\")","v":""},{"$f":"IF(Eingabe!$E27=\"U21\",1,\"\")","v":""},{"$f":"IF(Eingabe!$E27=\"E\",1,\"\")","v":""},{"$f":"IF(Eingabe!$E27=\"S\",1,\"\")","v":""},{"$f":"IF(Eingabe!$E27=\"V\",1,\"\")","v":""},{"$f":"IF(Eingabe!$E27=\"SV\",1,\"\")","v":""},null,0,{"$f":"IF(AND(Eingabe!H27>1,Eingabe!N27>1,Eingabe!R27>1,Eingabe!AD27>1,Eingabe!AH27>1,Eingabe!AM27=1),1,0)","v":0},"",7]
[8,{"$f":"IF(X24=3,Eingabe!B28,\"\")","v":""},{"$f":"IF(X24=3,Eingabe!D28,\"\")","v":""},{"$f":"IF(X24=3,Eingabe!C$5,\"\")","v":""},{"$f":"IF(X24=3,Eingabe!AF28,\"\")","v":""},{"$f":"IF(X24=3,Eingabe!AH28,\"\")","v":""},{"$f":"IF(X24=3,Eingabe!L28,\"\")","v":""},{"$f":"IF(X24=3,Eingabe!P28,\"\")","v":""},{"$f":"IF(X24=3,Eingabe!AL28,\"\")","v":""},{"$f":"IF(X24=3,Eingabe!AB28,\"\")","v":""},"",null,{"$f":"IF(Eingabe!$E28=\"U15\",1,\"\")","v":""},{"$f":"IF(Eingabe!$E28=\"U17\",1,\"\")","v":""},{"$f":"IF(Eingabe!$E28=\"U19\",1,\"\")","v":""},{"$f":"IF(Eingabe!$E28=\"U21\",1,\"\")","v":""},{"$f":"IF(Eingabe!$E28=\"E\",1,\"\")","v":""},{"$f":"IF(Eingabe!$E28=\"S\",1,\"\")","v":""},{"$f":"IF(Eingabe!$E28=\"V\",1,\"\")","v":""},{"$f":"IF(Eingabe!$E28=\"SV\",1,\"\")","v":""},null,0,{"$f":"IF(AND(Eingabe!H28>1,Eingabe!N28>1,Eingabe!R28>1,Eingabe!AD28>1,Eingabe!AH28>1,Eingabe!AM28=1),1,0)","v":0},"",8]
[9,{"$f":"IF(X25=3,Eingabe!B29,\"\")","v":""},{"$f":"IF(X25=3,Eingabe!D29,\"\")","v":""},{"$f":"IF(X25=3,Eingabe!C$5,\"\")","v":""},{"$f":"IF(X25=3,Eingabe!AF29,\"\")","v":""},{"$f":"IF(X25=3,Eingabe!AH29,\"\")","v":""},{"$f":"IF(X25=3,Eingabe!L29,\"\")","v":""},{"$f":"IF(X25=3,Eingabe!P29,\"\")","v":""},{"$f":"IF(X25=3,Eingabe!AL29,\"\")","v":""},{"$f":"IF(X25=3,Eingabe!AB29,\"\")","v":""},"",null,{"$f":"IF(Eingabe!$E29=\"U15\",1,\"\")","v":""},{"$f":"IF(Eingabe!$E29=\"U17\",1,\"\")","v":""},{"$f":"IF(Eingabe!$E29=\"U19\",1,\"\")","v":""},{"$f":"IF(Eingabe!$E29=\"U21\",1,\"\")","v":""},{"$f":"IF(Eingabe!$E29=\"E\",1,\"\")","v":""},{"$f":"IF(Eingabe!$E29=\"S\",1,\"\")","v":""},{"$f":"IF(Eingabe!$E29=\"V\",1,\"\")","v":""},{"$f":"IF(Eingabe!$E29=\"SV\",1,\"\")","v":""},null,0,{"$f":"IF(AND(Eingabe!H29>1,Eingabe!N29>1,Eingabe!R29>1,Eingabe!AD29>1,Eingabe!AH29>1,Eingabe!AM29=1),1,0)","v":0},"",9]
[10,{"$f":"IF(X26=3,Eingabe!B30,\"\")","v":""},{"$f":"IF(X26=3,Eingabe!D30,\"\")","v":""},{"$f":"IF(X26=3,Eingabe!C$5,\"\")","v":""},{"$f":"IF(X26=3,Eingabe!AF30,\"\")","v":""},{"$f":"IF(X26=3,Eingabe!AH30,\"\")","v":""},{"$f":"IF(X26=3,Eingabe!L30,\"\")","v":""},{"$f":"IF(X26=3,Eingabe!P30,\"\")","v":""},{"$f":"IF(X26=3,Eingabe!AL30,\"\")","v":""},{"$f":"IF(X26=3,Eingabe!AB30,\"\")","v":""},"",null,{"$f":"IF(Eingabe!$E30=\"U15\",1,\"\")","v":""},{"$f":"IF(Eingabe!$E30=\"U17\",1,\"\")","v":""},{"$f":"IF(Eingabe!$E30=\"U19\",1,\"\")","v":""},{"$f":"IF(Eingabe!$E30=\"U21\",1,\"\")","v":""},{"$f":"IF(Eingabe!$E30=\"E\",1,\"\")","v":""},{"$f":"IF(Eingabe!$E30=\"S\",1,\"\")","v":""},{"$f":"IF(Eingabe!$E30=\"V\",1,\"\")","v":""},{"$f":"IF(Eingabe!$E30=\"SV\",1,\"\")","v":""},null,0,{"$f":"IF(AND(Eingabe!H30>1,Eingabe!N30>1,Eingabe!R30>1,Eingabe!AD30>1,Eingabe!AH30>1,Eingabe!AM30=1),1,0)","v":0},"",10]
[11,{"$f":"IF(X27=3,Eingabe!B31,\"\")","v":""},{"$f":"IF(X27=3,Eingabe!D31,\"\")","v":""},{"$f":"IF(X27=3,Eingabe!C$5,\"\")","v":""},{"$f":"IF(X27=3,Eingabe!AF31,\"\")","v":""},{"$f":"IF(X27=3,Eingabe!AH31,\"\")","v":""},{"$f":"IF(X27=3,Eingabe!L31,\"\")","v":""},{"$f":"IF(X27=3,Eingabe!P31,\"\")","v":""},{"$f":"IF(X27=3,Eingabe!AL31,\"\")","v":""},{"$f":"IF(X27=3,Eingabe!AB31,\"\")","v":""},"",null,{"$f":"IF(Eingabe!$E31=\"U15\",1,\"\")","v":""},{"$f":"IF(Eingabe!$E31=\"U17\",1,\"\")","v":""},{"$f":"IF(Eingabe!$E31=\"U19\",1,\"\")","v":""},{"$f":"IF(Eingabe!$E31=\"U21\",1,\"\")","v":""},{"$f":"IF(Eingabe!$E31=\"E\",1,\"\")","v":""},{"$f":"IF(Eingabe!$E31=\"S\",1,\"\")","v":""},{"$f":"IF(Eingabe!$E31=\"V\",1,\"\")","v":""},{"$f":"IF(Eingabe!$E31=\"SV\",1,\"\")","v":""},null,0,{"$f":"IF(AND(Eingabe!H31>1,Eingabe!N31>1,Eingabe!R31>1,Eingabe!AD31>1,Eingabe!AH31>1,Eingabe!AM31=1),1,0)","v":0},"",11]
[12,{"$f":"IF(X28=3,Eingabe!B32,\"\")","v":""},{"$f":"IF(X28=3,Eingabe!D32,\"\")","v":""},{"$f":"IF(X28=3,Eingabe!C$5,\"\")","v":""},{"$f":"IF(X28=3,Eingabe!AF32,\"\")","v":""},{"$f":"IF(X28=3,Eingabe!AH32,\"\")","v":""},{"$f":"IF(X28=3,Eingabe!L32,\"\")","v":""},{"$f":"IF(X28=3,Eingabe!P32,\"\")","v":""},{"$f":"IF(X28=3,Eingabe!AL32,\"\")","v":""},{"$f":"IF(X28=3,Eingabe!AB32,\"\")","v":""},"",null,{"$f":"IF(Eingabe!$E32=\"U15\",1,\"\")","v":""},{"$f":"IF(Eingabe!$E32=\"U17\",1,\"\")","v":""},{"$f":"IF(Eingabe!$E32=\"U19\",1,\"\")","v":""},{"$f":"IF(Eingabe!$E32=\"U21\",1,\"\")","v":""},{"$f":"IF(Eingabe!$E32=\"E\",1,\"\")","v":""},{"$f":"IF(Eingabe!$E32=\"S\",1,\"\")","v":""},{"$f":"IF(Eingabe!$E32=\"V\",1,\"\")","v":""},{"$f":"IF(Eingabe!$E32=\"SV\",1,\"\")","v":""},null,0,{"$f":"IF(AND(Eingabe!H32>1,Eingabe!N32>1,Eingabe!R32>1,Eingabe!AD32>1,Eingabe!AH32>1,Eingabe!AM32=1),1,0)","v":0},"",12]
[13,{"$f":"IF(X29=3,Eingabe!B33,\"\")","v":""},{"$f":"IF(X29=3,Eingabe!D33,\"\")","v":""},{"$f":"IF(X29=3,Eingabe!C$5,\"\")","v":""},{"$f":"IF(X29=3,Eingabe!AF33,\"\")","v":""},{"$f":"IF(X29=3,Eingabe!AH33,\"\")","v":""},{"$f":"IF(X29=3,Eingabe!L33,\"\")","v":""},{"$f":"IF(X29=3,Eingabe!P33,\"\")","v":""},{"$f":"IF(X29=3,Eingabe!AL33,\"\")","v":""},{"$f":"IF(X29=3,Eingabe!AB33,\"\")","v":""},"",null,{"$f":"IF(Eingabe!$E33=\"U15\",1,\"\")","v":""},{"$f":"IF(Eingabe!$E33=\"U17\",1,\"\")","v":""},{"$f":"IF(Eingabe!$E33=\"U19\",1,\"\")","v":""},{"$f":"IF(Eingabe!$E33=\"U21\",1,\"\")","v":""},{"$f":"IF(Eingabe!$E33=\"E\",1,\"\")","v":""},{"$f":"IF(Eingabe!$E33=\"S\",1,\"\")","v":""},{"$f":"IF(Eingabe!$E33=\"V\",1,\"\")","v":""},{"$f":"IF(Eingabe!$E33=\"SV\",1,\"\")","v":""},null,0,{"$f":"IF(AND(Eingabe!H33>1,Eingabe!N33>1,Eingabe!R33>1,Eingabe!AD33>1,Eingabe!AH33>1,Eingabe!AM33=1),1,0)","v":0},"",13]
[14,{"$f":"IF(X30=3,Eingabe!B34,\"\")","v":""},{"$f":"IF(X30=3,Eingabe!D34,\"\")","v":""},{"$f":"IF(X30=3,Eingabe!C$5,\"\")","v":""},{"$f":"IF(X30=3,Eingabe!AF34,\"\")","v":""},{"$f":"IF(X30=3,Eingabe!AH34,\"\")","v":""},{"$f":"IF(X30=3,Eingabe!L34,\"\")","v":""},{"$f":"IF(X30=3,Eingabe!P34,\"\")","v":""},{"$f":"IF(X30=3,Eingabe!AL34,\"\")","v":""},{"$f":"IF(X30=3,Eingabe!AB34,\"\")","v":""},"",null,{"$f":"IF(Eingabe!$E34=\"U15\",1,\"\")","v":""},{"$f":"IF(Eingabe!$E34=\"U17\",1,\"\")","v":""},{"$f":"IF(Eingabe!$E34=\"U19\",1,\"\")","v":""},{"$f":"IF(Eingabe!$E34=\"U21\",1,\"\")","v":""},{"$f":"IF(Eingabe!$E34=\"E\",1,\"\")","v":""},{"$f":"IF(Eingabe!$E34=\"S\",1,\"\")","v":""},{"$f":"IF(Eingabe!$E34=\"V\",1,\"\")","v":""},{"$f":"IF(Eingabe!$E34=\"SV\",1,\"\")","v":""},null,0,{"$f":"IF(AND(Eingabe!H34>1,Eingabe!N34>1,Eingabe!R34>1,Eingabe!AD34>1,Eingabe!AH34>1,Eingabe!AM34=1),1,0)","v":0},"",14]
[15,{"$f":"IF(X31=3,Eingabe!B35,\"\")","v":""},{"$f":"IF(X31=3,Eingabe!D35,\"\")","v":""},{"$f":"IF(X31=3,Eingabe!C$5,\"\")","v":""},{"$f":"IF(X31=3,Eingabe!AF35,\"\")","v":""},{"$f":"IF(X31=3,Eingabe!AH35,\"\")","v":""},{"$f":"IF(X31=3,Eingabe!L35,\"\")","v":""},{"$f":"IF(X31=3,Eingabe!P35,\"\")","v":""},{"$f":"IF(X31=3,Eingabe!AL35,\"\")","v":""},{"$f":"IF(X31=3,Eingabe!AB35,\"\")","v":""},"",null,{"$f":"IF(Eingabe!$E35=\"U15\",1,\"\")","v":""},{"$f":"IF(Eingabe!$E35=\"U17\",1,\"\")","v":""},{"$f":"IF(Eingabe!$E35=\"U19\",1,\"\")","v":""},{"$f":"IF(Eingabe!$E35=\"U21\",1,\"\")","v":""},{"$f":"IF(Eingabe!$E35=\"E\",1,\"\")","v":""},{"$f":"IF(Eingabe!$E35=\"S\",1,\"\")","v":""},{"$f":"IF(Eingabe!$E35=\"V\",1,\"\")","v":""},{"$f":"IF(Eingabe!$E35=\"SV\",1,\"\")","v":""},null,0,{"$f":"IF(AND(Eingabe!H35>1,Eingabe!N35>1,Eingabe!R35>1,Eingabe!AD35>1,Eingabe!AH35>1,Eingabe!AM35=1),1,0)","v":0},"",15]
[16,{"$f":"IF(X32=3,Eingabe!B36,\"\")","v":""},{"$f":"IF(X32=3,Eingabe!D36,\"\")","v":""},{"$f":"IF(X32=3,Eingabe!C$5,\"\")","v":""},{"$f":"IF(X32=3,Eingabe!AF36,\"\")","v":""},{"$f":"IF(X32=3,Eingabe!AH36,\"\")","v":""},{"$f":"IF(X32=3,Eingabe!L36,\"\")","v":""},{"$f":"IF(X32=3,Eingabe!P36,\"\")","v":""},{"$f":"IF(X32=3,Eingabe!AL36,\"\")","v":""},{"$f":"IF(X32=3,Eingabe!AB36,\"\")","v":""},"",null,{"$f":"IF(Eingabe!$E36=\"U15\",1,\"\")","v":""},{"$f":"IF(Eingabe!$E36=\"U17\",1,\"\")","v":""},{"$f":"IF(Eingabe!$E36=\"U19\",1,\"\")","v":""},{"$f":"IF(Eingabe!$E36=\"U21\",1,\"\")","v":""},{"$f":"IF(Eingabe!$E36=\"E\",1,\"\")","v":""},{"$f":"IF(Eingabe!$E36=\"S\",1,\"\")","v":""},{"$f":"IF(Eingabe!$E36=\"V\",1,\"\")","v":""},{"$f":"IF(Eingabe!$E36=\"SV\",1,\"\")","v":""},null,0,{"$f":"IF(AND(Eingabe!H36>1,Eingabe!N36>1,Eingabe!R36>1,Eingabe!AD36>1,Eingabe!AH36>1,Eingabe!AM36=1),1,0)","v":0},"",16]
[17,{"$f":"IF(X33=3,Eingabe!B37,\"\")","v":""},{"$f":"IF(X33=3,Eingabe!D37,\"\")","v":""},{"$f":"IF(X33=3,Eingabe!C$5,\"\")","v":""},{"$f":"IF(X33=3,Eingabe!AF37,\"\")","v":""},{"$f":"IF(X33=3,Eingabe!AH37,\"\")","v":""},{"$f":"IF(X33=3,Eingabe!L37,\"\")","v":""},{"$f":"IF(X33=3,Eingabe!P37,\"\")","v":""},{"$f":"IF(X33=3,Eingabe!AL37,\"\")","v":""},{"$f":"IF(X33=3,Eingabe!AB37,\"\")","v":""},"",null,{"$f":"IF(Eingabe!$E37=\"U15\",1,\"\")","v":""},{"$f":"IF(Eingabe!$E37=\"U17\",1,\"\")","v":""},{"$f":"IF(Eingabe!$E37=\"U19\",1,\"\")","v":""},{"$f":"IF(Eingabe!$E37=\"U21\",1,\"\")","v":""},{"$f":"IF(Eingabe!$E37=\"E\",1,\"\")","v":""},{"$f":"IF(Eingabe!$E37=\"S\",1,\"\")","v":""},{"$f":"IF(Eingabe!$E37=\"V\",1,\"\")","v":""},{"$f":"IF(Eingabe!$E37=\"SV\",1,\"\")","v":""},null,0,{"$f":"IF(AND(Eingabe!H37>1,Eingabe!N37>1,Eingabe!R37>1,Eingabe!AD37>1,Eingabe!AH37>1,Eingabe!AM37=1),1,0)","v":0},"",17]
[18,{"$f":"IF(X34=3,Eingabe!B38,\"\")","v":""},{"$f":"IF(X34=3,Eingabe!D38,\"\")","v":""},{"$f":"IF(X34=3,Eingabe!C$5,\"\")","v":""},{"$f":"IF(X34=3,Eingabe!AF38,\"\")","v":""},{"$f":"IF(X34=3,Eingabe!AH38,\"\")","v":""},{"$f":"IF(X34=3,Eingabe!L38,\"\")","v":""},{"$f":"IF(X34=3,Eingabe!P38,\"\")","v":""},{"$f":"IF(X34=3,Eingabe!AL38,\"\")","v":""},{"$f":"IF(X34=3,Eingabe!AB38,\"\")","v":""},"",null,{"$f":"IF(Eingabe!$E38=\"U15\",1,\"\")","v":""},{"$f":"IF(Eingabe!$E38=\"U17\",1,\"\")","v":""},{"$f":"IF(Eingabe!$E38=\"U19\",1,\"\")","v":""},{"$f":"IF(Eingabe!$E38=\"U21\",1,\"\")","v":""},{"$f":"IF(Eingabe!$E38=\"E\",1,\"\")","v":""},{"$f":"IF(Eingabe!$E38=\"S\",1,\"\")","v":""},{"$f":"IF(Eingabe!$E38=\"V\",1,\"\")","v":""},{"$f":"IF(Eingabe!$E38=\"SV\",1,\"\")","v":""},null,0,{"$f":"IF(AND(Eingabe!H38>1,Eingabe!N38>1,Eingabe!R38>1,Eingabe!AD38>1,Eingabe!AH38>1,Eingabe!AM38=1),1,0)","v":0},"",18]
[19,{"$f":"IF(X35=3,Eingabe!B39,\"\")","v":""},{"$f":"IF(X35=3,Eingabe!D39,\"\")","v":""},{"$f":"IF(X35=3,Eingabe!C$5,\"\")","v":""},{"$f":"IF(X35=3,Eingabe!AF39,\"\")","v":""},{"$f":"IF(X35=3,Eingabe!AH39,\"\")","v":""},{"$f":"IF(X35=3,Eingabe!L39,\"\")","v":""},{"$f":"IF(X35=3,Eingabe!P39,\"\")","v":""},{"$f":"IF(X35=3,Eingabe!AL39,\"\")","v":""},{"$f":"IF(X35=3,Eingabe!AB39,\"\")","v":""},"",null,{"$f":"IF(Eingabe!$E39=\"U15\",1,\"\")","v":""},{"$f":"IF(Eingabe!$E39=\"U17\",1,\"\")","v":""},{"$f":"IF(Eingabe!$E39=\"U19\",1,\"\")","v":""},{"$f":"IF(Eingabe!$E39=\"U21\",1,\"\")","v":""},{"$f":"IF(Eingabe!$E39=\"E\",1,\"\")","v":""},{"$f":"IF(Eingabe!$E39=\"S\",1,\"\")","v":""},{"$f":"IF(Eingabe!$E39=\"V\",1,\"\")","v":""},{"$f":"IF(Eingabe!$E39=\"SV\",1,\"\")","v":""},null,0,{"$f":"IF(AND(Eingabe!H39>1,Eingabe!N39>1,Eingabe!R39>1,Eingabe!AD39>1,Eingabe!AH39>1,Eingabe!AM39=1),1,0)","v":0},"",19]
[20,{"$f":"IF(X36=3,Eingabe!B40,\"\")","v":""},{"$f":"IF(X36=3,Eingabe!D40,\"\")","v":""},{"$f":"IF(X36=3,Eingabe!C$5,\"\")","v":""},{"$f":"IF(X36=3,Eingabe!AF40,\"\")","v":""},{"$f":"IF(X36=3,Eingabe!AH40,\"\")","v":""},{"$f":"IF(X36=3,Eingabe!L40,\"\")","v":""},{"$f":"IF(X36=3,Eingabe!P40,\"\")","v":""},{"$f":"IF(X36=3,Eingabe!AL40,\"\")","v":""},{"$f":"IF(X36=3,Eingabe!AB40,\"\")","v":""},"",null,{"$f":"IF(Eingabe!$E40=\"U15\",1,\"\")","v":""},{"$f":"IF(Eingabe!$E40=\"U17\",1,\"\")","v":""},{"$f":"IF(Eingabe!$E40=\"U19\",1,\"\")","v":""},{"$f":"IF(Eingabe!$E40=\"U21\",1,\"\")","v":""},{"$f":"IF(Eingabe!$E40=\"E\",1,\"\")","v":""},{"$f":"IF(Eingabe!$E40=\"S\",1,\"\")","v":""},{"$f":"IF(Eingabe!$E40=\"V\",1,\"\")","v":""},{"$f":"IF(Eingabe!$E40=\"SV\",1,\"\")","v":""},null,0,{"$f":"IF(AND(Eingabe!H40>1,Eingabe!N40>1,Eingabe!R40>1,Eingabe!AD40>1,Eingabe!AH40>1,Eingabe!AM40=1),1,0)","v":0},"",20]
[21,{"$f":"IF(X37=3,Eingabe!B41,\"\")","v":""},{"$f":"IF(X37=3,Eingabe!D41,\"\")","v":""},{"$f":"IF(X37=3,Eingabe!C$5,\"\")","v":""},{"$f":"IF(X37=3,Eingabe!AF41,\"\")","v":""},{"$f":"IF(X37=3,Eingabe!AH41,\"\")","v":""},{"$f":"IF(X37=3,Eingabe!L41,\"\")","v":""},{"$f":"IF(X37=3,Eingabe!P41,\"\")","v":""},{"$f":"IF(X37=3,Eingabe!AL41,\"\")","v":""},{"$f":"IF(X37=3,Eingabe!AB41,\"\")","v":""},"",null,{"$f":"IF(Eingabe!$E41=\"U15\",1,\"\")","v":""},{"$f":"IF(Eingabe!$E41=\"U17\",1,\"\")","v":""},{"$f":"IF(Eingabe!$E41=\"U19\",1,\"\")","v":""},{"$f":"IF(Eingabe!$E41=\"U21\",1,\"\")","v":""},{"$f":"IF(Eingabe!$E41=\"E\",1,\"\")","v":""},{"$f":"IF(Eingabe!$E41=\"S\",1,\"\")","v":""},{"$f":"IF(Eingabe!$E41=\"V\",1,\"\")","v":""},{"$f":"IF(Eingabe!$E41=\"SV\",1,\"\")","v":""},null,0,{"$f":"IF(AND(Eingabe!H41>1,Eingabe!N41>1,Eingabe!R41>1,Eingabe!AD41>1,Eingabe!AH41>1,Eingabe!AM41=1),1,0)","v":0},"",21]
[22,{"$f":"IF(X38=3,Eingabe!B42,\"\")","v":""},{"$f":"IF(X38=3,Eingabe!D42,\"\")","v":""},{"$f":"IF(X38=3,Eingabe!C$5,\"\")","v":""},{"$f":"IF(X38=3,Eingabe!AF42,\"\")","v":""},{"$f":"IF(X38=3,Eingabe!AH42,\"\")","v":""},{"$f":"IF(X38=3,Eingabe!L42,\"\")","v":""},{"$f":"IF(X38=3,Eingabe!P42,\"\")","v":""},{"$f":"IF(X38=3,Eingabe!AL42,\"\")","v":""},{"$f":"IF(X38=3,Eingabe!AB42,\"\")","v":""},"",null,{"$f":"IF(Eingabe!$E42=\"U15\",1,\"\")","v":""},{"$f":"IF(Eingabe!$E42=\"U17\",1,\"\")","v":""},{"$f":"IF(Eingabe!$E42=\"U19\",1,\"\")","v":""},{"$f":"IF(Eingabe!$E42=\"U21\",1,\"\")","v":""},{"$f":"IF(Eingabe!$E42=\"E\",1,\"\")","v":""},{"$f":"IF(Eingabe!$E42=\"S\",1,\"\")","v":""},{"$f":"IF(Eingabe!$E42=\"V\",1,\"\")","v":""},{"$f":"IF(Eingabe!$E42=\"SV\",1,\"\")","v":""},null,0,{"$f":"IF(AND(Eingabe!H42>1,Eingabe!N42>1,Eingabe!R42>1,Eingabe!AD42>1,Eingabe!AH42>1,Eingabe!AM42=1),1,0)","v":0},"",22]
[23,{"$f":"IF(X39=3,Eingabe!B43,\"\")","v":""},{"$f":"IF(X39=3,Eingabe!D43,\"\")","v":""},{"$f":"IF(X39=3,Eingabe!C$5,\"\")","v":""},{"$f":"IF(X39=3,Eingabe!AF43,\"\")","v":""},{"$f":"IF(X39=3,Eingabe!AH43,\"\")","v":""},{"$f":"IF(X39=3,Eingabe!L43,\"\")","v":""},{"$f":"IF(X39=3,Eingabe!P43,\"\")","v":""},{"$f":"IF(X39=3,Eingabe!AL43,\"\")","v":""},{"$f":"IF(X39=3,Eingabe!AB43,\"\")","v":""},"",null,{"$f":"IF(Eingabe!$E43=\"U15\",1,\"\")","v":""},{"$f":"IF(Eingabe!$E43=\"U17\",1,\"\")","v":""},{"$f":"IF(Eingabe!$E43=\"U19\",1,\"\")","v":""},{"$f":"IF(Eingabe!$E43=\"U21\",1,\"\")","v":""},{"$f":"IF(Eingabe!$E43=\"E\",1,\"\")","v":""},{"$f":"IF(Eingabe!$E43=\"S\",1,\"\")","v":""},{"$f":"IF(Eingabe!$E43=\"V\",1,\"\")","v":""},{"$f":"IF(Eingabe!$E43=\"SV\",1,\"\")","v":""},null,0,{"$f":"IF(AND(Eingabe!H43>1,Eingabe!N43>1,Eingabe!R43>1,Eingabe!AD43>1,Eingabe!AH43>1,Eingabe!AM43=1),1,0)","v":0},"",23]
[24,{"$f":"IF(X40=3,Eingabe!B44,\"\")","v":""},{"$f":"IF(X40=3,Eingabe!D44,\"\")","v":""},{"$f":"IF(X40=3,Eingabe!C$5,\"\")","v":""},{"$f":"IF(X40=3,Eingabe!AF44,\"\")","v":""},{"$f":"IF(X40=3,Eingabe!AH44,\"\")","v":""},{"$f":"IF(X40=3,Eingabe!L44,\"\")","v":""},{"$f":"IF(X40=3,Eingabe!P44,\"\")","v":""},{"$f":"IF(X40=3,Eingabe!AL44,\"\")","v":""},{"$f":"IF(X40=3,Eingabe!AB44,\"\")","v":""},"",null,{"$f":"IF(Eingabe!$E44=\"U15\",1,\"\")","v":""},{"$f":"IF(Eingabe!$E44=\"U17\",1,\"\")","v":""},{"$f":"IF(Eingabe!$E44=\"U19\",1,\"\")","v":""},{"$f":"IF(Eingabe!$E44=\"U21\",1,\"\")","v":""},{"$f":"IF(Eingabe!$E44=\"E\",1,\"\")","v":""},{"$f":"IF(Eingabe!$E44=\"S\",1,\"\")","v":""},{"$f":"IF(Eingabe!$E44=\"V\",1,\"\")","v":""},{"$f":"IF(Eingabe!$E44=\"SV\",1,\"\")","v":""},null,0,{"$f":"IF(AND(Eingabe!H44>1,Eingabe!N44>1,Eingabe!R44>1,Eingabe!AD44>1,Eingabe!AH44>1,Eingabe!AM44=1),1,0)","v":0},"",24]
[25,{"$f":"IF(X41=3,Eingabe!B45,\"\")","v":""},{"$f":"IF(X41=3,Eingabe!D45,\"\")","v":""},{"$f":"IF(X41=3,Eingabe!C$5,\"\")","v":""},{"$f":"IF(X41=3,Eingabe!AF45,\"\")","v":""},{"$f":"IF(X41=3,Eingabe!AH45,\"\")","v":""},{"$f":"IF(X41=3,Eingabe!L45,\"\")","v":""},{"$f":"IF(X41=3,Eingabe!P45,\"\")","v":""},{"$f":"IF(X41=3,Eingabe!AL45,\"\")","v":""},{"$f":"IF(X41=3,Eingabe!AB45,\"\")","v":""},"",null,{"$f":"IF(Eingabe!$E45=\"U15\",1,\"\")","v":""},{"$f":"IF(Eingabe!$E45=\"U17\",1,\"\")","v":""},{"$f":"IF(Eingabe!$E45=\"U19\",1,\"\")","v":""},{"$f":"IF(Eingabe!$E45=\"U21\",1,\"\")","v":""},{"$f":"IF(Eingabe!$E45=\"E\",1,\"\")","v":""},{"$f":"IF(Eingabe!$E45=\"S\",1,\"\")","v":""},{"$f":"IF(Eingabe!$E45=\"V\",1,\"\")","v":""},{"$f":"IF(Eingabe!$E45=\"SV\",1,\"\")","v":""},null,0,{"$f":"IF(AND(Eingabe!H45>1,Eingabe!N45>1,Eingabe!R45>1,Eingabe!AD45>1,Eingabe!AH45>1,Eingabe!AM45=1),1,0)","v":0},"",25]
[26,{"$f":"IF(X42=3,Eingabe!B46,\"\")","v":""},{"$f":"IF(X42=3,Eingabe!D46,\"\")","v":""},{"$f":"IF(X42=3,Eingabe!C$5,\"\")","v":""},{"$f":"IF(X42=3,Eingabe!AF46,\"\")","v":""},{"$f":"IF(X42=3,Eingabe!AH46,\"\")","v":""},{"$f":"IF(X42=3,Eingabe!L46,\"\")","v":""},{"$f":"IF(X42=3,Eingabe!P46,\"\")","v":""},{"$f":"IF(X42=3,Eingabe!AL46,\"\")","v":""},{"$f":"IF(X42=3,Eingabe!AB46,\"\")","v":""},"",null,{"$f":"IF(Eingabe!$E46=\"U15\",1,\"\")","v":""},{"$f":"IF(Eingabe!$E46=\"U17\",1,\"\")","v":""},{"$f":"IF(Eingabe!$E46=\"U19\",1,\"\")","v":""},{"$f":"IF(Eingabe!$E46=\"U21\",1,\"\")","v":""},{"$f":"IF(Eingabe!$E46=\"E\",1,\"\")","v":""},{"$f":"IF(Eingabe!$E46=\"S\",1,\"\")","v":""},{"$f":"IF(Eingabe!$E46=\"V\",1,\"\")","v":""},{"$f":"IF(Eingabe!$E46=\"SV\",1,\"\")","v":""},null,0,{"$f":"IF(AND(Eingabe!H46>1,Eingabe!N46>1,Eingabe!R46>1,Eingabe!AD46>1,Eingabe!AH46>1,Eingabe!AM46=1),1,0)","v":0},"",26]
[27,{"$f":"IF(X43=3,Eingabe!B47,\"\")","v":""},{"$f":"IF(X43=3,Eingabe!D47,\"\")","v":""},{"$f":"IF(X43=3,Eingabe!C$5,\"\")","v":""},{"$f":"IF(X43=3,Eingabe!AF47,\"\")","v":""},{"$f":"IF(X43=3,Eingabe!AH47,\"\")","v":""},{"$f":"IF(X43=3,Eingabe!L47,\"\")","v":""},{"$f":"IF(X43=3,Eingabe!P47,\"\")","v":""},{"$f":"IF(X43=3,Eingabe!AL47,\"\")","v":""},{"$f":"IF(X43=3,Eingabe!AB47,\"\")","v":""},"",null,{"$f":"IF(Eingabe!$E47=\"U15\",1,\"\")","v":""},{"$f":"IF(Eingabe!$E47=\"U17\",1,\"\")","v":""},{"$f":"IF(Eingabe!$E47=\"U19\",1,\"\")","v":""},{"$f":"IF(Eingabe!$E47=\"U21\",1,\"\")","v":""},{"$f":"IF(Eingabe!$E47=\"E\",1,\"\")","v":""},{"$f":"IF(Eingabe!$E47=\"S\",1,\"\")","v":""},{"$f":"IF(Eingabe!$E47=\"V\",1,\"\")","v":""},{"$f":"IF(Eingabe!$E47=\"SV\",1,\"\")","v":""},null,0,{"$f":"IF(AND(Eingabe!H47>1,Eingabe!N47>1,Eingabe!R47>1,Eingabe!AD47>1,Eingabe!AH47>1,Eingabe!AM47=1),1,0)","v":0},"",27]
[28,{"$f":"IF(X44=3,Eingabe!B48,\"\")","v":""},{"$f":"IF(X44=3,Eingabe!D48,\"\")","v":""},{"$f":"IF(X44=3,Eingabe!C$5,\"\")","v":""},{"$f":"IF(X44=3,Eingabe!AF48,\"\")","v":""},{"$f":"IF(X44=3,Eingabe!AH48,\"\")","v":""},{"$f":"IF(X44=3,Eingabe!L48,\"\")","v":""},{"$f":"IF(X44=3,Eingabe!P48,\"\")","v":""},{"$f":"IF(X44=3,Eingabe!AL48,\"\")","v":""},{"$f":"IF(X44=3,Eingabe!AB48,\"\")","v":""},"",null,{"$f":"IF(Eingabe!$E48=\"U15\",1,\"\")","v":""},{"$f":"IF(Eingabe!$E48=\"U17\",1,\"\")","v":""},{"$f":"IF(Eingabe!$E48=\"U19\",1,\"\")","v":""},{"$f":"IF(Eingabe!$E48=\"U21\",1,\"\")","v":""},{"$f":"IF(Eingabe!$E48=\"E\",1,\"\")","v":""},{"$f":"IF(Eingabe!$E48=\"S\",1,\"\")","v":""},{"$f":"IF(Eingabe!$E48=\"V\",1,\"\")","v":""},{"$f":"IF(Eingabe!$E48=\"SV\",1,\"\")","v":""},null,0,{"$f":"IF(AND(Eingabe!H48>1,Eingabe!N48>1,Eingabe!R48>1,Eingabe!AD48>1,Eingabe!AH48>1,Eingabe!AM48=1),1,0)","v":0},"",28]
[29,{"$f":"IF(X45=3,Eingabe!B49,\"\")","v":""},{"$f":"IF(X45=3,Eingabe!D49,\"\")","v":""},{"$f":"IF(X45=3,Eingabe!C$5,\"\")","v":""},{"$f":"IF(X45=3,Eingabe!AF49,\"\")","v":""},{"$f":"IF(X45=3,Eingabe!AH49,\"\")","v":""},{"$f":"IF(X45=3,Eingabe!L49,\"\")","v":""},{"$f":"IF(X45=3,Eingabe!P49,\"\")","v":""},{"$f":"IF(X45=3,Eingabe!AL49,\"\")","v":""},{"$f":"IF(X45=3,Eingabe!AB49,\"\")","v":""},"",null,{"$f":"IF(Eingabe!$E49=\"U15\",1,\"\")","v":""},{"$f":"IF(Eingabe!$E49=\"U17\",1,\"\")","v":""},{"$f":"IF(Eingabe!$E49=\"U19\",1,\"\")","v":""},{"$f":"IF(Eingabe!$E49=\"U21\",1,\"\")","v":""},{"$f":"IF(Eingabe!$E49=\"E\",1,\"\")","v":""},{"$f":"IF(Eingabe!$E49=\"S\",1,\"\")","v":""},{"$f":"IF(Eingabe!$E49=\"V\",1,\"\")","v":""},{"$f":"IF(Eingabe!$E49=\"SV\",1,\"\")","v":""},null,0,{"$f":"IF(AND(Eingabe!H49>1,Eingabe!N49>1,Eingabe!R49>1,Eingabe!AD49>1,Eingabe!AH49>1,Eingabe!AM49=1),1,0)","v":0},"",29]
[30,{"$f":"IF(X46=3,Eingabe!B50,\"\")","v":""},{"$f":"IF(X46=3,Eingabe!D50,\"\")","v":""},{"$f":"IF(X46=3,Eingabe!C$5,\"\")","v":""},{"$f":"IF(X46=3,Eingabe!AF50,\"\")","v":""},{"$f":"IF(X46=3,Eingabe!AH50,\"\")","v":""},{"$f":"IF(X46=3,Eingabe!L50,\"\")","v":""},{"$f":"IF(X46=3,Eingabe!P50,\"\")","v":""},{"$f":"IF(X46=3,Eingabe!AL50,\"\")","v":""},{"$f":"IF(X46=3,Eingabe!AB50,\"\")","v":""},"",null,{"$f":"IF(Eingabe!$E50=\"U15\",1,\"\")","v":""},{"$f":"IF(Eingabe!$E50=\"U17\",1,\"\")","v":""},{"$f":"IF(Eingabe!$E50=\"U19\",1,\"\")","v":""},{"$f":"IF(Eingabe!$E50=\"U21\",1,\"\")","v":""},{"$f":"IF(Eingabe!$E50=\"E\",1,\"\")","v":""},{"$f":"IF(Eingabe!$E50=\"S\",1,\"\")","v":""},{"$f":"IF(Eingabe!$E50=\"V\",1,\"\")","v":""},{"$f":"IF(Eingabe!$E50=\"SV\",1,\"\")","v":""},null,0,{"$f":"IF(AND(Eingabe!H50>1,Eingabe!N50>1,Eingabe!R50>1,Eingabe!AD50>1,Eingabe!AH50>1,Eingabe!AM50=1),1,0)","v":0},"",30]
[31,{"$f":"IF(X47=3,Eingabe!B51,\"\")","v":""},{"$f":"IF(X47=3,Eingabe!D51,\"\")","v":""},{"$f":"IF(X47=3,Eingabe!C$5,\"\")","v":""},{"$f":"IF(X47=3,Eingabe!AF51,\"\")","v":""},{"$f":"IF(X47=3,Eingabe!AH51,\"\")","v":""},{"$f":"IF(X47=3,Eingabe!L51,\"\")","v":""},{"$f":"IF(X47=3,Eingabe!P51,\"\")","v":""},{"$f":"IF(X47=3,Eingabe!AL51,\"\")","v":""},{"$f":"IF(X47=3,Eingabe!AB51,\"\")","v":""},"",null,{"$f":"IF(Eingabe!$E51=\"U15\",1,\"\")","v":""},{"$f":"IF(Eingabe!$E51=\"U17\",1,\"\")","v":""},{"$f":"IF(Eingabe!$E51=\"U19\",1,\"\")","v":""},{"$f":"IF(Eingabe!$E51=\"U21\",1,\"\")","v":""},{"$f":"IF(Eingabe!$E51=\"E\",1,\"\")","v":""},{"$f":"IF(Eingabe!$E51=\"S\",1,\"\")","v":""},{"$f":"IF(Eingabe!$E51=\"V\",1,\"\")","v":""},{"$f":"IF(Eingabe!$E51=\"SV\",1,\"\")","v":""},null,0,{"$f":"IF(AND(Eingabe!H51>1,Eingabe!N51>1,Eingabe!R51>1,Eingabe!AD51>1,Eingabe!AH51>1,Eingabe!AM51=1),1,0)","v":0},"",31]
[32,{"$f":"IF(X48=3,Eingabe!B52,\"\")","v":""},{"$f":"IF(X48=3,Eingabe!D52,\"\")","v":""},{"$f":"IF(X48=3,Eingabe!C$5,\"\")","v":""},{"$f":"IF(X48=3,Eingabe!AF52,\"\")","v":""},{"$f":"IF(X48=3,Eingabe!AH52,\"\")","v":""},{"$f":"IF(X48=3,Eingabe!L52,\"\")","v":""},{"$f":"IF(X48=3,Eingabe!P52,\"\")","v":""},{"$f":"IF(X48=3,Eingabe!AL52,\"\")","v":""},{"$f":"IF(X48=3,Eingabe!AB52,\"\")","v":""},"",null,{"$f":"IF(Eingabe!$E52=\"U15\",1,\"\")","v":""},{"$f":"IF(Eingabe!$E52=\"U17\",1,\"\")","v":""},{"$f":"IF(Eingabe!$E52=\"U19\",1,\"\")","v":""},{"$f":"IF(Eingabe!$E52=\"U21\",1,\"\")","v":""},{"$f":"IF(Eingabe!$E52=\"E\",1,\"\")","v":""},{"$f":"IF(Eingabe!$E52=\"S\",1,\"\")","v":""},{"$f":"IF(Eingabe!$E52=\"V\",1,\"\")","v":""},{"$f":"IF(Eingabe!$E52=\"SV\",1,\"\")","v":""},null,0,{"$f":"IF(AND(Eingabe!H52>1,Eingabe!N52>1,Eingabe!R52>1,Eingabe!AD52>1,Eingabe!AH52>1,Eingabe!AM52=1),1,0)","v":0},"",32]
[33,{"$f":"IF(X49=3,Eingabe!B53,\"\")","v":""},{"$f":"IF(X49=3,Eingabe!D53,\"\")","v":""},{"$f":"IF(X49=3,Eingabe!C$5,\"\")","v":""},{"$f":"IF(X49=3,Eingabe!AF53,\"\")","v":""},{"$f":"IF(X49=3,Eingabe!AH53,\"\")","v":""},{"$f":"IF(X49=3,Eingabe!L53,\"\")","v":""},{"$f":"IF(X49=3,Eingabe!P53,\"\")","v":""},{"$f":"IF(X49=3,Eingabe!AL53,\"\")","v":""},{"$f":"IF(X49=3,Eingabe!AB53,\"\")","v":""},"",null,{"$f":"IF(Eingabe!$E53=\"U15\",1,\"\")","v":""},{"$f":"IF(Eingabe!$E53=\"U17\",1,\"\")","v":""},{"$f":"IF(Eingabe!$E53=\"U19\",1,\"\")","v":""},{"$f":"IF(Eingabe!$E53=\"U21\",1,\"\")","v":""},{"$f":"IF(Eingabe!$E53=\"E\",1,\"\")","v":""},{"$f":"IF(Eingabe!$E53=\"S\",1,\"\")","v":""},{"$f":"IF(Eingabe!$E53=\"V\",1,\"\")","v":""},{"$f":"IF(Eingabe!$E53=\"SV\",1,\"\")","v":""},null,0,{"$f":"IF(AND(Eingabe!H53>1,Eingabe!N53>1,Eingabe!R53>1,Eingabe!AD53>1,Eingabe!AH53>1,Eingabe!AM53=1),1,0)","v":0},"",33]
[34,{"$f":"IF(X50=3,Eingabe!B54,\"\")","v":""},{"$f":"IF(X50=3,Eingabe!D54,\"\")","v":""},{"$f":"IF(X50=3,Eingabe!C$5,\"\")","v":""},{"$f":"IF(X50=3,Eingabe!AF54,\"\")","v":""},{"$f":"IF(X50=3,Eingabe!AH54,\"\")","v":""},{"$f":"IF(X50=3,Eingabe!L54,\"\")","v":""},{"$f":"IF(X50=3,Eingabe!P54,\"\")","v":""},{"$f":"IF(X50=3,Eingabe!AL54,\"\")","v":""},{"$f":"IF(X50=3,Eingabe!AB54,\"\")","v":""},"",null,{"$f":"IF(Eingabe!$E54=\"U15\",1,\"\")","v":""},{"$f":"IF(Eingabe!$E54=\"U17\",1,\"\")","v":""},{"$f":"IF(Eingabe!$E54=\"U19\",1,\"\")","v":""},{"$f":"IF(Eingabe!$E54=\"U21\",1,\"\")","v":""},{"$f":"IF(Eingabe!$E54=\"E\",1,\"\")","v":""},{"$f":"IF(Eingabe!$E54=\"S\",1,\"\")","v":""},{"$f":"IF(Eingabe!$E54=\"V\",1,\"\")","v":""},{"$f":"IF(Eingabe!$E54=\"SV\",1,\"\")","v":""},null,0,{"$f":"IF(AND(Eingabe!H54>1,Eingabe!N54>1,Eingabe!R54>1,Eingabe!AD54>1,Eingabe!AH54>1,Eingabe!AM54=1),1,0)","v":0},"",34]
[35,{"$f":"IF(X51=3,Eingabe!B55,\"\")","v":""},{"$f":"IF(X51=3,Eingabe!D55,\"\")","v":""},{"$f":"IF(X51=3,Eingabe!C$5,\"\")","v":""},{"$f":"IF(X51=3,Eingabe!AF55,\"\")","v":""},{"$f":"IF(X51=3,Eingabe!AH55,\"\")","v":""},{"$f":"IF(X51=3,Eingabe!L55,\"\")","v":""},{"$f":"IF(X51=3,Eingabe!P55,\"\")","v":""},{"$f":"IF(X51=3,Eingabe!AL55,\"\")","v":""},{"$f":"IF(X51=3,Eingabe!AB55,\"\")","v":""},"",null,{"$f":"IF(Eingabe!$E55=\"U15\",1,\"\")","v":""},{"$f":"IF(Eingabe!$E55=\"U17\",1,\"\")","v":""},{"$f":"IF(Eingabe!$E55=\"U19\",1,\"\")","v":""},{"$f":"IF(Eingabe!$E55=\"U21\",1,\"\")","v":""},{"$f":"IF(Eingabe!$E55=\"E\",1,\"\")","v":""},{"$f":"IF(Eingabe!$E55=\"S\",1,\"\")","v":""},{"$f":"IF(Eingabe!$E55=\"V\",1,\"\")","v":""},{"$f":"IF(Eingabe!$E55=\"SV\",1,\"\")","v":""},null,0,{"$f":"IF(AND(Eingabe!H55>1,Eingabe!N55>1,Eingabe!R55>1,Eingabe!AD55>1,Eingabe!AH55>1,Eingabe!AM55=1),1,0)","v":0},"",35]
[36,{"$f":"IF(X52=3,Eingabe!B56,\"\")","v":""},{"$f":"IF(X52=3,Eingabe!D56,\"\")","v":""},{"$f":"IF(X52=3,Eingabe!C$5,\"\")","v":""},{"$f":"IF(X52=3,Eingabe!AF56,\"\")","v":""},{"$f":"IF(X52=3,Eingabe!AH56,\"\")","v":""},{"$f":"IF(X52=3,Eingabe!L56,\"\")","v":""},{"$f":"IF(X52=3,Eingabe!P56,\"\")","v":""},{"$f":"IF(X52=3,Eingabe!AL56,\"\")","v":""},{"$f":"IF(X52=3,Eingabe!AB56,\"\")","v":""},"",null,{"$f":"IF(Eingabe!$E56=\"U15\",1,\"\")","v":""},{"$f":"IF(Eingabe!$E56=\"U17\",1,\"\")","v":""},{"$f":"IF(Eingabe!$E56=\"U19\",1,\"\")","v":""},{"$f":"IF(Eingabe!$E56=\"U21\",1,\"\")","v":""},{"$f":"IF(Eingabe!$E56=\"E\",1,\"\")","v":""},{"$f":"IF(Eingabe!$E56=\"S\",1,\"\")","v":""},{"$f":"IF(Eingabe!$E56=\"V\",1,\"\")","v":""},{"$f":"IF(Eingabe!$E56=\"SV\",1,\"\")","v":""},null,0,{"$f":"IF(AND(Eingabe!H56>1,Eingabe!N56>1,Eingabe!R56>1,Eingabe!AD56>1,Eingabe!AH56>1,Eingabe!AM56=1),1,0)","v":0},"",36]
[37,{"$f":"IF(X53=3,Eingabe!B57,\"\")","v":""},{"$f":"IF(X53=3,Eingabe!D57,\"\")","v":""},{"$f":"IF(X53=3,Eingabe!C$5,\"\")","v":""},{"$f":"IF(X53=3,Eingabe!AF57,\"\")","v":""},{"$f":"IF(X53=3,Eingabe!AH57,\"\")","v":""},{"$f":"IF(X53=3,Eingabe!L57,\"\")","v":""},{"$f":"IF(X53=3,Eingabe!P57,\"\")","v":""},{"$f":"IF(X53=3,Eingabe!AL57,\"\")","v":""},{"$f":"IF(X53=3,Eingabe!AB57,\"\")","v":""},"",null,{"$f":"IF(Eingabe!$E57=\"U15\",1,\"\")","v":""},{"$f":"IF(Eingabe!$E57=\"U17\",1,\"\")","v":""},{"$f":"IF(Eingabe!$E57=\"U19\",1,\"\")","v":""},{"$f":"IF(Eingabe!$E57=\"U21\",1,\"\")","v":""},{"$f":"IF(Eingabe!$E57=\"E\",1,\"\")","v":""},{"$f":"IF(Eingabe!$E57=\"S\",1,\"\")","v":""},{"$f":"IF(Eingabe!$E57=\"V\",1,\"\")","v":""},{"$f":"IF(Eingabe!$E57=\"SV\",1,\"\")","v":""},null,0,{"$f":"IF(AND(Eingabe!H57>1,Eingabe!N57>1,Eingabe!R57>1,Eingabe!AD57>1,Eingabe!AH57>1,Eingabe!AM57=1),1,0)","v":0},"",37]
[38,{"$f":"IF(X54=3,Eingabe!B58,\"\")","v":""},{"$f":"IF(X54=3,Eingabe!D58,\"\")","v":""},{"$f":"IF(X54=3,Eingabe!C$5,\"\")","v":""},{"$f":"IF(X54=3,Eingabe!AF58,\"\")","v":""},{"$f":"IF(X54=3,Eingabe!AH58,\"\")","v":""},{"$f":"IF(X54=3,Eingabe!L58,\"\")","v":""},{"$f":"IF(X54=3,Eingabe!P58,\"\")","v":""},{"$f":"IF(X54=3,Eingabe!AL58,\"\")","v":""},{"$f":"IF(X54=3,Eingabe!AB58,\"\")","v":""},"",null,{"$f":"IF(Eingabe!$E58=\"U15\",1,\"\")","v":""},{"$f":"IF(Eingabe!$E58=\"U17\",1,\"\")","v":""},{"$f":"IF(Eingabe!$E58=\"U19\",1,\"\")","v":""},{"$f":"IF(Eingabe!$E58=\"U21\",1,\"\")","v":""},{"$f":"IF(Eingabe!$E58=\"E\",1,\"\")","v":""},{"$f":"IF(Eingabe!$E58=\"S\",1,\"\")","v":""},{"$f":"IF(Eingabe!$E58=\"V\",1,\"\")","v":""},{"$f":"IF(Eingabe!$E58=\"SV\",1,\"\")","v":""},null,0,{"$f":"IF(AND(Eingabe!H58>1,Eingabe!N58>1,Eingabe!R58>1,Eingabe!AD58>1,Eingabe!AH58>1,Eingabe!AM58=1),1,0)","v":0},"",38]
[39,{"$f":"IF(X55=3,Eingabe!B59,\"\")","v":""},{"$f":"IF(X55=3,Eingabe!D59,\"\")","v":""},{"$f":"IF(X55=3,Eingabe!C$5,\"\")","v":""},{"$f":"IF(X55=3,Eingabe!AF59,\"\")","v":""},{"$f":"IF(X55=3,Eingabe!AH59,\"\")","v":""},{"$f":"IF(X55=3,Eingabe!L59,\"\")","v":""},{"$f":"IF(X55=3,Eingabe!P59,\"\")","v":""},{"$f":"IF(X55=3,Eingabe!AL59,\"\")","v":""},{"$f":"IF(X55=3,Eingabe!AB59,\"\")","v":""},"",null,{"$f":"IF(Eingabe!$E59=\"U15\",1,\"\")","v":""},{"$f":"IF(Eingabe!$E59=\"U17\",1,\"\")","v":""},{"$f":"IF(Eingabe!$E59=\"U19\",1,\"\")","v":""},{"$f":"IF(Eingabe!$E59=\"U21\",1,\"\")","v":""},{"$f":"IF(Eingabe!$E59=\"E\",1,\"\")","v":""},{"$f":"IF(Eingabe!$E59=\"S\",1,\"\")","v":""},{"$f":"IF(Eingabe!$E59=\"V\",1,\"\")","v":""},{"$f":"IF(Eingabe!$E59=\"SV\",1,\"\")","v":""},null,0,{"$f":"IF(AND(Eingabe!H59>1,Eingabe!N59>1,Eingabe!R59>1,Eingabe!AD59>1,Eingabe!AH59>1,Eingabe!AM59=1),1,0)","v":0},"",39]
[40,{"$f":"IF(X56=3,Eingabe!B60,\"\")","v":""},{"$f":"IF(X56=3,Eingabe!D60,\"\")","v":""},{"$f":"IF(X56=3,Eingabe!C$5,\"\")","v":""},{"$f":"IF(X56=3,Eingabe!AF60,\"\")","v":""},{"$f":"IF(AND(Eingabe!$E60=\"E\",Eingabe!$AS60=1),Eingabe!AH60,\"\")","v":""},{"$f":"IF(X56=3,Eingabe!L60,\"\")","v":""},{"$f":"IF(X56=3,Eingabe!P60,\"\")","v":""},{"$f":"IF(X56=3,Eingabe!AL60,\"\")","v":""},{"$f":"IF(X56=3,Eingabe!AB60,\"\")","v":""},"",null,{"$f":"IF(Eingabe!$E60=\"U15\",1,\"\")","v":""},{"$f":"IF(Eingabe!$E60=\"U17\",1,\"\")","v":""},{"$f":"IF(Eingabe!$E60=\"U19\",1,\"\")","v":""},{"$f":"IF(Eingabe!$E60=\"U21\",1,\"\")","v":""},{"$f":"IF(Eingabe!$E60=\"E\",1,\"\")","v":""},{"$f":"IF(Eingabe!$E60=\"S\",1,\"\")","v":""},{"$f":"IF(Eingabe!$E60=\"V\",1,\"\")","v":""},{"$f":"IF(Eingabe!$E60=\"SV\",1,\"\")","v":""},null,0,{"$f":"IF(AND(Eingabe!H60>1,Eingabe!N60>1,Eingabe!R60>1,Eingabe!AD60>1,Eingabe!AH60>1,Eingabe!AM60=1),1,0)","v":0},"",40]

{"sheet":"ZSV-Meisters J","index":7,"n_rows":56,"n_cols":25,"rows_kept":56,"cut":false,"hidden":false,"merged":[[1,6,1,7]]}
[null,null,"Zentralschweizerischer Sportschützen-Verband"]
[null,null,"ZSV- Meisterschaft",null,null,null,{"$f":"Eingabe!C3","v":2024}]
[]
["Sektionsname",null,{"$f":"Eingabe!$C$5","v":0}]
["Ort",null,{"$f":"Eingabe!$C$6","v":0}]
["Anzahl Mitglieder",null,{"$f":"Eingabe!$C$7","v":0}]
[]
["der/die Verantwortliche:",null,null,null,"der Ressortchef:"]
["Name/Vorname ",null,{"$f":"Eingabe!$C$11","v":0},null,"Amstutz Thomas"]
["Strasse",null,{"$f":"Eingabe!$C$12","v":0},null,"Küfermattstrasse 33a"]
["PLZ/Ort",null,{"$f":"Eingabe!$C$13","v":0},null,"5633 Sins"]
["Telefon",null,{"$f":"Eingabe!$C$14","v":0},null,"P: 041 787 22 49     N: 079 678 35 90"]
["E-Mail",null,{"$f":"Eingabe!$C$15","v":0},null,"thomas.amstutz@bluewin.ch"]
[]
["Rangliste Junioren"]
[null,"Name+Vorname","JG","Sektion","VWS-ZSV","SVWS","ZSV-Programm","Serie","Volk","PK-Stich","Total",null,"Kathegori U15","Kathegori U17","Kathegori U19","Kathegori U21","Kathegori E","Kathegori S","Kathegori V","Kathegori SV","Kniend","U15 bis U21 Schütze","Alle Programme","Richtige Rangliste","Sortierung"]
[1,{"$f":"IF(X17=3,Eingabe!B21,\"\")","v":""},{"$f":"IF(X17=3,Eingabe!D21,\"\")","v":""},{"$f":"IF(X17=3,Eingabe!C$5,\"\")","v":""},{"$f":"IF(X17=3,Eingabe!AF21,\"\")","v":""},{"$f":"IF(X17=3,Eingabe!AH21,\"\")","v":""},{"$f":"IF(X17=3,Eingabe!L21,\"\")","v":""},{"$f":"IF(X17=3,Eingabe!P21,\"\")","v":""},{"$f":"IF(X17=3,Eingabe!AL21,\"\")","v":""},{"$f":"IF(X17=3,Eingabe!AB21,\"\")","v":""},{"$f":"IF(X17=3,SUM(E17:J17),\"\")","v":""},null,{"$f":"IF(Eingabe!$E21=\"U15\",1,\"\")","v":""},{"$f":"IF(Eingabe!$E21=\"U17\",1,\"\")","v":""},{"$f":"IF(Eingabe!$E21=\"U19\",1,\"\")","v":""},{"$f":"IF(Eingabe!$E21=\"U21\",1,\"\")","v":""},{"$f":"IF(Eingabe!$E21=\"E\",1,\"\")","v":""},{"$f":"IF(Eingabe!$E21=\"S\",1,\"\")","v":""},{"$f":"IF(Eingabe!$E21=\"V\",1,\"\")","v":""},{"$f":"IF(Eingabe!$E21=\"SV\",1,\"\")","v":""},{"$f":"IF(Eingabe!O21>0,1,\"\")","v":""},{"$f":"COUNT(M17:P17,U17)","v":0},{"$f":"IF(AND(Eingabe!H21>1,Eingabe!N21>1,Eingabe!R21>1,Eingabe!AD21>1,Eingabe!AH21>1,Eingabe!AM21=1),1,0)","v":0},{"$f":"IF(V17+W17=3,3,\"\")","v":""},1]
[2,{"$f":"IF(X18=3,Eingabe!B22,\"\")","v":""},{"$f":"IF(X18=3,Eingabe!D22,\"\")","v":""},{"$f":"IF(X18=3,Eingabe!C$5,\"\")","v":""},{"$f":"IF(X18=3,Eingabe!AF22,\"\")","v":""},{"$f":"IF(X18=3,Eingabe!AH22,\"\")","v":""},{"$f":"IF(X18=3,Eingabe!L22,\"\")","v":""},{"$f":"IF(X18=3,Eingabe!P22,\"\")","v":""},{"$f":"IF(X18=3,Eingabe!AL22,\"\")","v":""},{"$f":"IF(X18=3,Eingabe!AB22,\"\")","v":""},"",null,{"$f":"IF(Eingabe!$E22=\"U15\",1,\"\")","v":""},{"$f":"IF(Eingabe!$E22=\"U17\",1,\"\")","v":""},{"$f":"IF(Eingabe!$E22=\"U19\",1,\"\")","v":""},{"$f":"IF(Eingabe!$E22=\"U21\",1,\"\")","v":""},{"$f":"IF(Eingabe!$E22=\"E\",1,\"\")","v":""},{"$f":"IF(Eingabe!$E22=\"S\",1,\"\")","v":""},{"$f":"IF(Eingabe!$E22=\"V\",1,\"\")","v":""},{"$f":"IF(Eingabe!$E22=\"SV\",1,\"\")","v":""},{"$f":"IF(Eingabe!O22>0,1,\"\")","v":""},0,{"$f":"IF(AND(Eingabe!H22>1,Eingabe!N22>1,Eingabe!R22>1,Eingabe!AD22>1,Eingabe!AH22>1,Eingabe!AM22=1),1,0)","v":0},"",2]
[3,{"$f":"IF(X19=3,Eingabe!B23,\"\")","v":""},{"$f":"IF(X19=3,Eingabe!D23,\"\")","v":""},{"$f":"IF(X19=3,Eingabe!C$5,\"\")","v":""},{"$f":"IF(X19=3,Eingabe!AF23,\"\")","v":""},{"$f":"IF(X19=3,Eingabe!AH23,\"\")","v":""},{"$f":"IF(X19=3,Eingabe!L23,\"\")","v":""},{"$f":"IF(X19=3,Eingabe!P23,\"\")","v":""},{"$f":"IF(X19=3,Eingabe!AL23,\"\")","v":""},{"$f":"IF(X19=3,Eingabe!AB23,\"\")","v":""},"",null,{"$f":"IF(Eingabe!$E23=\"U15\",1,\"\")","v":""},{"$f":"IF(Eingabe!$E23=\"U17\",1,\"\")","v":""},{"$f":"IF(Eingabe!$E23=\"U19\",1,\"\")","v":""},{"$f":"IF(Eingabe!$E23=\"U21\",1,\"\")","v":""},{"$f":"IF(Eingabe!$E23=\"E\",1,\"\")","v":""},{"$f":"IF(Eingabe!$E23=\"S\",1,\"\")","v":""},{"$f":"IF(Eingabe!$E23=\"V\",1,\"\")","v":""},{"$f":"IF(Eingabe!$E23=\"SV\",1,\"\")","v":""},{"$f":"IF(Eingabe!O23>0,1,\"\")","v":""},0,{"$f":"IF(AND(Eingabe!H23>1,Eingabe!N23>1,Eingabe!R23>1,Eingabe!AD23>1,Eingabe!AH23>1,Eingabe!AM23=1),1,0)","v":0},"",3]
[4,{"$f":"IF(X20=3,Eingabe!B24,\"\")","v":""},{"$f":"IF(X20=3,Eingabe!D24,\"\")","v":""},{"$f":"IF(X20=3,Eingabe!C$5,\"\")","v":""},{"$f":"IF(X20=3,Eingabe!AF24,\"\")","v":""},{"$f":"IF(X20=3,Eingabe!AH24,\"\")","v":""},{"$f":"IF(X20=3,Eingabe!L24,\"\")","v":""},{"$f":"IF(X20=3,Eingabe!P24,\"\")","v":""},{"$f":"IF(X20=3,Eingabe!AL24,\"\")","v":""},{"$f":"IF(X20=3,Eingabe!AB24,\"\")","v":""},"",null,{"$f":"IF(Eingabe!$E24=\"U15\",1,\"\")","v":""},{"$f":"IF(Eingabe!$E24=\"U17\",1,\"\")","v":""},{"$f":"IF(Eingabe!$E24=\"U19\",1,\"\")","v":""},{"$f":"IF(Eingabe!$E24=\"U21\",1,\"\")","v":""},{"$f":"IF(Eingabe!$E24=\"E\",1,\"\")","v":""},{"$f":"IF(Eingabe!$E24=\"S\",1,\"\")","v":""},{"$f":"IF(Eingabe!$E24=\"V\",1,\"\")","v":""},{"$f":"IF(Eingabe!$E24=\"SV\",1,\"\")","v":""},{"$f":"IF(Eingabe!O24>0,1,\"\")","v":""},0,{"$f":"IF(AND(Eingabe!H24>1,Eingabe!N24>1,Eingabe!R24>1,Eingabe!AD24>1,Eingabe!AH24>1,Eingabe!AM24=1),1,0)","v":0},"",4]
[5,{"$f":"IF(X21=3,Eingabe!B25,\"\")","v":""},{"$f":"IF(X21=3,Eingabe!D25,\"\")","v":""},{"$f":"IF(X21=3,Eingabe!C$5,\"\")","v":""},{"$f":"IF(X21=3,Eingabe!AF25,\"\")","v":""},{"$f":"IF(X21=3,Eingabe!AH25,\"\")","v":""},{"$f":"IF(X21=3,Eingabe!L25,\"\")","v":""},{"$f":"IF(X21=3,Eingabe!P25,\"\")","v":""},{"$f":"IF(X21=3,Eingabe!AL25,\"\")","v":""},{"$f":"IF(X21=3,Eingabe!AB25,\"\")","v":""},"",null,{"$f":"IF(Eingabe!$E25=\"U15\",1,\"\")","v":""},{"$f":"IF(Eingabe!$E25=\"U17\",1,\"\")","v":""},{"$f":"IF(Eingabe!$E25=\"U19\",1,\"\")","v":""},{"$f":"IF(Eingabe!$E25=\"U21\",1,\"\")","v":""},{"$f":"IF(Eingabe!$E25=\"E\",1,\"\")","v":""},{"$f":"IF(Eingabe!$E25=\"S\",1,\"\")","v":""},{"$f":"IF(Eingabe!$E25=\"V\",1,\"\")","v":""},{"$f":"IF(Eingabe!$E25=\"SV\",1,\"\")","v":""},{"$f":"IF(Eingabe!O25>0,1,\"\")","v":""},0,{"$f":"IF(AND(Eingabe!H25>1,Eingabe!N25>1,Eingabe!R25>1,Eingabe!AD25>1,Eingabe!AH25>1,Eingabe!AM25=1),1,0)","v":0},"",5]
[6,{"$f":"IF(X22=3,Eingabe!B26,\"\")","v":""},{"$f":"IF(X22=3,Eingabe!D26,\"\")","v":""},{"$f":"IF(X22=3,Eingabe!C$5,\"\")","v":""},{"$f":"IF(X22=3,Eingabe!AF26,\"\")","v":""},{"$f":"IF(X22=3,Eingabe!AH26,\"\")","v":""},{"$f":"IF(X22=3,Eingabe!L26,\"\")","v":""},{"$f":"IF(X22=3,Eingabe!P26,\"\")","v":""},{"$f":"IF(X22=3,Eingabe!AL26,\"\")","v":""},{"$f":"IF(X22=3,Eingabe!AB26,\"\")","v":""},"",null,{"$f":"IF(Eingabe!$E26=\"U15\",1,\"\")","v":""},{"$f":"IF(Eingabe!$E26=\"U17\",1,\"\")","v":""},{"$f":"IF(Eingabe!$E26=\"U19\",1,\"\")","v":""},{"$f":"IF(Eingabe!$E26=\"U21\",1,\"\")","v":""},{"$f":"IF(Eingabe!$E26=\"E\",1,\"\")","v":""},{"$f":"IF(Eingabe!$E26=\"S\",1,\"\")","v":""},{"$f":"IF(Eingabe!$E26=\"V\",1,\"\")","v":""},{"$f":"IF(Eingabe!$E26=\"SV\",1,\"\")","v":""},{"$f":"IF(Eingabe!O26>0,1,\"\")","v":""},0,{"$f":"IF(AND(Eingabe!H26>1,Eingabe!N26>1,Eingabe!R26>1,Eingabe!AD26>1,Eingabe!AH26>1,Eingabe!AM26=1),1,0)","v":0},"",6]
[7,{"$f":"IF(X23=3,Eingabe!B27,\"\")","v":""},{"$f":"IF(X23=3,Eingabe!D27,\"\")","v":""},{"$f":"IF(X23=3,Eingabe!C$5,\"\")","v":""},{"$f":"IF(X23=3,Eingabe!AF27,\"\")","v":""},{"$f":"IF(X23=3,Eingabe!AH27,\"\")","v":""},{"$f":"IF(X23=3,Eingabe!L27,\"\")","v":""},{"$f":"IF(X23=3,Eingabe!P27,\"\")","v":""},{"$f":"IF(X23=3,Eingabe!AL27,\"\")","v":""},{"$f":"IF(X23=3,Eingabe!AB27,\"\")","v":""},"",null,{"$f":"IF(Eingabe!$E27=\"U15\",1,\"\")","v":""},{"$f":"IF(Eingabe!$E27=\"U17\",1,\"\")","v":""},{"$f":"IF(Eingabe!$E27=\"U19\",1,\"\")","v":""},{"$f":"IF(Eingabe!$E27=\"U21\",1,\"\")","v":""},{"$f":"IF(Eingabe!$E27=\"E\",1,\"\")","v":""},{"$f":"IF(Eingabe!$E27=\"S\",1,\"\")","v":""},{"$f":"IF(Eingabe!$E27=\"V\",1,\"\")","v":""},{"$f":"IF(Eingabe!$E27=\"SV\",1,\"\")","v":""},{"$f":"IF(Eingabe!O27>0,1,\"\")","v":""},0,{"$f":"IF(AND(Eingabe!H27>1,Eingabe!N27>1,Eingabe!R27>1,Eingabe!AD27>1,Eingabe!AH27>1,Eingabe!AM27=1),1,0)","v":0},"",7]
[8,{"$f":"IF(X24=3,Eingabe!B28,\"\")","v":""},{"$f":"IF(X24=3,Eingabe!D28,\"\")","v":""},{"$f":"IF(X24=3,Eingabe!C$5,\"\")","v":""},{"$f":"IF(X24=3,Eingabe!AF28,\"\")","v":""},{"$f":"IF(X24=3,Eingabe!AH28,\"\")","v":""},{"$f":"IF(X24=3,Eingabe!L28,\"\")","v":""},{"$f":"IF(X24=3,Eingabe!P28,\"\")","v":""},{"$f":"IF(X24=3,Eingabe!AL28,\"\")","v":""},{"$f":"IF(X24=3,Eingabe!AB28,\"\")","v":""},"",null,{"$f":"IF(Eingabe!$E28=\"U15\",1,\"\")","v":""},{"$f":"IF(Eingabe!$E28=\"U17\",1,\"\")","v":""},{"$f":"IF(Eingabe!$E28=\"U19\",1,\"\")","v":""},{"$f":"IF(Eingabe!$E28=\"U21\",1,\"\")","v":""},{"$f":"IF(Eingabe!$E28=\"E\",1,\"\")","v":""},{"$f":"IF(Eingabe!$E28=\"S\",1,\"\")","v":""},{"$f":"IF(Eingabe!$E28=\"V\",1,\"\")","v":""},{"$f":"IF(Eingabe!$E28=\"SV\",1,\"\")","v":""},{"$f":"IF(Eingabe!O28>0,1,\"\")","v":""},0,{"$f":"IF(AND(Eingabe!H28>1,Eingabe!N28>1,Eingabe!R28>1,Eingabe!AD28>1,Eingabe!AH28>1,Eingabe!AM28=1),1,0)","v":0},"",8]
[9,{"$f":"IF(X25=3,Eingabe!B29,\"\")","v":""},{"$f":"IF(X25=3,Eingabe!D29,\"\")","v":""},{"$f":"IF(X25=3,Eingabe!C$5,\"\")","v":""},{"$f":"IF(X25=3,Eingabe!AF29,\"\")","v":""},{"$f":"IF(X25=3,Eingabe!AH29,\"\")","v":""},{"$f":"IF(X25=3,Eingabe!L29,\"\")","v":""},{"$f":"IF(X25=3,Eingabe!P29,\"\")","v":""},{"$f":"IF(X25=3,Eingabe!AL29,\"\")","v":""},{"$f":"IF(X25=3,Eingabe!AB29,\"\")","v":""},"",null,{"$f":"IF(Eingabe!$E29=\"U15\",1,\"\")","v":""},{"$f":"IF(Eingabe!$E29=\"U17\",1,\"\")","v":""},{"$f":"IF(Eingabe!$E29=\"U19\",1,\"\")","v":""},{"$f":"IF(Eingabe!$E29=\"U21\",1,\"\")","v":""},{"$f":"IF(Eingabe!$E29=\"E\",1,\"\")","v":""},{"$f":"IF(Eingabe!$E29=\"S\",1,\"\")","v":""},{"$f":"IF(Eingabe!$E29=\"V\",1,\"\")","v":""},{"$f":"IF(Eingabe!$E29=\"SV\",1,\"\")","v":""},{"$f":"IF(Eingabe!O29>0,1,\"\")","v":""},0,{"$f":"IF(AND(Eingabe!H29>1,Eingabe!N29>1,Eingabe!R29>1,Eingabe!AD29>1,Eingabe!AH29>1,Eingabe!AM29=1),1,0)","v":0},"",9]
[10,{"$f":"IF(X26=3,Eingabe!B30,\"\")","v":""},{"$f":"IF(X26=3,Eingabe!D30,\"\")","v":""},{"$f":"IF(X26=3,Eingabe!C$5,\"\")","v":""},{"$f":"IF(X26=3,Eingabe!AF30,\"\")","v":""},{"$f":"IF(X26=3,Eingabe!AH30,\"\")","v":""},{"$f":"IF(X26=3,Eingabe!L30,\"\")","v":""},{"$f":"IF(X26=3,Eingabe!P30,\"\")","v":""},{"$f":"IF(X26=3,Eingabe!AL30,\"\")","v":""},{"$f":"IF(X26=3,Eingabe!AB30,\"\")","v":""},"",null,{"$f":"IF(Eingabe!$E30=\"U15\",1,\"\")","v":""},{"$f":"IF(Eingabe!$E30=\"U17\",1,\"\")","v":""},{"$f":"IF(Eingabe!$E30=\"U19\",1,\"\")","v":""},{"$f":"IF(Eingabe!$E30=\"U21\",1,\"\")","v":""},{"$f":"IF(Eingabe!$E30=\"E\",1,\"\")","v":""},{"$f":"IF(Eingabe!$E30=\"S\",1,\"\")","v":""},{"$f":"IF(Eingabe!$E30=\"V\",1,\"\")","v":""},{"$f":"IF(Eingabe!$E30=\"SV\",1,\"\")","v":""},{"$f":"IF(Eingabe!O30>0,1,\"\")","v":""},0,{"$f":"IF(AND(Eingabe!H30>1,Eingabe!N30>1,Eingabe!R30>1,Eingabe!AD30>1,Eingabe!AH30>1,Eingabe!AM30=1),1,0)","v":0},"",10]
[11,{"$f":"IF(X27=3,Eingabe!B31,\"\")","v":""},{"$f":"IF(X27=3,Eingabe!D31,\"\")","v":""},{"$f":"IF(X27=3,Eingabe!C$5,\"\")","v":""},{"$f":"IF(X27=3,Eingabe!AF31,\"\")","v":""},{"$f":"IF(X27=3,Eingabe!AH31,\"\")","v":""},{"$f":"IF(X27=3,Eingabe!L31,\"\")","v":""},{"$f":"IF(X27=3,Eingabe!P31,\"\")","v":""},{"$f":"IF(X27=3,Eingabe!AL31,\"\")","v":""},{"$f":"IF(X27=3,Eingabe!AB31,\"\")","v":""},"",null,{"$f":"IF(Eingabe!$E31=\"U15\",1,\"\")","v":""},{"$f":"IF(Eingabe!$E31=\"U17\",1,\"\")","v":""},{"$f":"IF(Eingabe!$E31=\"U19\",1,\"\")","v":""},{"$f":"IF(Eingabe!$E31=\"U21\",1,\"\")","v":""},{"$f":"IF(Eingabe!$E31=\"E\",1,\"\")","v":""},{"$f":"IF(Eingabe!$E31=\"S\",1,\"\")","v":""},{"$f":"IF(Eingabe!$E31=\"V\",1,\"\")","v":""},{"$f":"IF(Eingabe!$E31=\"SV\",1,\"\")","v":""},{"$f":"IF(Eingabe!O31>0,1,\"\")","v":""},0,{"$f":"IF(AND(Eingabe!H31>1,Eingabe!N31>1,Eingabe!R31>1,Eingabe!AD31>1,Eingabe!AH31>1,Eingabe!AM31=1),1,0)","v":0},"",11]
[12,{"$f":"IF(X28=3,Eingabe!B32,\"\")","v":""},{"$f":"IF(X28=3,Eingabe!D32,\"\")","v":""},{"$f":"IF(X28=3,Eingabe!C$5,\"\")","v":""},{"$f":"IF(X28=3,Eingabe!AF32,\"\")","v":""},{"$f":"IF(X28=3,Eingabe!AH32,\"\")","v":""},{"$f":"IF(X28=3,Eingabe!L32,\"\")","v":""},{"$f":"IF(X28=3,Eingabe!P32,\"\")","v":""},{"$f":"IF(X28=3,Eingabe!AL32,\"\")","v":""},{"$f":"IF(X28=3,Eingabe!AB32,\"\")","v":""},"",null,{"$f":"IF(Eingabe!$E32=\"U15\",1,\"\")","v":""},{"$f":"IF(Eingabe!$E32=\"U17\",1,\"\")","v":""},{"$f":"IF(Eingabe!$E32=\"U19\",1,\"\")","v":""},{"$f":"IF(Eingabe!$E32=\"U21\",1,\"\")","v":""},{"$f":"IF(Eingabe!$E32=\"E\",1,\"\")","v":""},{"$f":"IF(Eingabe!$E32=\"S\",1,\"\")","v":""},{"$f":"IF(Eingabe!$E32=\"V\",1,\"\")","v":""},{"$f":"IF(Eingabe!$E32=\"SV\",1,\"\")","v":""},{"$f":"IF(Eingabe!O32>0,1,\"\")","v":""},0,{"$f":"IF(AND(Eingabe!H32>1,Eingabe!N32>1,Eingabe!R32>1,Eingabe!AD32>1,Eingabe!AH32>1,Eingabe!AM32=1),1,0)","v":0},"",12]
[13,{"$f":"IF(X29=3,Eingabe!B33,\"\")","v":""},{"$f":"IF(X29=3,Eingabe!D33,\"\")","v":""},{"$f":"IF(X29=3,Eingabe!C$5,\"\")","v":""},{"$f":"IF(X29=3,Eingabe!AF33,\"\")","v":""},{"$f":"IF(X29=3,Eingabe!AH33,\"\")","v":""},{"$f":"IF(X29=3,Eingabe!L33,\"\")","v":""},{"$f":"IF(X29=3,Eingabe!P33,\"\")","v":""},{"$f":"IF(X29=3,Eingabe!AL33,\"\")","v":""},{"$f":"IF(X29=3,Eingabe!AB33,\"\")","v":""},"",null,{"$f":"IF(Eingabe!$E33=\"U15\",1,\"\")","v":""},{"$f":"IF(Eingabe!$E33=\"U17\",1,\"\")","v":""},{"$f":"IF(Eingabe!$E33=\"U19\",1,\"\")","v":""},{"$f":"IF(Eingabe!$E33=\"U21\",1,\"\")","v":""},{"$f":"IF(Eingabe!$E33=\"E\",1,\"\")","v":""},{"$f":"IF(Eingabe!$E33=\"S\",1,\"\")","v":""},{"$f":"IF(Eingabe!$E33=\"V\",1,\"\")","v":""},{"$f":"IF(Eingabe!$E33=\"SV\",1,\"\")","v":""},{"$f":"IF(Eingabe!O33>0,1,\"\")","v":""},0,{"$f":"IF(AND(Eingabe!H33>1,Eingabe!N33>1,Eingabe!R33>1,Eingabe!AD33>1,Eingabe!AH33>1,Eingabe!AM33=1),1,0)","v":0},"",13]
[14,{"$f":"IF(X30=3,Eingabe!B34,\"\")","v":""},{"$f":"IF(X30=3,Eingabe!D34,\"\")","v":""},{"$f":"IF(X30=3,Eingabe!C$5,\"\")","v":""},{"$f":"IF(X30=3,Eingabe!AF34,\"\")","v":""},{"$f":"IF(X30=3,Eingabe!AH34,\"\")","v":""},{"$f":"IF(X30=3,Eingabe!L34,\"\")","v":""},{"$f":"IF(X30=3,Eingabe!P34,\"\")","v":""},{"$f":"IF(X30=3,Eingabe!AL34,\"\")","v":""},{"$f":"IF(X30=3,Eingabe!AB34,\"\")","v":""},"",null,{"$f":"IF(Eingabe!$E34=\"U15\",1,\"\")","v":""},{"$f":"IF(Eingabe!$E34=\"U17\",1,\"\")","v":""},{"$f":"IF(Eingabe!$E34=\"U19\",1,\"\")","v":""},{"$f":"IF(Eingabe!$E34=\"U21\",1,\"\")","v":""},{"$f":"IF(Eingabe!$E34=\"E\",1,\"\")","v":""},{"$f":"IF(Eingabe!$E34=\"S\",1,\"\")","v":""},{"$f":"IF(Eingabe!$E34=\"V\",1,\"\")","v":""},{"$f":"IF(Eingabe!$E34=\"SV\",1,\"\")","v":""},{"$f":"IF(Eingabe!O34>0,1,\"\")","v":""},0,{"$f":"IF(AND(Eingabe!H34>1,Eingabe!N34>1,Eingabe!R34>1,Eingabe!AD34>1,Eingabe!AH34>1,Eingabe!AM34=1),1,0)","v":0},"",14]
[15,{"$f":"IF(X31=3,Eingabe!B35,\"\")","v":""},{"$f":"IF(X31=3,Eingabe!D35,\"\")","v":""},{"$f":"IF(X31=3,Eingabe!C$5,\"\")","v":""},{"$f":"IF(X31=3,Eingabe!AF35,\"\")","v":""},{"$f":"IF(X31=3,Eingabe!AH35,\"\")","v":""},{"$f":"IF(X31=3,Eingabe!L35,\"\")","v":""},{"$f":"IF(X31=3,Eingabe!P35,\"\")","v":""},{"$f":"IF(X31=3,Eingabe!AL35,\"\")","v":""},{"$f":"IF(X31=3,Eingabe!AB35,\"\")","v":""},"",null,{"$f":"IF(Eingabe!$E35=\"U15\",1,\"\")","v":""},{"$f":"IF(Eingabe!$E35=\"U17\",1,\"\")","v":""},{"$f":"IF(Eingabe!$E35=\"U19\",1,\"\")","v":""},{"$f":"IF(Eingabe!$E35=\"U21\",1,\"\")","v":""},{"$f":"IF(Eingabe!$E35=\"E\",1,\"\")","v":""},{"$f":"IF(Eingabe!$E35=\"S\",1,\"\")","v":""},{"$f":"IF(Eingabe!$E35=\"V\",1,\"\")","v":""},{"$f":"IF(Eingabe!$E35=\"SV\",1,\"\")","v":""},{"$f":"IF(Eingabe!O35>0,1,\"\")","v":""},0,{"$f":"IF(AND(Eingabe!H35>1,Eingabe!N35>1,Eingabe!R35>1,Eingabe!AD35>1,Eingabe!AH35>1,Eingabe!AM35=1),1,0)","v":0},"",15]
[16,{"$f":"IF(X32=3,Eingabe!B36,\"\")","v":""},{"$f":"IF(X32=3,Eingabe!D36,\"\")","v":""},{"$f":"IF(X32=3,Eingabe!C$5,\"\")","v":""},{"$f":"IF(X32=3,Eingabe!AF36,\"\")","v":""},{"$f":"IF(X32=3,Eingabe!AH36,\"\")","v":""},{"$f":"IF(X32=3,Eingabe!L36,\"\")","v":""},{"$f":"IF(X32=3,Eingabe!P36,\"\")","v":""},{"$f":"IF(X32=3,Eingabe!AL36,\"\")","v":""},{"$f":"IF(X32=3,Eingabe!AB36,\"\")","v":""},"",null,{"$f":"IF(Eingabe!$E36=\"U15\",1,\"\")","v":""},{"$f":"IF(Eingabe!$E36=\"U17\",1,\"\")","v":""},{"$f":"IF(Eingabe!$E36=\"U19\",1,\"\")","v":""},{"$f":"IF(Eingabe!$E36=\"U21\",1,\"\")","v":""},{"$f":"IF(Eingabe!$E36=\"E\",1,\"\")","v":""},{"$f":"IF(Eingabe!$E36=\"S\",1,\"\")","v":""},{"$f":"IF(Eingabe!$E36=\"V\",1,\"\")","v":""},{"$f":"IF(Eingabe!$E36=\"SV\",1,\"\")","v":""},{"$f":"IF(Eingabe!O36>0,1,\"\")","v":""},0,{"$f":"IF(AND(Eingabe!H36>1,Eingabe!N36>1,Eingabe!R36>1,Eingabe!AD36>1,Eingabe!AH36>1,Eingabe!AM36=1),1,0)","v":0},"",16]
[17,{"$f":"IF(X33=3,Eingabe!B37,\"\")","v":""},{"$f":"IF(X33=3,Eingabe!D37,\"\")","v":""},{"$f":"IF(X33=3,Eingabe!C$5,\"\")","v":""},{"$f":"IF(X33=3,Eingabe!AF37,\"\")","v":""},{"$f":"IF(X33=3,Eingabe!AH37,\"\")","v":""},{"$f":"IF(X33=3,Eingabe!L37,\"\")","v":""},{"$f":"IF(X33=3,Eingabe!P37,\"\")","v":""},{"$f":"IF(X33=3,Eingabe!AL37,\"\")","v":""},{"$f":"IF(X33=3,Eingabe!AB37,\"\")","v":""},"",null,{"$f":"IF(Eingabe!$E37=\"U15\",1,\"\")","v":""},{"$f":"IF(Eingabe!$E37=\"U17\",1,\"\")","v":""},{"$f":"IF(Eingabe!$E37=\"U19\",1,\"\")","v":""},{"$f":"IF(Eingabe!$E37=\"U21\",1,\"\")","v":""},{"$f":"IF(Eingabe!$E37=\"E\",1,\"\")","v":""},{"$f":"IF(Eingabe!$E37=\"S\",1,\"\")","v":""},{"$f":"IF(Eingabe!$E37=\"V\",1,\"\")","v":""},{"$f":"IF(Eingabe!$E37=\"SV\",1,\"\")","v":""},{"$f":"IF(Eingabe!O37>0,1,\"\")","v":""},0,{"$f":"IF(AND(Eingabe!H37>1,Eingabe!N37>1,Eingabe!R37>1,Eingabe!AD37>1,Eingabe!AH37>1,Eingabe!AM37=1),1,0)","v":0},"",17]
[18,{"$f":"IF(X34=3,Eingabe!B38,\"\")","v":""},{"$f":"IF(X34=3,Eingabe!D38,\"\")","v":""},{"$f":"IF(X34=3,Eingabe!C$5,\"\")","v":""},{"$f":"IF(X34=3,Eingabe!AF38,\"\")","v":""},{"$f":"IF(X34=3,Eingabe!AH38,\"\")","v":""},{"$f":"IF(X34=3,Eingabe!L38,\"\")","v":""},{"$f":"IF(X34=3,Eingabe!P38,\"\")","v":""},{"$f":"IF(X34=3,Eingabe!AL38,\"\")","v":""},{"$f":"IF(X34=3,Eingabe!AB38,\"\")","v":""},"",null,{"$f":"IF(Eingabe!$E38=\"U15\",1,\"\")","v":""},{"$f":"IF(Eingabe!$E38=\"U17\",1,\"\")","v":""},{"$f":"IF(Eingabe!$E38=\"U19\",1,\"\")","v":""},{"$f":"IF(Eingabe!$E38=\"U21\",1,\"\")","v":""},{"$f":"IF(Eingabe!$E38=\"E\",1,\"\")","v":""},{"$f":"IF(Eingabe!$E38=\"S\",1,\"\")","v":""},{"$f":"IF(Eingabe!$E38=\"V\",1,\"\")","v":""},{"$f":"IF(Eingabe!$E38=\"SV\",1,\"\")","v":""},{"$f":"IF(Eingabe!O38>0,1,\"\")","v":""},0,{"$f":"IF(AND(Eingabe!H38>1,Eingabe!N38>1,Eingabe!R38>1,Eingabe!AD38>1,Eingabe!AH38>1,Eingabe!AM38=1),1,0)","v":0},"",18]
[19,{"$f":"IF(X35=3,Eingabe!B39,\"\")","v":""},{"$f":"IF(X35=3,Eingabe!D39,\"\")","v":""},{"$f":"IF(X35=3,Eingabe!C$5,\"\")","v":""},{"$f":"IF(X35=3,Eingabe!AF39,\"\")","v":""},{"$f":"IF(X35=3,Eingabe!AH39,\"\")","v":""},{"$f":"IF(X35=3,Eingabe!L39,\"\")","v":""},{"$f":"IF(X35=3,Eingabe!P39,\"\")","v":""},{"$f":"IF(X35=3,Eingabe!AL39,\"\")","v":""},{"$f":"IF(X35=3,Eingabe!AB39,\"\")","v":""},"",null,{"$f":"IF(Eingabe!$E39=\"U15\",1,\"\")","v":""},{"$f":"IF(Eingabe!$E39=\"U17\",1,\"\")","v":""},{"$f":"IF(Eingabe!$E39=\"U19\",1,\"\")","v":""},{"$f":"IF(Eingabe!$E39=\"U21\",1,\"\")","v":""},{"$f":"IF(Eingabe!$E39=\"E\",1,\"\")","v":""},{"$f":"IF(Eingabe!$E39=\"S\",1,\"\")","v":""},{"$f":"IF(Eingabe!$E39=\"V\",1,\"\")","v":""},{"$f":"IF(Eingabe!$E39=\"SV\",1,\"\")","v":""},{"$f":"IF(Eingabe!O39>0,1,\"\")","v":""},0,{"$f":"IF(AND(Eingabe!H39>1,Eingabe!N39>1,Eingabe!R39>1,Eingabe!AD39>1,Eingabe!AH39>1,Eingabe!AM39=1),1,0)","v":0},"",19]
[20,{"$f":"IF(X36=3,Eingabe!B40,\"\")","v":""},{"$f":"IF(X36=3,Eingabe!D40,\"\")","v":""},{"$f":"IF(X36=3,Eingabe!C$5,\"\")","v":""},{"$f":"IF(X36=3,Eingabe!AF40,\"\")","v":""},{"$f":"IF(X36=3,Eingabe!AH40,\"\")","v":""},{"$f":"IF(X36=3,Eingabe!L40,\"\")","v":""},{"$f":"IF(X36=3,Eingabe!P40,\"\")","v":""},{"$f":"IF(X36=3,Eingabe!AL40,\"\")","v":""},{"$f":"IF(X36=3,Eingabe!AB40,\"\")","v":""},"",null,{"$f":"IF(Eingabe!$E40=\"U15\",1,\"\")","v":""},{"$f":"IF(Eingabe!$E40=\"U17\",1,\"\")","v":""},{"$f":"IF(Eingabe!$E40=\"U19\",1,\"\")","v":""},{"$f":"IF(Eingabe!$E40=\"U21\",1,\"\")","v":""},{"$f":"IF(Eingabe!$E40=\"E\",1,\"\")","v":""},{"$f":"IF(Eingabe!$E40=\"S\",1,\"\")","v":""},{"$f":"IF(Eingabe!$E40=\"V\",1,\"\")","v":""},{"$f":"IF(Eingabe!$E40=\"SV\",1,\"\")","v":""},{"$f":"IF(Eingabe!O40>0,1,\"\")","v":""},0,{"$f":"IF(AND(Eingabe!H40>1,Eingabe!N40>1,Eingabe!R40>1,Eingabe!AD40>1,Eingabe!AH40>1,Eingabe!AM40=1),1,0)","v":0},"",20]
[21,{"$f":"IF(X37=3,Eingabe!B41,\"\")","v":""},{"$f":"IF(X37=3,Eingabe!D41,\"\")","v":""},{"$f":"IF(X37=3,Eingabe!C$5,\"\")","v":""},{"$f":"IF(X37=3,Eingabe!AF41,\"\")","v":""},{"$f":"IF(X37=3,Eingabe!AH41,\"\")","v":""},{"$f":"IF(X37=3,Eingabe!L41,\"\")","v":""},{"$f":"IF(X37=3,Eingabe!P41,\"\")","v":""},{"$f":"IF(X37=3,Eingabe!AL41,\"\")","v":""},{"$f":"IF(X37=3,Eingabe!AB41,\"\")","v":""},"",null,{"$f":"IF(Eingabe!$E41=\"U15\",1,\"\")","v":""},{"$f":"IF(Eingabe!$E41=\"U17\",1,\"\")","v":""},{"$f":"IF(Eingabe!$E41=\"U19\",1,\"\")","v":""},{"$f":"IF(Eingabe!$E41=\"U21\",1,\"\")","v":""},{"$f":"IF(Eingabe!$E41=\"E\",1,\"\")","v":""},{"$f":"IF(Eingabe!$E41=\"S\",1,\"\")","v":""},{"$f":"IF(Eingabe!$E41=\"V\",1,\"\")","v":""},{"$f":"IF(Eingabe!$E41=\"SV\",1,\"\")","v":""},{"$f":"IF(Eingabe!O41>0,1,\"\")","v":""},0,{"$f":"IF(AND(Eingabe!H41>1,Eingabe!N41>1,Eingabe!R41>1,Eingabe!AD41>1,Eingabe!AH41>1,Eingabe!AM41=1),1,0)","v":0},"",21]
[22,{"$f":"IF(X38=3,Eingabe!B42,\"\")","v":""},{"$f":"IF(X38=3,Eingabe!D42,\"\")","v":""},{"$f":"IF(X38=3,Eingabe!C$5,\"\")","v":""},{"$f":"IF(X38=3,Eingabe!AF42,\"\")","v":""},{"$f":"IF(X38=3,Eingabe!AH42,\"\")","v":""},{"$f":"IF(X38=3,Eingabe!L42,\"\")","v":""},{"$f":"IF(X38=3,Eingabe!P42,\"\")","v":""},{"$f":"IF(X38=3,Eingabe!AL42,\"\")","v":""},{"$f":"IF(X38=3,Eingabe!AB42,\"\")","v":""},"",null,{"$f":"IF(Eingabe!$E42=\"U15\",1,\"\")","v":""},{"$f":"IF(Eingabe!$E42=\"U17\",1,\"\")","v":""},{"$f":"IF(Eingabe!$E42=\"U19\",1,\"\")","v":""},{"$f":"IF(Eingabe!$E42=\"U21\",1,\"\")","v":""},{"$f":"IF(Eingabe!$E42=\"E\",1,\"\")","v":""},{"$f":"IF(Eingabe!$E42=\"S\",1,\"\")","v":""},{"$f":"IF(Eingabe!$E42=\"V\",1,\"\")","v":""},{"$f":"IF(Eingabe!$E42=\"SV\",1,\"\")","v":""},{"$f":"IF(Eingabe!O42>0,1,\"\")","v":""},0,{"$f":"IF(AND(Eingabe!H42>1,Eingabe!N42>1,Eingabe!R42>1,Eingabe!AD42>1,Eingabe!AH42>1,Eingabe!AM42=1),1,0)","v":0},"",22]
[23,{"$f":"IF(X39=3,Eingabe!B43,\"\")","v":""},{"$f":"IF(X39=3,Eingabe!D43,\"\")","v":""},{"$f":"IF(X39=3,Eingabe!C$5,\"\")","v":""},{"$f":"IF(X39=3,Eingabe!AF43,\"\")","v":""},{"$f":"IF(X39=3,Eingabe!AH43,\"\")","v":""},{"$f":"IF(X39=3,Eingabe!L43,\"\")","v":""},{"$f":"IF(X39=3,Eingabe!P43,\"\")","v":""},{"$f":"IF(X39=3,Eingabe!AL43,\"\")","v":""},{"$f":"IF(X39=3,Eingabe!AB43,\"\")","v":""},"",null,{"$f":"IF(Eingabe!$E43=\"U15\",1,\"\")","v":""},{"$f":"IF(Eingabe!$E43=\"U17\",1,\"\")","v":""},{"$f":"IF(Eingabe!$E43=\"U19\",1,\"\")","v":""},{"$f":"IF(Eingabe!$E43=\"U21\",1,\"\")","v":""},{"$f":"IF(Eingabe!$E43=\"E\",1,\"\")","v":""},{"$f":"IF(Eingabe!$E43=\"S\",1,\"\")","v":""},{"$f":"IF(Eingabe!$E43=\"V\",1,\"\")","v":""},{"$f":"IF(Eingabe!$E43=\"SV\",1,\"\")","v":""},{"$f":"IF(Eingabe!O43>0,1,\"\")","v":""},0,{"$f":"IF(AND(Eingabe!H43>1,Eingabe!N43>1,Eingabe!R43>1,Eingabe!AD43>1,Eingabe!AH43>1,Eingabe!AM43=1),1,0)","v":0},"",23]
[24,{"$f":"IF(X40=3,Eingabe!B44,\"\")","v":""},{"$f":"IF(X40=3,Eingabe!D44,\"\")","v":""},{"$f":"IF(X40=3,Eingabe!C$5,\"\")","v":""},{"$f":"IF(X40=3,Eingabe!AF44,\"\")","v":""},{"$f":"IF(X40=3,Eingabe!AH44,\"\")","v":""},{"$f":"IF(X40=3,Eingabe!L44,\"\")","v":""},{"$f":"IF(X40=3,Eingabe!P44,\"\")","v":""},{"$f":"IF(X40=3,Eingabe!AL44,\"\")","v":""},{"$f":"IF(X40=3,Eingabe!AB44,\"\")","v":""},"",null,{"$f":"IF(Eingabe!$E44=\"U15\",1,\"\")","v":""},{"$f":"IF(Eingabe!$E44=\"U17\",1,\"\")","v":""},{"$f":"IF(Eingabe!$E44=\"U19\",1,\"\")","v":""},{"$f":"IF(Eingabe!$E44=\"U21\",1,\"\")","v":""},{"$f":"IF(Eingabe!$E44=\"E\",1,\"\")","v":""},{"$f":"IF(Eingabe!$E44=\"S\",1,\"\")","v":""},{"$f":"IF(Eingabe!$E44=\"V\",1,\"\")","v":""},{"$f":"IF(Eingabe!$E44=\"SV\",1,\"\")","v":""},{"$f":"IF(Eingabe!O44>0,1,\"\")","v":""},0,{"$f":"IF(AND(Eingabe!H44>1,Eingabe!N44>1,Eingabe!R44>1,Eingabe!AD44>1,Eingabe!AH44>1,Eingabe!AM44=1),1,0)","v":0},"",24]
[25,{"$f":"IF(X41=3,Eingabe!B45,\"\")","v":""},{"$f":"IF(X41=3,Eingabe!D45,\"\")","v":""},{"$f":"IF(X41=3,Eingabe!C$5,\"\")","v":""},{"$f":"IF(X41=3,Eingabe!AF45,\"\")","v":""},{"$f":"IF(X41=3,Eingabe!AH45,\"\")","v":""},{"$f":"IF(X41=3,Eingabe!L45,\"\")","v":""},{"$f":"IF(X41=3,Eingabe!P45,\"\")","v":""},{"$f":"IF(X41=3,Eingabe!AL45,\"\")","v":""},{"$f":"IF(X41=3,Eingabe!AB45,\"\")","v":""},"",null,{"$f":"IF(Eingabe!$E45=\"U15\",1,\"\")","v":""},{"$f":"IF(Eingabe!$E45=\"U17\",1,\"\")","v":""},{"$f":"IF(Eingabe!$E45=\"U19\",1,\"\")","v":""},{"$f":"IF(Eingabe!$E45=\"U21\",1,\"\")","v":""},{"$f":"IF(Eingabe!$E45=\"E\",1,\"\")","v":""},{"$f":"IF(Eingabe!$E45=\"S\",1,\"\")","v":""},{"$f":"IF(Eingabe!$E45=\"V\",1,\"\")","v":""},{"$f":"IF(Eingabe!$E45=\"SV\",1,\"\")","v":""},{"$f":"IF(Eingabe!O45>0,1,\"\")","v":""},0,{"$f":"IF(AND(Eingabe!H45>1,Eingabe!N45>1,Eingabe!R45>1,Eingabe!AD45>1,Eingabe!AH45>1,Eingabe!AM45=1),1,0)","v":0},"",25]
[26,{"$f":"IF(X42=3,Eingabe!B46,\"\")","v":""},{"$f":"IF(X42=3,Eingabe!D46,\"\")","v":""},{"$f":"IF(X42=3,Eingabe!C$5,\"\")","v":""},{"$f":"IF(X42=3,Eingabe!AF46,\"\")","v":""},{"$f":"IF(X42=3,Eingabe!AH46,\"\")","v":""},{"$f":"IF(X42=3,Eingabe!L46,\"\")","v":""},{"$f":"IF(X42=3,Eingabe!P46,\"\")","v":""},{"$f":"IF(X42=3,Eingabe!AL46,\"\")","v":""},{"$f":"IF(X42=3,Eingabe!AB46,\"\")","v":""},"",null,{"$f":"IF(Eingabe!$E46=\"U15\",1,\"\")","v":""},{"$f":"IF(Eingabe!$E46=\"U17\",1,\"\")","v":""},{"$f":"IF(Eingabe!$E46=\"U19\",1,\"\")","v":""},{"$f":"IF(Eingabe!$E46=\"U21\",1,\"\")","v":""},{"$f":"IF(Eingabe!$E46=\"E\",1,\"\")","v":""},{"$f":"IF(Eingabe!$E46=\"S\",1,\"\")","v":""},{"$f":"IF(Eingabe!$E46=\"V\",1,\"\")","v":""},{"$f":"IF(Eingabe!$E46=\"SV\",1,\"\")","v":""},{"$f":"IF(Eingabe!O46>0,1,\"\")","v":""},0,{"$f":"IF(AND(Eingabe!H46>1,Eingabe!N46>1,Eingabe!R46>1,Eingabe!AD46>1,Eingabe!AH46>1,Eingabe!AM46=1),1,0)","v":0},"",26]
[27,{"$f":"IF(X43=3,Eingabe!B47,\"\")","v":""},{"$f":"IF(X43=3,Eingabe!D47,\"\")","v":""},{"$f":"IF(X43=3,Eingabe!C$5,\"\")","v":""},{"$f":"IF(X43=3,Eingabe!AF47,\"\")","v":""},{"$f":"IF(X43=3,Eingabe!AH47,\"\")","v":""},{"$f":"IF(X43=3,Eingabe!L47,\"\")","v":""},{"$f":"IF(X43=3,Eingabe!P47,\"\")","v":""},{"$f":"IF(X43=3,Eingabe!AL47,\"\")","v":""},{"$f":"IF(X43=3,Eingabe!AB47,\"\")","v":""},"",null,{"$f":"IF(Eingabe!$E47=\"U15\",1,\"\")","v":""},{"$f":"IF(Eingabe!$E47=\"U17\",1,\"\")","v":""},{"$f":"IF(Eingabe!$E47=\"U19\",1,\"\")","v":""},{"$f":"IF(Eingabe!$E47=\"U21\",1,\"\")","v":""},{"$f":"IF(Eingabe!$E47=\"E\",1,\"\")","v":""},{"$f":"IF(Eingabe!$E47=\"S\",1,\"\")","v":""},{"$f":"IF(Eingabe!$E47=\"V\",1,\"\")","v":""},{"$f":"IF(Eingabe!$E47=\"SV\",1,\"\")","v":""},{"$f":"IF(Eingabe!O47>0,1,\"\")","v":""},0,{"$f":"IF(AND(Eingabe!H47>1,Eingabe!N47>1,Eingabe!R47>1,Eingabe!AD47>1,Eingabe!AH47>1,Eingabe!AM47=1),1,0)","v":0},"",27]
[28,{"$f":"IF(X44=3,Eingabe!B48,\"\")","v":""},{"$f":"IF(X44=3,Eingabe!D48,\"\")","v":""},{"$f":"IF(X44=3,Eingabe!C$5,\"\")","v":""},{"$f":"IF(X44=3,Eingabe!AF48,\"\")","v":""},{"$f":"IF(X44=3,Eingabe!AH48,\"\")","v":""},{"$f":"IF(X44=3,Eingabe!L48,\"\")","v":""},{"$f":"IF(X44=3,Eingabe!P48,\"\")","v":""},{"$f":"IF(X44=3,Eingabe!AL48,\"\")","v":""},{"$f":"IF(X44=3,Eingabe!AB48,\"\")","v":""},"",null,{"$f":"IF(Eingabe!$E48=\"U15\",1,\"\")","v":""},{"$f":"IF(Eingabe!$E48=\"U17\",1,\"\")","v":""},{"$f":"IF(Eingabe!$E48=\"U19\",1,\"\")","v":""},{"$f":"IF(Eingabe!$E48=\"U21\",1,\"\")","v":""},{"$f":"IF(Eingabe!$E48=\"E\",1,\"\")","v":""},{"$f":"IF(Eingabe!$E48=\"S\",1,\"\")","v":""},{"$f":"IF(Eingabe!$E48=\"V\",1,\"\")","v":""},{"$f":"IF(Eingabe!$E48=\"SV\",1,\"\")","v":""},{"$f":"IF(Eingabe!O48>0,1,\"\")","v":""},0,{"$f":"IF(AND(Eingabe!H48>1,Eingabe!N48>1,Eingabe!R48>1,Eingabe!AD48>1,Eingabe!AH48>1,Eingabe!AM48=1),1,0)","v":0},"",28]
[29,{"$f":"IF(X45=3,Eingabe!B49,\"\")","v":""},{"$f":"IF(X45=3,Eingabe!D49,\"\")","v":""},{"$f":"IF(X45=3,Eingabe!C$5,\"\")","v":""},{"$f":"IF(X45=3,Eingabe!AF49,\"\")","v":""},{"$f":"IF(X45=3,Eingabe!AH49,\"\")","v":""},{"$f":"IF(X45=3,Eingabe!L49,\"\")","v":""},{"$f":"IF(X45=3,Eingabe!P49,\"\")","v":""},{"$f":"IF(X45=3,Eingabe!AL49,\"\")","v":""},{"$f":"IF(X45=3,Eingabe!AB49,\"\")","v":""},"",null,{"$f":"IF(Eingabe!$E49=\"U15\",1,\"\")","v":""},{"$f":"IF(Eingabe!$E49=\"U17\",1,\"\")","v":""},{"$f":"IF(Eingabe!$E49=\"U19\",1,\"\")","v":""},{"$f":"IF(Eingabe!$E49=\"U21\",1,\"\")","v":""},{"$f":"IF(Eingabe!$E49=\"E\",1,\"\")","v":""},{"$f":"IF(Eingabe!$E49=\"S\",1,\"\")","v":""},{"$f":"IF(Eingabe!$E49=\"V\",1,\"\")","v":""},{"$f":"IF(Eingabe!$E49=\"SV\",1,\"\")","v":""},{"$f":"IF(Eingabe!O49>0,1,\"\")","v":""},0,{"$f":"IF(AND(Eingabe!H49>1,Eingabe!N49>1,Eingabe!R49>1,Eingabe!AD49>1,Eingabe!AH49>1,Eingabe!AM49=1),1,0)","v":0},"",29]
[30,{"$f":"IF(X46=3,Eingabe!B50,\"\")","v":""},{"$f":"IF(X46=3,Eingabe!D50,\"\")","v":""},{"$f":"IF(X46=3,Eingabe!C$5,\"\")","v":""},{"$f":"IF(X46=3,Eingabe!AF50,\"\")","v":""},{"$f":"IF(X46=3,Eingabe!AH50,\"\")","v":""},{"$f":"IF(X46=3,Eingabe!L50,\"\")","v":""},{"$f":"IF(X46=3,Eingabe!P50,\"\")","v":""},{"$f":"IF(X46=3,Eingabe!AL50,\"\")","v":""},{"$f":"IF(X46=3,Eingabe!AB50,\"\")","v":""},"",null,{"$f":"IF(Eingabe!$E50=\"U15\",1,\"\")","v":""},{"$f":"IF(Eingabe!$E50=\"U17\",1,\"\")","v":""},{"$f":"IF(Eingabe!$E50=\"U19\",1,\"\")","v":""},{"$f":"IF(Eingabe!$E50=\"U21\",1,\"\")","v":""},{"$f":"IF(Eingabe!$E50=\"E\",1,\"\")","v":""},{"$f":"IF(Eingabe!$E50=\"S\",1,\"\")","v":""},{"$f":"IF(Eingabe!$E50=\"V\",1,\"\")","v":""},{"$f":"IF(Eingabe!$E50=\"SV\",1,\"\")","v":""},{"$f":"IF(Eingabe!O50>0,1,\"\")","v":""},0,{"$f":"IF(AND(Eingabe!H50>1,Eingabe!N50>1,Eingabe!R50>1,Eingabe!AD50>1,Eingabe!AH50>1,Eingabe!AM50=1),1,0)","v":0},"",30]
[31,{"$f":"IF(X47=3,Eingabe!B51,\"\")","v":""},{"$f":"IF(X47=3,Eingabe!D51,\"\")","v":""},{"$f":"IF(X47=3,Eingabe!C$5,\"\")","v":""},{"$f":"IF(X47=3,Eingabe!AF51,\"\")","v":""},{"$f":"IF(X47=3,Eingabe!AH51,\"\")","v":""},{"$f":"IF(X47=3,Eingabe!L51,\"\")","v":""},{"$f":"IF(X47=3,Eingabe!P51,\"\")","v":""},{"$f":"IF(X47=3,Eingabe!AL51,\"\")","v":""},{"$f":"IF(X47=3,Eingabe!AB51,\"\")","v":""},"",null,{"$f":"IF(Eingabe!$E51=\"U15\",1,\"\")","v":""},{"$f":"IF(Eingabe!$E51=\"U17\",1,\"\")","v":""},{"$f":"IF(Eingabe!$E51=\"U19\",1,\"\")","v":""},{"$f":"IF(Eingabe!$E51=\"U21\",1,\"\")","v":""},{"$f":"IF(Eingabe!$E51=\"E\",1,\"\")","v":""},{"$f":"IF(Eingabe!$E51=\"S\",1,\"\")","v":""},{"$f":"IF(Eingabe!$E51=\"V\",1,\"\")","v":""},{"$f":"IF(Eingabe!$E51=\"SV\",1,\"\")","v":""},{"$f":"IF(Eingabe!O51>0,1,\"\")","v":""},0,{"$f":"IF(AND(Eingabe!H51>1,Eingabe!N51>1,Eingabe!R51>1,Eingabe!AD51>1,Eingabe!AH51>1,Eingabe!AM51=1),1,0)","v":0},"",31]
[32,{"$f":"IF(X48=3,Eingabe!B52,\"\")","v":""},{"$f":"IF(X48=3,Eingabe!D52,\"\")","v":""},{"$f":"IF(X48=3,Eingabe!C$5,\"\")","v":""},{"$f":"IF(X48=3,Eingabe!AF52,\"\")","v":""},{"$f":"IF(X48=3,Eingabe!AH52,\"\")","v":""},{"$f":"IF(X48=3,Eingabe!L52,\"\")","v":""},{"$f":"IF(X48=3,Eingabe!P52,\"\")","v":""},{"$f":"IF(X48=3,Eingabe!AL52,\"\")","v":""},{"$f":"IF(X48=3,Eingabe!AB52,\"\")","v":""},"",null,{"$f":"IF(Eingabe!$E52=\"U15\",1,\"\")","v":""},{"$f":"IF(Eingabe!$E52=\"U17\",1,\"\")","v":""},{"$f":"IF(Eingabe!$E52=\"U19\",1,\"\")","v":""},{"$f":"IF(Eingabe!$E52=\"U21\",1,\"\")","v":""},{"$f":"IF(Eingabe!$E52=\"E\",1,\"\")","v":""},{"$f":"IF(Eingabe!$E52=\"S\",1,\"\")","v":""},{"$f":"IF(Eingabe!$E52=\"V\",1,\"\")","v":""},{"$f":"IF(Eingabe!$E52=\"SV\",1,\"\")","v":""},{"$f":"IF(Eingabe!O52>0,1,\"\")","v":""},0,{"$f":"IF(AND(Eingabe!H52>1,Eingabe!N52>1,Eingabe!R52>1,Eingabe!AD52>1,Eingabe!AH52>1,Eingabe!AM52=1),1,0)","v":0},"",32]
[33,{"$f":"IF(X49=3,Eingabe!B53,\"\")","v":""},{"$f":"IF(X49=3,Eingabe!D53,\"\")","v":""},{"$f":"IF(X49=3,Eingabe!C$5,\"\")","v":""},{"$f":"IF(X49=3,Eingabe!AF53,\"\")","v":""},{"$f":"IF(X49=3,Eingabe!AH53,\"\")","v":""},{"$f":"IF(X49=3,Eingabe!L53,\"\")","v":""},{"$f":"IF(X49=3,Eingabe!P53,\"\")","v":""},{"$f":"IF(X49=3,Eingabe!AL53,\"\")","v":""},{"$f":"IF(X49=3,Eingabe!AB53,\"\")","v":""},"",null,{"$f":"IF(Eingabe!$E53=\"U15\",1,\"\")","v":""},{"$f":"IF(Eingabe!$E53=\"U17\",1,\"\")","v":""},{"$f":"IF(Eingabe!$E53=\"U19\",1,\"\")","v":""},{"$f":"IF(Eingabe!$E53=\"U21\",1,\"\")","v":""},{"$f":"IF(Eingabe!$E53=\"E\",1,\"\")","v":""},{"$f":"IF(Eingabe!$E53=\"S\",1,\"\")","v":""},{"$f":"IF(Eingabe!$E53=\"V\",1,\"\")","v":""},{"$f":"IF(Eingabe!$E53=\"SV\",1,\"\")","v":""},{"$f":"IF(Eingabe!O53>0,1,\"\")","v":""},0,{"$f":"IF(AND(Eingabe!H53>1,Eingabe!N53>1,Eingabe!R53>1,Eingabe!AD53>1,Eingabe!AH53>1,Eingabe!AM53=1),1,0)","v":0},"",33]
[34,{"$f":"IF(X50=3,Eingabe!B54,\"\")","v":""},{"$f":"IF(X50=3,Eingabe!D54,\"\")","v":""},{"$f":"IF(X50=3,Eingabe!C$5,\"\")","v":""},{"$f":"IF(X50=3,Eingabe!AF54,\"\")","v":""},{"$f":"IF(X50=3,Eingabe!AH54,\"\")","v":""},{"$f":"IF(X50=3,Eingabe!L54,\"\")","v":""},{"$f":"IF(X50=3,Eingabe!P54,\"\")","v":""},{"$f":"IF(X50=3,Eingabe!AL54,\"\")","v":""},{"$f":"IF(X50=3,Eingabe!AB54,\"\")","v":""},"",null,{"$f":"IF(Eingabe!$E54=\"U15\",1,\"\")","v":""},{"$f":"IF(Eingabe!$E54=\"U17\",1,\"\")","v":""},{"$f":"IF(Eingabe!$E54=\"U19\",1,\"\")","v":""},{"$f":"IF(Eingabe!$E54=\"U21\",1,\"\")","v":""},{"$f":"IF(Eingabe!$E54=\"E\",1,\"\")","v":""},{"$f":"IF(Eingabe!$E54=\"S\",1,\"\")","v":""},{"$f":"IF(Eingabe!$E54=\"V\",1,\"\")","v":""},{"$f":"IF(Eingabe!$E54=\"SV\",1,\"\")","v":""},{"$f":"IF(Eingabe!O54>0,1,\"\")","v":""},0,{"$f":"IF(AND(Eingabe!H54>1,Eingabe!N54>1,Eingabe!R54>1,Eingabe!AD54>1,Eingabe!AH54>1,Eingabe!AM54=1),1,0)","v":0},"",34]
[35,{"$f":"IF(X51=3,Eingabe!B55,\"\")","v":""},{"$f":"IF(X51=3,Eingabe!D55,\"\")","v":""},{"$f":"IF(X51=3,Eingabe!C$5,\"\")","v":""},{"$f":"IF(X51=3,Eingabe!AF55,\"\")","v":""},{"$f":"IF(X51=3,Eingabe!AH55,\"\")","v":""},{"$f":"IF(X51=3,Eingabe!L55,\"\")","v":""},{"$f":"IF(X51=3,Eingabe!P55,\"\")","v":""},{"$f":"IF(X51=3,Eingabe!AL55,\"\")","v":""},{"$f":"IF(X51=3,Eingabe!AB55,\"\")","v":""},"",null,{"$f":"IF(Eingabe!$E55=\"U15\",1,\"\")","v":""},{"$f":"IF(Eingabe!$E55=\"U17\",1,\"\")","v":""},{"$f":"IF(Eingabe!$E55=\"U19\",1,\"\")","v":""},{"$f":"IF(Eingabe!$E55=\"U21\",1,\"\")","v":""},{"$f":"IF(Eingabe!$E55=\"E\",1,\"\")","v":""},{"$f":"IF(Eingabe!$E55=\"S\",1,\"\")","v":""},{"$f":"IF(Eingabe!$E55=\"V\",1,\"\")","v":""},{"$f":"IF(Eingabe!$E55=\"SV\",1,\"\")","v":""},{"$f":"IF(Eingabe!O55>0,1,\"\")","v":""},0,{"$f":"IF(AND(Eingabe!H55>1,Eingabe!N55>1,Eingabe!R55>1,Eingabe!AD55>1,Eingabe!AH55>1,Eingabe!AM55=1),1,0)","v":0},"",35]
[36,{"$f":"IF(X52=3,Eingabe!B56,\"\")","v":""},{"$f":"IF(X52=3,Eingabe!D56,\"\")","v":""},{"$f":"IF(X52=3,Eingabe!C$5,\"\")","v":""},{"$f":"IF(X52=3,Eingabe!AF56,\"\")","v":""},{"$f":"IF(X52=3,Eingabe!AH56,\"\")","v":""},{"$f":"IF(X52=3,Eingabe!L56,\"\")","v":""},{"$f":"IF(X52=3,Eingabe!P56,\"\")","v":""},{"$f":"IF(X52=3,Eingabe!AL56,\"\")","v":""},{"$f":"IF(X52=3,Eingabe!AB56,\"\")","v":""},"",null,{"$f":"IF(Eingabe!$E56=\"U15\",1,\"\")","v":""},{"$f":"IF(Eingabe!$E56=\"U17\",1,\"\")","v":""},{"$f":"IF(Eingabe!$E56=\"U19\",1,\"\")","v":""},{"$f":"IF(Eingabe!$E56=\"U21\",1,\"\")","v":""},{"$f":"IF(Eingabe!$E56=\"E\",1,\"\")","v":""},{"$f":"IF(Eingabe!$E56=\"S\",1,\"\")","v":""},{"$f":"IF(Eingabe!$E56=\"V\",1,\"\")","v":""},{"$f":"IF(Eingabe!$E56=\"SV\",1,\"\")","v":""},{"$f":"IF(Eingabe!O56>0,1,\"\")","v":""},0,{"$f":"IF(AND(Eingabe!H56>1,Eingabe!N56>1,Eingabe!R56>1,Eingabe!AD56>1,Eingabe!AH56>1,Eingabe!AM56=1),1,0)","v":0},"",36]
[37,{"$f":"IF(X53=3,Eingabe!B57,\"\")","v":""},{"$f":"IF(X53=3,Eingabe!D57,\"\")","v":""},{"$f":"IF(X53=3,Eingabe!C$5,\"\")","v":""},{"$f":"IF(X53=3,Eingabe!AF57,\"\")","v":""},{"$f":"IF(X53=3,Eingabe!AH57,\"\")","v":""},{"$f":"IF(X53=3,Eingabe!L57,\"\")","v":""},{"$f":"IF(X53=3,Eingabe!P57,\"\")","v":""},{"$f":"IF(X53=3,Eingabe!AL57,\"\")","v":""},{"$f":"IF(X53=3,Eingabe!AB57,\"\")","v":""},"",null,{"$f":"IF(Eingabe!$E57=\"U15\",1,\"\")","v":""},{"$f":"IF(Eingabe!$E57=\"U17\",1,\"\")","v":""},{"$f":"IF(Eingabe!$E57=\"U19\",1,\"\")","v":""},{"$f":"IF(Eingabe!$E57=\"U21\",1,\"\")","v":""},{"$f":"IF(Eingabe!$E57=\"E\",1,\"\")","v":""},{"$f":"IF(Eingabe!$E57=\"S\",1,\"\")","v":""},{"$f":"IF(Eingabe!$E57=\"V\",1,\"\")","v":""},{"$f":"IF(Eingabe!$E57=\"SV\",1,\"\")","v":""},{"$f":"IF(Eingabe!O57>0,1,\"\")","v":""},0,{"$f":"IF(AND(Eingabe!H57>1,Eingabe!N57>1,Eingabe!R57>1,Eingabe!AD57>1,Eingabe!AH57>1,Eingabe!AM57=1),1,0)","v":0},"",37]
[38,{"$f":"IF(X54=3,Eingabe!B58,\"\")","v":""},{"$f":"IF(X54=3,Eingabe!D58,\"\")","v":""},{"$f":"IF(X54=3,Eingabe!C$5,\"\")","v":""},{"$f":"IF(X54=3,Eingabe!AF58,\"\")","v":""},{"$f":"IF(X54=3,Eingabe!AH58,\"\")","v":""},{"$f":"IF(X54=3,Eingabe!L58,\"\")","v":""},{"$f":"IF(X54=3,Eingabe!P58,\"\")","v":""},{"$f":"IF(X54=3,Eingabe!AL58,\"\")","v":""},{"$f":"IF(X54=3,Eingabe!AB58,\"\")","v":""},"",null,{"$f":"IF(Eingabe!$E58=\"U15\",1,\"\")","v":""},{"$f":"IF(Eingabe!$E58=\"U17\",1,\"\")","v":""},{"$f":"IF(Eingabe!$E58=\"U19\",1,\"\")","v":""},{"$f":"IF(Eingabe!$E58=\"U21\",1,\"\")","v":""},{"$f":"IF(Eingabe!$E58=\"E\",1,\"\")","v":""},{"$f":"IF(Eingabe!$E58=\"S\",1,\"\")","v":""},{"$f":"IF(Eingabe!$E58=\"V\",1,\"\")","v":""},{"$f":"IF(Eingabe!$E58=\"SV\",1,\"\")","v":""},{"$f":"IF(Eingabe!O58>0,1,\"\")","v":""},0,{"$f":"IF(AND(Eingabe!H58>1,Eingabe!N58>1,Eingabe!R58>1,Eingabe!AD58>1,Eingabe!AH58>1,Eingabe!AM58=1),1,0)","v":0},"",38]
[39,{"$f":"IF(X55=3,Eingabe!B59,\"\")","v":""},{"$f":"IF(X55=3,Eingabe!D59,\"\")","v":""},{"$f":"IF(X55=3,Eingabe!C$5,\"\")","v":""},{"$f":"IF(X55=3,Eingabe!AF59,\"\")","v":""},{"$f":"IF(X55=3,Eingabe!AH59,\"\")","v":""},{"$f":"IF(X55=3,Eingabe!L59,\"\")","v":""},{"$f":"IF(X55=3,Eingabe!P59,\"\")","v":""},{"$f":"IF(X55=3,Eingabe!AL59,\"\")","v":""},{"$f":"IF(X55=3,Eingabe!AB59,\"\")","v":""},"",null,{"$f":"IF(Eingabe!$E59=\"U15\",1,\"\")","v":""},{"$f":"IF(Eingabe!$E59=\"U17\",1,\"\")","v":""},{"$f":"IF(Eingabe!$E59=\"U19\",1,\"\")","v":""},{"$f":"IF(Eingabe!$E59=\"U21\",1,\"\")","v":""},{"$f":"IF(Eingabe!$E59=\"E\",1,\"\")","v":""},{"$f":"IF(Eingabe!$E59=\"S\",1,\"\")","v":""},{"$f":"IF(Eingabe!$E59=\"V\",1,\"\")","v":""},{"$f":"IF(Eingabe!$E59=\"SV\",1,\"\")","v":""},{"$f":"IF(Eingabe!O59>0,1,\"\")","v":""},0,{"$f":"IF(AND(Eingabe!H59>1,Eingabe!N59>1,Eingabe!R59>1,Eingabe!AD59>1,Eingabe!AH59>1,Eingabe!AM59=1),1,0)","v":0},"",39]
[40,{"$f":"IF(X56=3,Eingabe!B60,\"\")","v":""},{"$f":"IF(X56=3,Eingabe!D60,\"\")","v":""},{"$f":"IF(X56=3,Eingabe!C$5,\"\")","v":""},{"$f":"IF(X56=3,Eingabe!AF60,\"\")","v":""},{"$f":"IF(AND(Eingabe!$E60=\"E\",Eingabe!$AS60=1),Eingabe!AH60,\"\")","v":""},{"$f":"IF(X56=3,Eingabe!L60,\"\")","v":""},{"$f":"IF(X56=3,Eingabe!P60,\"\")","v":""},{"$f":"IF(X56=3,Eingabe!AL60,\"\")","v":""},{"$f":"IF(X56=3,Eingabe!AB60,\"\")","v":""},"",null,{"$f":"IF(Eingabe!$E60=\"U15\",1,\"\")","v":""},{"$f":"IF(Eingabe!$E60=\"U17\",1,\"\")","v":""},{"$f":"IF(Eingabe!$E60=\"U19\",1,\"\")","v":""},{"$f":"IF(Eingabe!$E60=\"U21\",1,\"\")","v":""},{"$f":"IF(Eingabe!$E60=\"E\",1,\"\")","v":""},{"$f":"IF(Eingabe!$E60=\"S\",1,\"\")","v":""},{"$f":"IF(Eingabe!$E60=\"V\",1,\"\")","v":""},{"$f":"IF(Eingabe!$E60=\"SV\",1,\"\")","v":""},{"$f":"IF(Eingabe!O60>0,1,\"\")","v":""},0,{"$f":"IF(AND(Eingabe!H60>1,Eingabe!N60>1,Eingabe!R60>1,Eingabe!AD60>1,Eingabe!AH60>1,Eingabe!AM60=1),1,0)","v":0},"",40]

{"sheet":"Doppel für Schütze","index":8,"n_rows":50,"n_cols":15,"rows_kept":50,"cut":false,"hidden":false,"merged":[[9,4,9,8],[43,11,44,14],[44,0,44,7],[44,9,44,10]]}
[null,null,null,null,null,"Zentralschweizerischer Sportschützen-Verband"]
[]
[null,null,null,null,null,"ZSV Meisterschaft Gewehr 50m"]
[null,null,null,null,null,"Standblatt"]
[null,null,null,null,null,null,null,null,null,null,null,"Kopie für den Schützen"]
["Schütze"]
[]
["Name, Vorname",null,null,null,null,null,null,null,null,null,null,"JG"]
[]
["","Kat.",null,null,{"$f":"IF(A10=\"E\",\"Elite\",IF(A10=\"V\",\"Veteranen\",IF(A10=\"U15\",\"U15\",IF(A10=\"U17\",\"U17\",IF(A10=\"U19\",\"U19\",IF(A10=\"U21\",\"U21\",IF(A10=\"S\",\"Senioren\",IF(A10=\"SV\",\"Senior Veteranen\",\"\"))))))))","v":""}]
[]
[null,null,null,null,null,null,null,null,null,null,null,null,null,null,"Total"]
[]
["Vereinswettschiessen ZSV"]
[]
["16 Schüsse",null,null,null,null,null,null,null,null,null,null,null,null,null,{"$f":"K16+L16","v":0}]
[]
["Vereinswettschiessen SVWS"]
[]
["20 Schüsse",null,null,null,null,null,null,null,null,null,null,null,null,null,{"$f":"K20","v":0}]
[]
["ZSV - Programm"]
[]
["20 Schüsse liegend",null,null,null,null,null,"Senioren/Veteranen 30 lg.",null,null,null,null,null,null,null,{"$f":"K24+L24+M24","v":0}]
[]
["10 Schüsse kniend",null,null,null,null,null,null,null,null,null,null,null,null,null,{"$f":"K26","v":0}]
[]
["Serieschiessen"]
[]
["15 Schüsse liegend"]
[]
["15 Schüsse kniend",null,null,null,null,null,"Senioren/Veteranen 30 lg.",null,null,null,null,null,null,null,{"$f":"K32+K30","v":0}]
[]
["Volksschiessen"]
[]
["beide Stiche",null,null,null,null,null,"beste Passe",null,null,null,null,null,null,null,{"$f":"K36+L36","v":0}]
[]
["Prämienkarten-Stich"]
[]
["10 Schüsse",null,null,null,null,null,"beste Passe",null,null,null,"",null,null,null,{"$f":"K40","v":""}]
[]
["Total",null,null,null,null,null,null,null,null,null,null,null,null,null,{"$f":"O16+O20+O24+O26+O30+O32+O36+O40","v":{"$error":"#VALUE!"}}]
[]
[null,null,null,null,null,null,null,null,null,null,null,{"$f":"Eingabe!C11","v":0}]
[{"$f":"Eingabe!C5","v":0},null,null,null,null,null,null,null,null,{"$f":"TODAY()","v":"2024-04-28"}]
["Verein",null,null,null,null,null,null,null,null,"Datum",null,"Unterschrift"]
[]
["Einsenden bis spätestens 15. Oktober an:"]
["Thomas Amstutz",null,null,null,null,null,null,null,null,null,"041 787 22 49 (P) / 079 678 35 90"]
["Küfermattstrasse 33a, 5643 Sins",null,null,null,null,null,null,null,null,null,"thomas.amstutz@bluewin.ch"]