{"text_format":"1","workbook":"xlsx","n_sheets":6,"sheets":["Eingabe Daten","ELITE Final Resultate","Junior U21 Final Resultate","Junior U17 Final Resultate","E-Mail für Rangliste","ewigListe_Kategorie nach Alter"],"not_rendered":{"charts":0,"images":5,"macros":1,"external_links":0,"defined_names":4,"comments":1,"pivot_tables":0},"unopened":[],"bounds":{"document_bytes":16777216,"sheet_cells":100000,"rows_first":2000,"rows_last":500,"rows_between":2000,"halvings":0,"cell_chars":16384,"cell_head_chars":4096},"cells_cut":0,"cells_raw":0,"read":"whole","date_system":"1900"}

{"sheet":"Eingabe Daten","index":0,"n_rows":42,"n_cols":16,"rows_kept":42,"cut":false,"hidden":false,"merged":[[0,11,0,12],[28,1,28,2],[28,4,28,5],[28,7,28,8],[0,2,1,7],[13,12,14,14],[4,2,4,4],[16,1,16,2],[16,4,16,5],[16,7,16,8],[4,12,5,16],[2,2,3,5],[2,6,3,7],[17,7,17,8],[5,2,5,4],[27,7,27,8],[40,0,40,8],[41,0,41,8],[39,1,39,2],[39,4,39,5],[38,1,38,2],[38,4,38,5],[38,7,38,8],[39,7,39,8],[6,2,6,4],[17,4,17,5],[27,1,27,2],[27,4,27,5],[21,0,22,0],[9,14,10,16],[32,0,33,0],[20,0,20,1],[8,0,8,1],[17,1,17,2],[31,0,31,1]]}
[null,null,"Gruppenmeisterschaft G10m",null,null,null,null,null,null,null,"Version:","23_11 vom 22.11.2023"]
[null,null,null,null,null,null,null,null,null,null,null,"Anleitung:","Makros müssen aktiviert werden"]
[null,null,"ZSV Final",null,null,null,{"$f":"TODAY()","v":"2023-11-22"}]
[null,null,null,null,null,null,null,null,null,null,null,null,"Die gelb markierten Felder sind auszufüllen."]
[null,null,null,null,null,null,null,null,null,null,null,null,"E- Mail Adresse, wenn ihr hier die E-Mail Adresse des Schützen einträgt, dann bekommt Er/Sie die Rangliste vom ZSV Final direkt von mir zugestellt. "]
[null,null,"Meldedaten Gruppen"]
[null,"Verein:"]
[]
["Elite:"]
[]
[null,"Name + Vorname","JG (JJJJ)","E-Mail","Name + Vorname","JG (JJJJ)","E-Mail","Name + Vorname","JG (JJJJ)","E-Mail"]
[]
["1. Schütze"]
["2. Schütze",null,null,null,null,null,null,null,null,null,null,null,"E-Mail senden"]
["3. Schütze",null,null,null,null,null,null,null,null,null,null,null,null,null,null,"öffnet E-Mail Programm"]
["4. Schütze",null,null,null,null,null,null,null,null,null,null,null,null,null,null,"Betreff und E-Mail sind bereits definiert."]
[null,"Resultate erfassen",null,null,"Resultate erfassen",null,null,"Resultate erfassen"]
[null,{"$f":"C7&\" 1\"","v":" 1"},null,null,{"$f":"C7&\" 2\"","v":" 2"},null,null,{"$f":"C7&\" 3\"","v":" 3"}]
[]
[]
["Junioren:"]
["U21"]
[null,"Name + Vorname","JG (JJJJ)","E-Mail","Name + Vorname","JG (JJJJ)","E-Mail","Name + Vorname","JG (JJJJ)","E-Mail"]
[]
["1. Schütze"]
["2. Schütze"]
["3. Schütze"]
[null,"Resultate erfassen",null,null,"Resultate erfassen",null,null,"Resultate erfassen"]
[null,{"$f":"C7&\" 1\"","v":" 1"},null,null,{"$f":"C7&\" 2\"","v":" 2"},null,null,{"$f":"C7&\" 3\"","v":" 3"}]
[]
[]
["Junioren:"]
["U17"]
[null,"Name + Vorname","JG (JJJJ)","E-Mail","Name + Vorname","JG (JJJJ)","E-Mail","Name + Vorname","JG (JJJJ)","E-Mail"]
[]
["1. Schütze"]
["2. Schütze"]
["3. Schütze"]
[null,"Resultate erfassen",null,null,"Resultate erfassen",null,null,"Resultate erfassen"]
[null,{"$f":"C7&\" 1\"","v":" 1"},null,null,{"$f":"C7&\" 2\"","v":" 2"},null,null,{"$f":"C7&\" 3\"","v":" 3"}]
["Anmeldungen elektronisch bis spätestens Fr 20.01.2024 per E-Mail an:"]
["per Mail an: schiessen.zsv@gmail.com"]

{"sheet":"ELITE Final Resultate","index":1,"n_rows":32,"n_cols":9,"rows_kept":32,"cut":false,"hidden":false,"merged":[[6,6,6,8],[15,6,15,8],[24,6,24,8]]}
[]
[null,null,"Zentralschweizerischer Sportschützen Verband"]
[]
[null,null,"Final Gruppenmeisterschaft G10m",null,null,null,"Kat. Elite"]
[null,null,{"$f":"'Eingabe Daten'!C5:E5","v":0}]
[]
["Verein:",null,{"$f":"'Eingabe Daten'!C7:E7","v":0},null,null,"Gruppe",{"$f":"'Eingabe Daten'!B18","v":" 1"}]
[]
[null,null,"Name + Vorname","JG","1. \nPasse","2. \nPasse","3. \nPasse","4. \nPasse","Total"]
["E1","stehend",{"$f":"'Eingabe Daten'!B16","v":0},{"$f":"'Eingabe Daten'!C16","v":0},null,null,null,null,{"$f":"SUM(E10:H10)","v":0}]
["E2","stehend",{"$f":"'Eingabe Daten'!B15","v":0},{"$f":"'Eingabe Daten'!C15","v":0},null,null,null,null,{"$f":"SUM(E11:H11)","v":0}]
["E3","stehend",{"$f":"'Eingabe Daten'!B13","v":0},{"$f":"'Eingabe Daten'!C13","v":0},null,null,null,null,{"$f":"SUM(E12:H12)","v":0}]
["E4","stehend",{"$f":"'Eingabe Daten'!B14","v":0},{"$f":"'Eingabe Daten'!C14","v":0},null,null,null,null,{"$f":"SUM(E13:H13)","v":0}]
[null,null,null,"Total",{"$f":"SUM(E10:E13)","v":0},{"$f":"SUM(F10:F13)","v":0},0,0,{"$f":"SUM(I10:I13)","v":0}]
[]
["Verein:",null,{"$f":"C7","v":0},null,null,"Gruppe",{"$f":"'Eingabe Daten'!E18","v":" 2"}]
[]
[null,null,"Name + Vorname","JG","1. \nPasse","2. \nPasse","3. \nPasse","4. \nPasse","Total"]
["E1","stehend",{"$f":"'Eingabe Daten'!E15","v":0},{"$f":"'Eingabe Daten'!F15","v":0},null,null,null,null,{"$f":"SUM(E19:H19)","v":0}]
["E2","stehend",{"$f":"'Eingabe Daten'!E14","v":0},{"$f":"'Eingabe Daten'!F14","v":0},null,null,null,null,{"$f":"SUM(E20:H20)","v":0}]
["E3","stehend",{"$f":"'Eingabe Daten'!E16","v":0},{"$f":"'Eingabe Daten'!F16","v":0},null,null,null,null,{"$f":"SUM(E21:H21)","v":0}]
["E4","stehend",{"$f":"'Eingabe Daten'!E13","v":0},{"$f":"'Eingabe Daten'!F13","v":0},null,null,null,null,{"$f":"SUM(E22:H22)","v":0}]
[null,null,null,"Total",{"$f":"SUM(E19:E22)","v":0},{"$f":"SUM(F19:F22)","v":0},0,0,{"$f":"SUM(E23:H23)","v":0}]
[]
["Verein:",null,{"$f":"C7","v":0},null,null,"Gruppe",{"$f":"'Eingabe Daten'!H18","v":" 3"}]
[]
[null,null,"Name + Vorname","JG","1. \nPasse","2. \nPasse","3. \nPasse","4. \nPasse","Total"]
["E1","stehend",{"$f":"'Eingabe Daten'!H15","v":0},{"$f":"'Eingabe Daten'!I15","v":0},null,null,null,null,{"$f":"SUM(E28:H28)","v":0}]
["E2","stehend",{"$f":"'Eingabe Daten'!H16","v":0},{"$f":"'Eingabe Daten'!I16","v":0},null,null,null,null,{"$f":"SUM(E29:H29)","v":0}]
["E3","stehend",{"$f":"'Eingabe Daten'!H14","v":0},{"$f":"'Eingabe Daten'!I14","v":0},null,null,null,null,{"$f":"SUM(E30:H30)","v":0}]
["E4","stehend",{"$f":"'Eingabe Daten'!H13","v":0},{"$f":"'Eingabe Daten'!I13","v":0},null,null,null,null,{"$f":"SUM(E31:H31)","v":0}]
[null,null,null,"Total",{"$f":"SUM(E28:E31)","v":0},{"$f":"SUM(F28:F31)","v":0},0,0,{"$f":"SUM(E32:H32)","v":0}]

{"sheet":"Junior U21 Final Resultate","index":2,"n_rows":29,"n_cols":9,"rows_kept":29,"cut":false,"hidden":false,"merged":[[6,6,6,8],[14,6,14,8],[22,6,22,8]]}
[]
[null,null,"Zentralschweizerischer Sportschützen Verband"]
[]
[null,null,"Final Gruppenmeisterschaft G10m",null,null,null,"Kat. Junioren U21 (U19-U21)"]
[null,null,{"$f":"'Eingabe Daten'!C5:E5","v":0}]
[]
["Verein:",null,{"$f":"'Eingabe Daten'!C7:E7","v":0},null,null,"Gruppe",{"$f":"'Eingabe Daten'!B29","v":" 1"}]
[]
[null,null,"Name + Vorname","JG","1. \nPasse","2. \nPasse","3. \nPasse","4. \nPasse","Total"]
["U21 1","stehend",{"$f":"'Eingabe Daten'!B26","v":"00:00:00"},{"$f":"'Eingabe Daten'!C26","v":0},null,null,null,null,{"$f":"SUM(E10:H10)","v":0}]
["U21 2","stehend",{"$f":"'Eingabe Daten'!B25","v":"00:00:00"},{"$f":"'Eingabe Daten'!C25","v":0},null,null,null,null,{"$f":"SUM(E11:H11)","v":0}]
["U21 3","stehend",{"$f":"'Eingabe Daten'!B27","v":"00:00:00"},{"$f":"'Eingabe Daten'!C27","v":0},null,null,null,null,{"$f":"SUM(E12:H12)","v":0}]
[null,null,null,"Total",{"$f":"SUM(E10:E12)","v":0},{"$f":"SUM(F10:F12)","v":0},{"$f":"SUM(G10:G12)","v":0},{"$f":"SUM(H10:H12)","v":0},{"$f":"SUM(I10:I12)","v":0}]
[]
["Verein:",null,{"$f":"C7","v":0},null,null,"Gruppe",{"$f":"'Eingabe Daten'!E29","v":" 2"}]
[]
[null,null,"Name + Vorname","JG","1. \nPasse","2. \nPasse","3. \nPasse","4. \nPasse","Total"]
["U21 1","stehend",{"$f":"'Eingabe Daten'!E25","v":0},{"$f":"'Eingabe Daten'!F25","v":0},null,null,null,null,{"$f":"SUM(E18:H18)","v":0}]
["U21 2","stehend",{"$f":"'Eingabe Daten'!E26","v":0},{"$f":"'Eingabe Daten'!F26","v":0},null,null,null,null,{"$f":"SUM(E19:H19)","v":0}]
["U21 3","stehend",{"$f":"'Eingabe Daten'!E27","v":0},{"$f":"'Eingabe Daten'!F27","v":0},null,null,null,null,{"$f":"SUM(E20:H20)","v":0}]
[null,null,null,"Total",{"$f":"SUM(E18:E20)","v":0},{"$f":"SUM(F18:F20)","v":0},{"$f":"SUM(G18:G20)","v":0},{"$f":"SUM(H18:H20)","v":0},{"$f":"SUM(E21:H21)","v":0}]
[]
["Verein:",null,{"$f":"C7","v":0},null,null,"Gruppe",{"$f":"'Eingabe Daten'!H29","v":" 3"}]
[]
[null,null,"Name + Vorname","JG","1. \nPasse","2. \nPasse","3. \nPasse","4. \nPasse","Total"]
["U21 1","stehend",{"$f":"'Eingabe Daten'!H25","v":0},{"$f":"'Eingabe Daten'!I25","v":0},null,null,null,null,{"$f":"SUM(E26:H26)","v":0}]
["U21 2","stehend",{"$f":"'Eingabe Daten'!H26","v":0},{"$f":"'Eingabe Daten'!I26","v":0},null,null,null,null,{"$f":"SUM(E27:H27)","v":0}]
["U21 3","stehend",{"$f":"'Eingabe Daten'!H27","v":0},{"$f":"'Eingabe Daten'!I27","v":0},null,null,null,null,{"$f":"SUM(E28:H28)","v":0}]
[null,null,null,"Total",{"$f":"SUM(E26:E28)","v":0},{"$f":"SUM(F26:F28)","v":0},{"$f":"SUM(G26:G28)","v":0},{"$f":"SUM(H26:H28)","v":0},{"$f":"SUM(E29:H29)","v":0}]

{"sheet":"Junior U17 Final Resultate","index":3,"n_rows":29,"n_cols":7,"rows_kept":29,"cut":false,"hidden":false,"merged":[]}
[]
[null,null,"Zentralschweizerischer Sportschützen Verband"]
[]
[null,null,"Final Gruppenmeisterschaft G10m"]
[null,null,{"$f":"'Eingabe Daten'!C5:E5","v":0},null,null,"Kat. Junioren U17 (U10 - U17)"]
[]
["Verein:",null,{"$f":"'Eingabe Daten'!C7:E7","v":0},null,null,"Gruppe",{"$f":"'Eingabe Daten'!B40","v":" 1"}]
[]
[null,null,"Name + Vorname","JG","1. \nPasse","2. \nPasse","Total"]
["U17 1","stehend",{"$f":"'Eingabe Daten'!B38","v":"00:00:00"},{"$f":"'Eingabe Daten'!C38","v":0},null,null,{"$f":"SUM(E10:F10)","v":0}]
["U17 2","stehend",{"$f":"'Eingabe Daten'!B36","v":"00:00:00"},{"$f":"'Eingabe Daten'!C36","v":0},null,null,{"$f":"SUM(E11:F11)","v":0}]
["U17 3","stehend",{"$f":"'Eingabe Daten'!B37","v":"00:00:00"},{"$f":"'Eingabe Daten'!C37","v":0},null,null,{"$f":"SUM(E12:F12)","v":0}]
[null,null,null,"Total",{"$f":"SUM(E10:E12)","v":0},{"$f":"SUM(F10:F12)","v":0},{"$f":"SUM(G10:G12)","v":0}]
[]
["Verein:",null,{"$f":"C7","v":0},null,null,"Gruppe",{"$f":"'Eingabe Daten'!E40","v":" 2"}]
[]
[null,null,"Name + Vorname","JG","1. \nPasse","2. \nPasse","Total"]
["U17 1","stehend",{"$f":"'Eingabe Daten'!E38","v":0},{"$f":"'Eingabe Daten'!F38","v":0},null,null,{"$f":"SUM(E18:F18)","v":0}]
["U17 2","stehend",{"$f":"'Eingabe Daten'!E36","v":0},{"$f":"'Eingabe Daten'!F36","v":0},null,null,{"$f":"SUM(E19:F19)","v":0}]
["U17 3","stehend",{"$f":"'Eingabe Daten'!E37","v":0},{"$f":"'Eingabe Daten'!F37","v":0},null,null,{"$f":"SUM(E20:F20)","v":0}]
[null,null,null,"Total",{"$f":"SUM(E18:E20)","v":0},{"$f":"SUM(F18:F20)","v":0},{"$f":"SUM(E21:F21)","v":0}]
[]
["Verein:",null,{"$f":"C7","v":0},null,null,"Gruppe",{"$f":"'Eingabe Daten'!H40","v":" 3"}]
[]
[null,null,"Name + Vorname","JG","1. \nPasse","2. \nPasse","Total"]
["U17 1","stehend",{"$f":"'Eingabe Daten'!H36","v":0},{"$f":"'Eingabe Daten'!I36","v":0},null,null,{"$f":"SUM(E26:F26)","v":0}]
["U17 2","stehend",{"$f":"'Eingabe Daten'!H37","v":0},{"$f":"'Eingabe Daten'!I37","v":0},null,null,{"$f":"SUM(E27:F27)","v":0}]
["U17 3","stehend",{"$f":"'Eingabe Daten'!H38","v":0},{"$f":"'Eingabe Daten'!I38","v":0},null,null,{"$f":"SUM(E28:F28)","v":0}]
[null,null,null,"Total",{"$f":"SUM(E26:E28)","v":0},{"$f":"SUM(F26:F28)","v":0},{"$f":"SUM(E29:F29)","v":0}]

{"sheet":"E-Mail für Rangliste","index":4,"n_rows":38,"n_cols":3,"rows_kept":38,"cut":false,"hidden":false,"merged":[]}
[]
["Verein:",{"$f":"'Eingabe Daten'!C7","v":0}]
[]
["Elite:",{"$f":"'Eingabe Daten'!D13","v":0},{"$f":"'Eingabe Daten'!B13","v":0}]
[null,{"$f":"'Eingabe Daten'!D14","v":0},{"$f":"'Eingabe Daten'!B14","v":0}]
[null,{"$f":"'Eingabe Daten'!D15","v":0},{"$f":"'Eingabe Daten'!B15","v":0}]
[null,{"$f":"'Eingabe Daten'!D16","v":0},{"$f":"'Eingabe Daten'!B16","v":0}]
[null,{"$f":"'Eingabe Daten'!G13","v":0},{"$f":"'Eingabe Daten'!E13","v":0}]
[null,{"$f":"'Eingabe Daten'!G14","v":0},{"$f":"'Eingabe Daten'!E14","v":0}]
[null,{"$f":"'Eingabe Daten'!G15","v":0},{"$f":"'Eingabe Daten'!E15","v":0}]
[null,{"$f":"'Eingabe Daten'!G16","v":0},{"$f":"'Eingabe Daten'!E16","v":0}]
[null,{"$f":"'Eingabe Daten'!J13","v":0},{"$f":"'Eingabe Daten'!H13","v":0}]
[null,{"$f":"'Eingabe Daten'!J14","v":0},{"$f":"'Eingabe Daten'!H14","v":0}]
[null,{"$f":"'Eingabe Daten'!J15","v":0},{"$f":"'Eingabe Daten'!H15","v":0}]
[null,{"$f":"'Eingabe Daten'!J16","v":0},{"$f":"'Eingabe Daten'!H16","v":0}]
[]
[]
[]
["Jun U21",{"$f":"'Eingabe Daten'!D25","v":0},{"$f":"'Eingabe Daten'!B25","v":0}]
[null,{"$f":"'Eingabe Daten'!D26","v":0},{"$f":"'Eingabe Daten'!B26","v":0}]
[null,{"$f":"'Eingabe Daten'!D27","v":0},{"$f":"'Eingabe Daten'!B27","v":0}]
[null,{"$f":"'Eingabe Daten'!G25","v":0},{"$f":"'Eingabe Daten'!E25","v":0}]
[null,{"$f":"'Eingabe Daten'!G26","v":0},{"$f":"'Eingabe Daten'!E26","v":0}]
[null,{"$f":"'Eingabe Daten'!G27","v":0},{"$f":"'Eingabe Daten'!E27","v":0}]
[null,{"$f":"'Eingabe Daten'!J25","v":0},{"$f":"'Eingabe Daten'!H25","v":0}]
[null,{"$f":"'Eingabe Daten'!J26","v":0},{"$f":"'Eingabe Daten'!H26","v":0}]
[null,{"$f":"'Eingabe Daten'!J27","v":0},{"$f":"'Eingabe Daten'!H27","v":0}]
[]
[]
["Jun U17",{"$f":"'Eingabe Daten'!D36","v":0},{"$f":"'Eingabe Daten'!B36","v":0}]
[null,{"$f":"'Eingabe Daten'!D37","v":0},{"$f":"'Eingabe Daten'!B37","v":0}]
[null,{"$f":"'Eingabe Daten'!D38","v":0},{"$f":"'Eingabe Daten'!B38","v":0}]
[null,{"$f":"'Eingabe Daten'!G36","v":0},{"$f":"'Eingabe Daten'!E36","v":0}]
[null,{"$f":"'Eingabe Daten'!G37","v":0},{"$f":"'Eingabe Daten'!E37","v":0}]
[null,{"$f":"'Eingabe Daten'!G38","v":0},{"$f":"'Eingabe Daten'!E38","v":0}]
[null,{"$f":"'Eingabe Daten'!J36","v":0},{"$f":"'Eingabe Daten'!H36","v":0}]
[null,{"$f":"'Eingabe Daten'!J37","v":0},{"$f":"'Eingabe Daten'!H37","v":0}]
[null,{"$f":"'Eingabe Daten'!J38","v":0},{"$f":"'Eingabe Daten'!H38","v":0}]

{"sheet":"ewigListe_Kategorie nach Alter","index":5,"n_rows":30,"n_cols":19,"rows_kept":30,"cut":false,"hidden":false,"merged":[[0,17,1,18],[5,0,6,0],[5,1,5,13],[6,1,6,2],[6,3,6,5],[6,6,6,7],[6,8,6,9],[6,10,6,11],[6,12,6,13],[6,14,6,18],[27,0,27,18],[11,1,11,18],[16,1,16,2],[16,3,16,16],[16,17,16,18],[21,1,21,8],[21,9,21,18]]}
["Berechnung Altersstufe aus dem Altersjahr oder dem Jahrgang   /  Calcul des classes d’âge",null,null,null,null,null,null,null,null,null,null,null,null,null,null,null,null,"Ausgabe/Edition 2020"]
["Stichtag - Final resp. letzter Schiesstag eines Wettkampfs"]
[]
["Wettkampf-\nJahr / l'année du concours",2024,null,null,null,null,null,null,null,"̶"]
[]
["Altersstufen","Junioren U10 - U21"]
[null,"U10",null,"U13",null,null,"U15",null,"U17",null,"U19",null,"U21",null,"Elite"]
["Altersjahr",8,{"$f":"+B8+1","v":9},{"$f":"+C8+1","v":10},11,12,13,14,15,16,17,18,19,20,21,{"$f":"+O8+1","v":22},{"$f":"+P8+1","v":23},{"$f":"+Q8+1","v":24},{"$f":"+R8+1","v":25}]
["Jahrgang",{"$f":"+$B$4-B8","v":2016},2015,2014,2013,2012,2011,2010,2009,2008,2007,2006,2005,2004,2003,2002,2001,2000,1999]
[]
[]
["Altersstufen","Elite"]
["Altersjahr",26,{"$f":"+B13+1","v":27},{"$f":"+C13+1","v":28},29,30,31,32,33,34,35,36,37,38,39,40,41,42,43]
["Jahrgang",{"$f":"+$B$4-B13","v":1998},1997,1996,1995,1994,1993,1992,1991,1990,1989,1988,1987,1986,1985,1984,1983,1982,1981]
[]
[]
["Altersstufen","Elite",null,"Senioren",null,null,null,null,null,null,null,null,null,null,null,null,null,"Veteranen"]
["Altersjahr",44,{"$f":"+B18+1","v":45},{"$f":"+C18+1","v":46},{"$f":"+D18+1","v":47},{"$f":"+E18+1","v":48},{"$f":"+F18+1","v":49},{"$f":"+G18+1","v":50},51,52,53,54,55,56,57,58,59,60,61]
["Jahrgang",{"$f":"+$B$4-B18","v":1980},1979,1978,1977,1976,1975,1974,1973,1972,1971,1970,1969,1968,1967,1966,1965,1964,1963]
[]
[]
["Altersstufen","Veteranen",null,null,null,null,null,null,null,"Seniorveteranen"]
["Altersjahr",62,{"$f":"+B23+1","v":63},{"$f":"+C23+1","v":64},65,66,67,68,69,70,71,72,73,74,75,76,77,78,79]
["Jahrgang",{"$f":"+$B$4-B23","v":1962},1961,1960,1959,1958,1957,1956,1955,1954,1953,1952,1951,1950,1949,1948,1947,1946,1945]
[]
["Bei Kalenderjahr übergreifenden Wettkämpfen ist das am Ende des Wettkampfes erreichte Altersjahr massgebend."]
[]
["Lors de concours se déroulant sur deux années calendrier, \nc’est l’âge atteint dans l’année au courant de laquelle le concours prend fin qui compte."]
[]
["Luzern, 20.12.2019 / P. Lüthy"]